BEGIN:VCALENDAR
VERSION:2.0
PRODID:-//ArtsEquator - ECPv5.16.3.1//NONSGML v1.0//EN
CALSCALE:GREGORIAN
METHOD:PUBLISH
X-ORIGINAL-URL:https://artsequator.com
X-WR-CALDESC:Events for ArtsEquator
REFRESH-INTERVAL;VALUE=DURATION:PT1H
X-Robots-Tag:noindex
X-PUBLISHED-TTL:PT1H
BEGIN:VTIMEZONE
TZID:Asia/Shanghai
BEGIN:STANDARD
TZOFFSETFROM:+0800
TZOFFSETTO:+0800
TZNAME:CST
DTSTART:20220101T000000
END:STANDARD
END:VTIMEZONE
BEGIN:VEVENT
DTSTART;TZID=Asia/Shanghai:20230117T090000
DTEND;TZID=Asia/Shanghai:20230331T180000
DTSTAMP:20260424T230226
CREATED:20230116T031545Z
LAST-MODIFIED:20230117T014901Z
UID:89101-1673946000-1680285600@artsequator.com
SUMMARY:Flawlessly Imperfect 百卉含英
DESCRIPTION:Like a phoenix rising from the ashes\, eight artists with disabilities bounce back stronger after a forced hiatus from the pandemic. With renewed vigour\, they welcome Spring and its abundance with a Chinese Ink exhibition titled Flawlessly Imperfect. From dynamic calligraphy characters that dance off the pages\, to landscapes & animals that are the living symbols of harmony in our universe\, the 39 paintings on display highlight the resilience and patience one cultivates whilst holding brush & ink. This exhibition\, with the support of Maybank\, features the contemporary and traditional works of artists with disabilities: \n\nChuan Yew Eng\nLee Mun Choong\nRaymond Tan\nTan Kok Leong\nTay Bee Lian\nTeresa Tan\nToh Ah Wat\nWesley Seah\n\nTo view the exhibition in person\, please book a viewing by emailing sales@artdis.org.sg
URL:https://artsequator.com/event/flawlessly-imperfect-%e7%99%be%e5%8d%89%e5%90%ab%e8%8b%b1/
LOCATION:The Gallery @ART:DIS\, 5 Changi Business Park Central 1 #03-01 Changi City Point\, Singapore 486038\, Singapore\, 486038
CATEGORIES:Visual Arts (Events)
ATTACH;FMTTYPE=image/jpeg:https://artsequator.s3.ap-southeast-1.amazonaws.com/2023/01/Event_Banner_FlawlessImperfect_1400pixelwidth.jpg
ORGANIZER;CN="ART%3ADIS":MAILTO:suzanna@artdis.org.sg
GEO:1.3340451;103.9649501
X-APPLE-STRUCTURED-LOCATION;VALUE=URI;X-ADDRESS=The Gallery @ART:DIS 5 Changi Business Park Central 1 #03-01 Changi City Point Singapore 486038 Singapore 486038;X-APPLE-RADIUS=500;X-TITLE=5 Changi Business Park Central 1 #03-01 Changi City Point\, Singapore 486038:geo:103.9649501,1.3340451
END:VEVENT
BEGIN:VEVENT
DTSTART;TZID=Asia/Shanghai:20220804T100000
DTEND;TZID=Asia/Shanghai:20221031T190000
DTSTAMP:20260424T230226
CREATED:20220728T061144Z
LAST-MODIFIED:20220728T061144Z
UID:83936-1659607200-1667242800@artsequator.com
SUMMARY:Unseen Singapore – Our Past\, Present and Future
DESCRIPTION:16 artists with disabilities from ARTDIS (Singapore) Ltd\, formerly known as Very Special Arts\, pay tribute to the nation in an exhibition titled Unseen Singapore. From 4 August – 31 October 2022\, and with the kind support of Maybank Singapore\, 44 paintings will be on display at The Gallery @ ART:DIS to celebrate Singapore’s 57th year of independence. \nSince that momentous milestone in 1965\, the nation’s history has seen many peaks and troughs\, and her citizens bear witness to it all with great pride. Through three thematic sections – Past\, Present\, Future – artists from ART:DIS demonstrate their nostalgia\, appreciation and hope for Singapore. \nIn Past\, scenes of bygone eras remind us how far the little red dot has progressed. Forgotten culture\, unbeknownst to the millennial generation such as dining curb-side and playing in nature\, are thus passed down memories from old to young and filled with wistful affection. \nIn Present\, hallmarks of the island state take centre stage. From embracing multi-culturalism to successful public housing projects and our nickname as Garden City\, these landscapes illustrate the achievements of the nation in a short period of time. \nIn Future\, icons of the cosmopolitan city such as magnificent skylines and abundant greenery reveal the country’s ambition. With an ardent belief that the nation will surely soar to even greater heights\, these paintings encompass well-wishes for Singapore’s journey \nahead. \nAcross a variety of mediums such as traditional watercolours oils\, to modern renderings in acrylics\, Chinese Ink and even photography\, Unseen Singapore promises to be a great conversation starter as we swap stories about this country we call home.
URL:https://artsequator.com/event/unseen-singapore-our-past-present-and-future/
LOCATION:The Gallery @ART:DIS\, 5 Changi Business Park Central 1 #03-01 Changi City Point\, Singapore 486038\, Singapore\, 486038
CATEGORIES:Visual Arts (Events)
ATTACH;FMTTYPE=image/jpeg:https://artsequator.s3.ap-southeast-1.amazonaws.com/2022/07/FA_UnseenSG_Banner_1920-x-1080.jpg
ORGANIZER;CN="ART%3ADIS":MAILTO:suzanna@artdis.org.sg
GEO:1.3340451;103.9649501
X-APPLE-STRUCTURED-LOCATION;VALUE=URI;X-ADDRESS=The Gallery @ART:DIS 5 Changi Business Park Central 1 #03-01 Changi City Point Singapore 486038 Singapore 486038;X-APPLE-RADIUS=500;X-TITLE=5 Changi Business Park Central 1 #03-01 Changi City Point\, Singapore 486038:geo:103.9649501,1.3340451
END:VEVENT
END:VCALENDAR