BEGIN:VCALENDAR
VERSION:2.0
PRODID:-//ArtsEquator - ECPv5.16.3.1//NONSGML v1.0//EN
CALSCALE:GREGORIAN
METHOD:PUBLISH
X-WR-CALNAME:ArtsEquator
X-ORIGINAL-URL:https://artsequator.com
X-WR-CALDESC:Events for ArtsEquator
REFRESH-INTERVAL;VALUE=DURATION:PT1H
X-Robots-Tag:noindex
X-PUBLISHED-TTL:PT1H
BEGIN:VTIMEZONE
TZID:Asia/Shanghai
BEGIN:STANDARD
TZOFFSETFROM:+0800
TZOFFSETTO:+0800
TZNAME:CST
DTSTART:20230101T000000
END:STANDARD
END:VTIMEZONE
BEGIN:VEVENT
DTSTART;TZID=Asia/Shanghai:20230831T120000
DTEND;TZID=Asia/Shanghai:20230902T130000
DTSTAMP:20260423T213508
CREATED:20230828T150822Z
LAST-MODIFIED:20230828T150822Z
UID:91689-1693483200-1693659600@artsequator.com
SUMMARY:The Red Pencil (Singapore)’s FREE Art Therapy Lunchtime Talks
DESCRIPTION:Introducing The Red Pencil (Singapore)’s Art Therapy Lunchtime Talks\, held in partnership with Golden Compass School as part of the 13th SCCCE President Challenge Charity Art Festival. \n  \nThese captivating talks bring together the worlds of art therapy & health awareness and we would love for you to be a part of it! \nDates: 31 August 2023 (Thursday) & 2 September 2023 (Saturday)\nTime: 12:00 PM – 1:00 PM\nVenue: Suntec City Tower 1 Atrium\nAdmission: FREE for All \n  \nDrop by and discover how art therapy can be a soothing remedy for stress relief. In today’s fast-paced\, technology-driven world\, mindfulness is a crucial skill to cultivate. These talks will shed light on how art therapy can be seamlessly integrated into your daily routines. \nTalk 1. Art Therapy as a Stress-Buster\n\nDate: 31 August 2023 (Thursday)\nTime: 12:00 PM\nSpeaker: Art Therapist Yoko Choi\nTopic: Discover how art therapy can serve as a powerful tool to combat stress and prevent burnout at work \nTalk 2. Art Therapy & Mindfulness – Staying Happy in an Increasingly Complex World\n\nDate: 2 September 2023 (Saturday)\nTime: 12:00 PM\nSpeaker: Art Therapist Calvin Pang\nTopic: Explore the deep connection between art therapy and mindfulness \nReserve your seat today for these talks! Pre-register by clicking on the Google Forms link.
URL:https://artsequator.com/event/the-red-pencil-singapores-free-art-therapy-lunchtime-talks/
LOCATION:Suntec City Tower 1 Atrium\, Singapore
CATEGORIES:Visual Arts (Events),Workshop & Talks (Events)
ATTACH;FMTTYPE=image/png:https://artsequator.s3.ap-southeast-1.amazonaws.com/2023/08/RPS-GC-Lunchtime-Talks-Event-Poster.png
ORGANIZER;CN="The%20Red%20Pencil%20%28Singapore%29":MAILTO:programme@redpencil.org
GEO:1.352083;103.819836
END:VEVENT
END:VCALENDAR