BEGIN:VCALENDAR
VERSION:2.0
PRODID:-//ArtsEquator - ECPv5.16.3.1//NONSGML v1.0//EN
CALSCALE:GREGORIAN
METHOD:PUBLISH
X-WR-CALNAME:ArtsEquator
X-ORIGINAL-URL:https://artsequator.com
X-WR-CALDESC:Events for ArtsEquator
REFRESH-INTERVAL;VALUE=DURATION:PT1H
X-Robots-Tag:noindex
X-PUBLISHED-TTL:PT1H
BEGIN:VTIMEZONE
TZID:Asia/Shanghai
BEGIN:STANDARD
TZOFFSETFROM:+0800
TZOFFSETTO:+0800
TZNAME:CST
DTSTART:20230101T000000
END:STANDARD
END:VTIMEZONE
BEGIN:VEVENT
DTSTART;TZID=Asia/Shanghai:20230825T203000
DTEND;TZID=Asia/Shanghai:20230826T203000
DTSTAMP:20260424T034712
CREATED:20230803T112610Z
LAST-MODIFIED:20230803T112610Z
UID:91338-1692995400-1693081800@artsequator.com
SUMMARY:DONDANG DONGENG
DESCRIPTION:Step into a world of enchantment and wonder as we invite you to experience an extraordinary retelling of Malaysian folklore in songs\, specially curated for children of all ages. Delve into the rich tapestry of our cultural heritage and embark on an unforgettable adventure that will ignite imaginations and foster a love for our vibrant folklore. \nThe origins of Dondang Dongeng began with a simple question; Do Malaysians\, especially kids\, still know of our local folklores? While many of us grew up listening to the tales and songs of Disney\, dreaming to be part of that world\, did we still remember to find our way home and remember our own stories. \nDondang Dongeng is a quest in sharing the stories of treasured Malaysian folklore like the smart and mischievous Sang Kancil and legends of beautiful local princesses complete with important morals to take away\, as we pass down these narratives\, but in our own way. In songs and tunes\, in celebration of our traditions. Of who we are\, our past\, our present and our future.  \nHelmed by a team of esteemed creatives such as Irena Taib\, composer and member of The Impatient Sisters; Mia Palencia\, renowned singer and songwriter; Melina William\, musician and producer and other local talents that are highly sought-after in the music scene\, Dondang Dongeng is craftily weaved into a dreamscape\, filled with stories less remembered but hopefully not long forgotten. Stories as old as time\, presented in the form of songs with a modern twist. \nLet the songs awaken these folklores again. And let’s journey into this dreamscape together! If we continue to tell these stories\, we might realise that we all share common narratives and that will lead us to the way home. 
URL:https://artsequator.com/event/dondang-dongeng/
LOCATION:Stage 1\, PJPAC\, 1 Utama E\, PJPAC\, 1\, Lebuh Bandar Utama\, Bandar Utama\, Petaling Jaya\, Selangor\, 47800\, Malaysia
CATEGORIES:Children/Family (Events),Music (Events)
ATTACH;FMTTYPE=image/jpeg:https://artsequator.s3.ap-southeast-1.amazonaws.com/2023/07/Poster-Dondang-Dongeng.jpg
GEO:3.147911;101.6159551
X-APPLE-STRUCTURED-LOCATION;VALUE=URI;X-ADDRESS=Stage 1 PJPAC 1 Utama E PJPAC 1 Lebuh Bandar Utama Bandar Utama Petaling Jaya Selangor 47800 Malaysia;X-APPLE-RADIUS=500;X-TITLE=PJPAC\, 1\, Lebuh Bandar Utama\, Bandar Utama:geo:101.6159551,3.147911
END:VEVENT
END:VCALENDAR