BEGIN:VCALENDAR
VERSION:2.0
PRODID:-//ArtsEquator - ECPv5.16.3.1//NONSGML v1.0//EN
CALSCALE:GREGORIAN
METHOD:PUBLISH
X-WR-CALNAME:ArtsEquator
X-ORIGINAL-URL:https://artsequator.com
X-WR-CALDESC:Events for ArtsEquator
REFRESH-INTERVAL;VALUE=DURATION:PT1H
X-Robots-Tag:noindex
X-PUBLISHED-TTL:PT1H
BEGIN:VTIMEZONE
TZID:Asia/Shanghai
BEGIN:STANDARD
TZOFFSETFROM:+0800
TZOFFSETTO:+0800
TZNAME:CST
DTSTART:20250101T000000
END:STANDARD
END:VTIMEZONE
BEGIN:VEVENT
DTSTART;TZID=Asia/Shanghai:20250413T120000
DTEND;TZID=Asia/Shanghai:20250415T200000
DTSTAMP:20260420T025655
CREATED:20250407T043933Z
LAST-MODIFIED:20250407T043933Z
UID:96694-1744545600-1744747200@artsequator.com
SUMMARY:an arrangement of/for random words by jo+kapi
DESCRIPTION:SMU Libraries is pleased to present an arrangement of/for random words\, a solo exhibition by jo+kapi. The exhibition concludes their artist residency with SMU Libraries\, during which they furthered their research and artistic collaboration with machine intelligences. \nIn the age of predictive text and machine-generated fluency\, language is beginning to feel unstable. Scraped\, clustered\, tokenized\, and recombined at scale\, words are no longer chosen so much as they are predicted. Meaning starts to feel hollow\, and uncertainty creeps in. an arrangement of/for random words explores this shifting terrain\, where language resists being fixed and meaning becomes increasingly difficult to hold onto. \nAt the heart of the exhibition is Enzyme 2.0\, a screen-based installation that digests a manifesto word by word\, revealing how semiotic structure can be erased\, rewritten\, or momentarily glimpsed before they disappear again. \njo+kapi is a creative collaboration between media artists and creative technologists Jo Ho and Kapilan Naidu. Founded in 2021\, the Singapore-based collective creates and curates interactive experiences and media art exhibitions centred around the duo’s shared interests in generative art\, artificial intelligence and the transforming modes of creating and consuming digital art in the 21st century.
URL:https://artsequator.com/event/an-arrangement-of-for-random-words-by-jokapi/2025-04-13/
LOCATION:SMU de Suantio Gallery\, 90 Stamford Rd\, 178903\, Singapore
CATEGORIES:Visual Arts (Events)
ATTACH;FMTTYPE=image/jpeg:https://artsequator.s3.ap-southeast-1.amazonaws.com/2025/04/web-thumbnail_arts-equator.jpg
ORGANIZER;CN="SMU%20Libraries":MAILTO:artcollection@smu.edu.sg
GEO:1.2979327;103.8489191
X-APPLE-STRUCTURED-LOCATION;VALUE=URI;X-ADDRESS=SMU de Suantio Gallery 90 Stamford Rd 178903 Singapore;X-APPLE-RADIUS=500;X-TITLE=90 Stamford Rd:geo:103.8489191,1.2979327
END:VEVENT
END:VCALENDAR