BEGIN:VCALENDAR
VERSION:2.0
PRODID:-//ArtsEquator - ECPv5.16.3.1//NONSGML v1.0//EN
CALSCALE:GREGORIAN
METHOD:PUBLISH
X-WR-CALNAME:ArtsEquator
X-ORIGINAL-URL:https://artsequator.com
X-WR-CALDESC:Events for ArtsEquator
REFRESH-INTERVAL;VALUE=DURATION:PT1H
X-Robots-Tag:noindex
X-PUBLISHED-TTL:PT1H
BEGIN:VTIMEZONE
TZID:Asia/Shanghai
BEGIN:STANDARD
TZOFFSETFROM:+0800
TZOFFSETTO:+0800
TZNAME:CST
DTSTART:20220101T000000
END:STANDARD
END:VTIMEZONE
BEGIN:VEVENT
DTSTART;TZID=Asia/Shanghai:20250301T180000
DTEND;TZID=Asia/Shanghai:20250301T190000
DTSTAMP:20260423T132324
CREATED:20250227T035755Z
LAST-MODIFIED:20250227T035755Z
UID:96390-1740852000-1740855600@artsequator.com
SUMMARY:Arts@SBG: NAC-ExxonMobil Concert in the Gardens presents Budak Pantai
DESCRIPTION:Let homegrown a cappella mavericks Budak Pantai take you on a musical joyride filled with smooth harmonies\, cheeky twists\, and songs you know and love—some given a fresh (and possibly irreverent) spin. From soulful ballads to bopping tunes\, expect an evening where anything can happen\, and probably will. \nSo spread out your picnic mats\, warm up your vocal cords\, and get ready to laugh\, sing\, and maybe even join in the fun—because with Budak Pantai\, the music isn’t just on stage\, it’s everywhere.
URL:https://artsequator.com/event/artssbg-nac-exxonmobil-concert-in-the-gardens-presents-budak-pantai/
LOCATION:Singapore Botanic Gardens\, 1 Cluny Road\, Singapore 259569\, Singapore\, 259569\, Singapore
CATEGORIES:Music (Events)
ATTACH;FMTTYPE=image/png:https://artsequator.s3.ap-southeast-1.amazonaws.com/2025/02/Budak-2-1920px-x-1080px-TV.png
ORGANIZER;CN="Singapore%20Botanic%20Gardens":MAILTO:nparks_sbg_events@nparks.gov.sg
GEO:1.3151016;103.8161925
X-APPLE-STRUCTURED-LOCATION;VALUE=URI;X-ADDRESS=Singapore Botanic Gardens 1 Cluny Road Singapore 259569 Singapore 259569 Singapore;X-APPLE-RADIUS=500;X-TITLE=1 Cluny Road\, Singapore 259569:geo:103.8161925,1.3151016
END:VEVENT
BEGIN:VEVENT
DTSTART;TZID=Asia/Shanghai:20250208T180000
DTEND;TZID=Asia/Shanghai:20250208T190000
DTSTAMP:20260423T132324
CREATED:20250207T143708Z
LAST-MODIFIED:20250207T143708Z
UID:96147-1739037600-1739041200@artsequator.com
SUMMARY:Arts@SBG: NAC-ExxonMobil Concert in the Gardens presents The Straits Ensemble
DESCRIPTION:Ring in the Year of the Snake SSSingapore ssstyle with the multicultural sounds of The Straits Ensemble. Put a spring in your step with their repertoire of familiar Lunar New Year favourites\, local folk tunes\, and the band’s originals like 喜洋洋\, 金蛇狂舞\, Ten Thousand Flowers in Spring\, and more. Enjoy uplifting rhythms and dynamic arrangements that capture the heart of Singapore’s diverse musical landscape\, and let the harmonious sounds usher in joy\, prosperity and togetherness.
URL:https://artsequator.com/event/artssbg-nac-exxonmobil-concert-in-the-gardens-presents-the-straits-ensemble/
LOCATION:Singapore Botanic Gardens\, 1 Cluny Road\, Singapore 259569\, Singapore\, 259569\, Singapore
CATEGORIES:Music (Events)
ATTACH;FMTTYPE=image/jpeg:https://artsequator.s3.ap-southeast-1.amazonaws.com/2025/02/CIG3-Straits-Ensemble-2025-1920px-x-1080px-TV.jpg
ORGANIZER;CN="Singapore%20Botanic%20Gardens":MAILTO:nparks_sbg_events@nparks.gov.sg
GEO:1.3151016;103.8161925
X-APPLE-STRUCTURED-LOCATION;VALUE=URI;X-ADDRESS=Singapore Botanic Gardens 1 Cluny Road Singapore 259569 Singapore 259569 Singapore;X-APPLE-RADIUS=500;X-TITLE=1 Cluny Road\, Singapore 259569:geo:103.8161925,1.3151016
END:VEVENT
BEGIN:VEVENT
DTSTART;TZID=Asia/Shanghai:20241012T180000
DTEND;TZID=Asia/Shanghai:20241012T190000
DTSTAMP:20260423T132324
CREATED:20240909T110819Z
LAST-MODIFIED:20240909T110819Z
UID:95299-1728756000-1728759600@artsequator.com
SUMMARY:Arts@SBG: NAC-ExxonMobil Concert in the Gardens presents Horns Are Unique! featuring Richard Jackson
DESCRIPTION:Horns Are Unique! captures the essence of jazz with soulful interpretations\, blending classic melodies with innovative improvisations. Each performance is a journey through the rich history of jazz\, infused with their unique horn-centric style. Whether you’re a lifelong jazz aficionado or a newcomer to the genre\, Horns are Unique! promises to captivate and inspire with every note. Join them and rediscover the timeless allure of jazz\, where the horns truly make the magic happen!
URL:https://artsequator.com/event/artssbg-nac-exxonmobil-concert-in-the-gardens-presents-horns-are-unique-featuring-richard-jackson/
LOCATION:Singapore Botanic Gardens\, 1 Cluny Road\, Singapore 259569\, Singapore\, 259569\, Singapore
CATEGORIES:Music (Events)
ATTACH;FMTTYPE=image/png:https://artsequator.s3.ap-southeast-1.amazonaws.com/2024/08/CIG2-Horns-Are-Unique-2024-1920px-x-1080px-TV.png
ORGANIZER;CN="Singapore%20Botanic%20Gardens":MAILTO:nparks_sbg_events@nparks.gov.sg
GEO:1.3151016;103.8161925
X-APPLE-STRUCTURED-LOCATION;VALUE=URI;X-ADDRESS=Singapore Botanic Gardens 1 Cluny Road Singapore 259569 Singapore 259569 Singapore;X-APPLE-RADIUS=500;X-TITLE=1 Cluny Road\, Singapore 259569:geo:103.8161925,1.3151016
END:VEVENT
BEGIN:VEVENT
DTSTART;TZID=Asia/Shanghai:20240914T180000
DTEND;TZID=Asia/Shanghai:20240914T190000
DTSTAMP:20260423T132324
CREATED:20240909T110849Z
LAST-MODIFIED:20240909T110849Z
UID:95297-1726336800-1726340400@artsequator.com
SUMMARY:Arts@SBG: NAC-ExxonMobil Concert in the Gardens presents Lorong Boys featuring Genevieve Seah
DESCRIPTION:Let homegrown star Genevieve Seah and the Lorong Boys serenade you into a soft sunset with evergreen songs and bopping tunes from the recent past — so spread out your picnic mats\, bring your dancing shoes and you are all set for a classy evening in the Singapore Botanic Gardens!
URL:https://artsequator.com/event/artssbg-nac-exxonmobil-concert-in-the-gardens-presents-lorong-boys-featuring-genevieve-seah/
LOCATION:Singapore Botanic Gardens\, 1 Cluny Road\, Singapore 259569\, Singapore\, 259569\, Singapore
CATEGORIES:Music (Events)
ATTACH;FMTTYPE=image/png:https://artsequator.s3.ap-southeast-1.amazonaws.com/2024/08/CIG1-Lorong-Boys-2024-1920px-x-1080px-TV.png
ORGANIZER;CN="Singapore%20Botanic%20Gardens":MAILTO:nparks_sbg_events@nparks.gov.sg
GEO:1.3151016;103.8161925
X-APPLE-STRUCTURED-LOCATION;VALUE=URI;X-ADDRESS=Singapore Botanic Gardens 1 Cluny Road Singapore 259569 Singapore 259569 Singapore;X-APPLE-RADIUS=500;X-TITLE=1 Cluny Road\, Singapore 259569:geo:103.8161925,1.3151016
END:VEVENT
BEGIN:VEVENT
DTSTART;TZID=Asia/Shanghai:20240224T180000
DTEND;TZID=Asia/Shanghai:20240224T190000
DTSTAMP:20260423T132324
CREATED:20240130T073819Z
LAST-MODIFIED:20240130T073819Z
UID:93455-1708797600-1708801200@artsequator.com
SUMMARY:Arts@SBG: NAC-ExxonMobil Concert in the Gardens presents Hear You Later
DESCRIPTION:Join local orchestra Hear You Later for an enchanting evening of music at the Arts@SBG: NAC-ExxonMobil Concert in the Gardens. The orchestra will perform classic tunes like 花好月圆 (Blissful Harmony) and 夜来香 (Evening Jasmine)\, as well as Chinese New Year favourites including 新年歌儿大家唱 (New Year Song) and 青春舞曲 (Song of Youth).
URL:https://artsequator.com/event/artssbg-nac-exxonmobil-concert-in-the-gardens-presents-hear-you-later/
LOCATION:Singapore Botanic Gardens\, 1 Cluny Road\, Singapore 259569\, Singapore\, 259569\, Singapore
CATEGORIES:Children/Family (Events),Music (Events)
ATTACH;FMTTYPE=image/jpeg:https://artsequator.s3.ap-southeast-1.amazonaws.com/2024/01/CIG3-Hear-You-Later-2024-1920-x-1080-TV.jpg
ORGANIZER;CN="Singapore%20Botanic%20Gardens":MAILTO:nparks_sbg_events@nparks.gov.sg
GEO:1.3151016;103.8161925
X-APPLE-STRUCTURED-LOCATION;VALUE=URI;X-ADDRESS=Singapore Botanic Gardens 1 Cluny Road Singapore 259569 Singapore 259569 Singapore;X-APPLE-RADIUS=500;X-TITLE=1 Cluny Road\, Singapore 259569:geo:103.8161925,1.3151016
END:VEVENT
BEGIN:VEVENT
DTSTART;TZID=Asia/Shanghai:20231008T180000
DTEND;TZID=Asia/Shanghai:20231008T190000
DTSTAMP:20260423T132324
CREATED:20230926T102918Z
LAST-MODIFIED:20230926T102918Z
UID:92409-1696788000-1696791600@artsequator.com
SUMMARY:Arts@SBG: Concert in the Gardens presents Thomson Swing Band and Thomson Big Band
DESCRIPTION:The Arts@SBG: Concert in the Gardens series presents Thomson Swing Band and Thomson Big Band! \nHaving entertained audiences in Singapore\, Southeast Asia\, India\, and Australia for thirty years\, Thomson Jazz Club’s two big bands\, Thomson Big Band and Thomson Swing Band will be back to delight the crowd at the Singapore Botanic Gardens after a 3-year hiatus. \nThomson Swing Band will dazzle with their jazz rendition of classic songs like It Had To Be You and When I Fall In Love. Thomson Big Band\, the Club’s flagship band\, will showcase a selection from their recent performance at the 2023 Thailand International Jazz Conference in Bangkok. The tunes range from the 1940s right up to the present day\, spanning 80 years of jazz compositions and showcasing a wide range of big band styles. \nThis concert is part of the Arts@SBG: NAC-ExxonMobil Concert in the Gardens series. Singapore Botanic Gardens is a part of the National Arts Council’s Arts and Culture Nodes Network.
URL:https://artsequator.com/event/artssbg-concert-in-the-gardens-presents-thomson-swing-band-and-thomson-big-band/
LOCATION:Singapore Botanic Gardens\, 1 Cluny Road\, Singapore 259569\, Singapore\, 259569\, Singapore
CATEGORIES:Children/Family (Events),Music (Events)
ORGANIZER;CN="Singapore%20Botanic%20Gardens":MAILTO:nparks_sbg_events@nparks.gov.sg
GEO:1.3151016;103.8161925
X-APPLE-STRUCTURED-LOCATION;VALUE=URI;X-ADDRESS=Singapore Botanic Gardens 1 Cluny Road Singapore 259569 Singapore 259569 Singapore;X-APPLE-RADIUS=500;X-TITLE=1 Cluny Road\, Singapore 259569:geo:103.8161925,1.3151016
END:VEVENT
BEGIN:VEVENT
DTSTART;VALUE=DATE:20220827
DTEND;VALUE=DATE:20220919
DTSTAMP:20260423T132324
CREATED:20220906T084808Z
LAST-MODIFIED:20220906T084808Z
UID:84972-1661558400-1663545599@artsequator.com
SUMMARY:Think! Contemporary Preschool Exhibition 2022 | Hello Future: Fantastic Paper Planet
DESCRIPTION:In Hello Future: Fantastic Paper Planet\, be enthralled by the creations of preschool children\, which draws inspiration from Earth\, the planet we call our home. \nThrough SAM’s signature programme\, Think! Contemporary Preschool\, the children engaged in lively discussions on contemporary art\, environmental sustainability with reference to artworks in SAM’s collection and exhibition. The children embarked on a journey to explore paper and its infinite possibilities as they cut\, tore\, coiled\, crinkled\, folded and moulded the humble material to bring their ideas to life. This presentation is the third edition of the Think! Contemporary Preschool Exhibition\, showcasing selected artworks from six preschools and in venue partnership with Singapore Botanic Gardens. \nAs you walk through the lush surroundings of Singapore Botanic Gardens and encounter these artworks\, we hope that they will remind you to appreciate the environment around you and galvanise efforts towards protecting our planet for future generations.
URL:https://artsequator.com/event/think-contemporary-preschool-exhibition-2022-hello-future-fantastic-paper-planet/
LOCATION:Singapore Botanic Gardens\, 1 Cluny Road\, Singapore 259569\, Singapore\, 259569\, Singapore
ORGANIZER;CN="Singapore%20Art%20Museum":MAILTO:enquiries@singaporeartmuseum.sg
GEO:1.3151016;103.8161925
X-APPLE-STRUCTURED-LOCATION;VALUE=URI;X-ADDRESS=Singapore Botanic Gardens 1 Cluny Road Singapore 259569 Singapore 259569 Singapore;X-APPLE-RADIUS=500;X-TITLE=1 Cluny Road\, Singapore 259569:geo:103.8161925,1.3151016
END:VEVENT
BEGIN:VEVENT
DTSTART;VALUE=DATE:20220827
DTEND;VALUE=DATE:20220919
DTSTAMP:20260423T132324
CREATED:20220906T084805Z
LAST-MODIFIED:20220906T084805Z
UID:84973-1661558400-1663545599@artsequator.com
SUMMARY:Hello Future: Fantastic Paper Planet
DESCRIPTION:In Hello Future: Fantastic Paper Planet\, be enthralled by the creations of preschool children\, which draws inspiration from Earth\, the planet we call our home. \nThrough SAM’s signature programme\, Think! Contemporary Preschool\, the children engaged in lively discussions on contemporary art\, environmental sustainability with reference to artworks in SAM’s collection and exhibition. The children embarked on a journey to explore paper and its infinite possibilities as they cut\, tore\, coiled\, crinkled\, folded and moulded the humble material to bring their ideas to life. This presentation is the third edition of the Think! Contemporary Preschool Exhibition\, showcasing selected artworks from six preschools and in venue partnership with Singapore Botanic Gardens. \nAs you walk through the lush surroundings of Singapore Botanic Gardens and encounter these artworks\, we hope that they will remind you to appreciate the environment around you and galvanise efforts towards protecting our planet for future generations.
URL:https://artsequator.com/event/hello-future-fantastic-paper-planet/
LOCATION:Singapore Botanic Gardens\, 1 Cluny Road\, Singapore 259569\, Singapore\, 259569\, Singapore
ORGANIZER;CN="Singapore%20Art%20Museum":MAILTO:enquiries@singaporeartmuseum.sg
GEO:1.3151016;103.8161925
X-APPLE-STRUCTURED-LOCATION;VALUE=URI;X-ADDRESS=Singapore Botanic Gardens 1 Cluny Road Singapore 259569 Singapore 259569 Singapore;X-APPLE-RADIUS=500;X-TITLE=1 Cluny Road\, Singapore 259569:geo:103.8161925,1.3151016
END:VEVENT
END:VCALENDAR