BEGIN:VCALENDAR
VERSION:2.0
PRODID:-//ArtsEquator - ECPv5.16.3.1//NONSGML v1.0//EN
CALSCALE:GREGORIAN
METHOD:PUBLISH
X-ORIGINAL-URL:https://artsequator.com
X-WR-CALDESC:Events for ArtsEquator
REFRESH-INTERVAL;VALUE=DURATION:PT1H
X-Robots-Tag:noindex
X-PUBLISHED-TTL:PT1H
BEGIN:VTIMEZONE
TZID:Asia/Shanghai
BEGIN:STANDARD
TZOFFSETFROM:+0800
TZOFFSETTO:+0800
TZNAME:CST
DTSTART:20230101T000000
END:STANDARD
END:VTIMEZONE
BEGIN:VEVENT
DTSTART;TZID=Asia/Shanghai:20240913T193000
DTEND;TZID=Asia/Shanghai:20240913T213000
DTSTAMP:20260423T141224
CREATED:20240826T100203Z
LAST-MODIFIED:20240826T100203Z
UID:95246-1726255800-1726263000@artsequator.com
SUMMARY:An Evening of Jingju
DESCRIPTION:Intercultural Theatre Institute (ITI) invites you to an evening dedicated to the art of Jingju and a dialogue of cultures. This event will feature a demonstration of techniques and selected excerpts from Jingju works presented by ITI students\, offering an exploration of this traditional theatre form. \nHighlighting the evening is an introduction by and Q&A with Mdm Li Qiu Ping\, the distinguished Stephen Riady Master Chair in Jingju\, who returns to teach this art form at ITI for the first time in six years. \nJingju is celebrated for its intricate combination of singing\, dialogue\, acting\, and acrobatics. Recognised on the UNESCO Representative List of the Intangible Cultural Heritage of Humanity\, Jingju is one of the four Asian traditional forms that students at ITI study through nine-week intensive immersions as part of the intercultural training programme.
URL:https://artsequator.com/event/an-evening-of-jingju/
LOCATION:National Library Building\, 100 Victoria Street\, Singapore\, Singapore\, 188064\, Singapore
CATEGORIES:Theatre (Events)
ATTACH;FMTTYPE=image/jpeg:https://artsequator.s3.ap-southeast-1.amazonaws.com/2024/08/LISTING-ARTSEQUATOR-ITI-Jingju-2024.jpg
ORGANIZER;CN="Intercultural%20Theatre%20Institute":MAILTO:admin@iti.edu.sg
GEO:1.2974415;103.8541438
X-APPLE-STRUCTURED-LOCATION;VALUE=URI;X-ADDRESS=National Library Building 100 Victoria Street Singapore Singapore 188064 Singapore;X-APPLE-RADIUS=500;X-TITLE=100 Victoria Street:geo:103.8541438,1.2974415
END:VEVENT
BEGIN:VEVENT
DTSTART;TZID=Asia/Shanghai:20240202T160000
DTEND;TZID=Asia/Shanghai:20240203T220000
DTSTAMP:20260423T141224
CREATED:20240130T070156Z
LAST-MODIFIED:20240130T070156Z
UID:93471-1706889600-1706997600@artsequator.com
SUMMARY:PRESSPLAY : LASTPLAY
DESCRIPTION:About the Programme \nFive years on and PRESSPLAY returns with its headlining programme LASTPLAY\, featuring iconic acts in local\, alternative music. In this year’s iteration of LASTPLAY\, we’re bringing the gig from our public libraries\, right to you live in the centre of the Bras Basah Bugis area. Join us for an evening of soulful grooves and enigmatic rap\, and witness Singapore’s stalwarts in R&B\, shoegaze and alternative hip-hop. With ethereal vocals and dreamy distortions coupled with shapeshifting beats\, we bring to you the best in sonic iterations to wrap up PRESSPLAY. Coupled with a popup market and art installations\, this 2 day finale is not to be missed! \nAbout PRESSPLAY 2024 \nPRESSPLAY is National Library Board’s biennial arts festival\, promising a month-long tapestry of workshops\, talks and exhibition. In this edition of PRESSPLAY\, we celebrate the little improvements we make through iterations in art\, stroke by stroke\, note by note\, click by click. \nPRESSPLAY aims to make youth arts more accessible to the public and celebrate the impact of the arts on young people’s lives. In collaboration with community organisations and independent artists\, PRESSPLAY offers arts programmes for young people in public libraries throughout Singapore. \nSo what are you waiting for?\nIt’s time to PRESSPLAY.
URL:https://artsequator.com/event/pressplay-lastplay/
LOCATION:National Library Building\, 100 Victoria Street\, Singapore\, Singapore\, 188064\, Singapore
CATEGORIES:Festival (Events),Literary Events/Talks (Events),Music (Events),Visual Arts (Events),Workshop & Talks (Events)
ATTACH;FMTTYPE=image/png:https://artsequator.s3.ap-southeast-1.amazonaws.com/2024/01/PRESSPLAY-artsrepublic-2-1.png
ORGANIZER;CN="artseen":MAILTO:arts@nlb.gov.sg
GEO:1.2974415;103.8541438
X-APPLE-STRUCTURED-LOCATION;VALUE=URI;X-ADDRESS=National Library Building 100 Victoria Street Singapore Singapore 188064 Singapore;X-APPLE-RADIUS=500;X-TITLE=100 Victoria Street:geo:103.8541438,1.2974415
END:VEVENT
BEGIN:VEVENT
DTSTART;TZID=Asia/Shanghai:20230528T143000
DTEND;TZID=Asia/Shanghai:20230528T153000
DTSTAMP:20260423T141224
CREATED:20230523T031411Z
LAST-MODIFIED:20230523T031509Z
UID:90630-1685284200-1685287800@artsequator.com
SUMMARY:Joint Book Launch for Two Tails and Afterlife: The Boy Next Realm
DESCRIPTION:The Difference Engine team invites you to the joint book launch of our latest Young Adult comics: “Two Tails” and “Afterlife: The Boy Next Realm”! \nJoin us for a whirlwind adventure\, and enter the fascinating worlds of “Two Tails” and “Afterlife: The Boy Next Realm”. These stories feature heartfelt characters and interweave themes of tragedy and acceptance with journeys of self-discovery and redemption. \nThis book launch will be held as part of the Asian Festival of Children’s Content 2023. This is an in-person event with on-site book sales of “Two Tails” and “Afterlife: The Boy Next Realm” and an opportunity to get your copy signed by the creators.
URL:https://artsequator.com/event/joint-book-launch-for-two-tails-and-afterlife-the-boy-next-realm/
LOCATION:National Library Building\, 100 Victoria Street\, Singapore\, Singapore\, 188064\, Singapore
CATEGORIES:Literary Events/Talks (Events)
ATTACH;FMTTYPE=image/png:https://artsequator.s3.ap-southeast-1.amazonaws.com/2023/05/book-launch-3-1.png
GEO:1.2974415;103.8541438
X-APPLE-STRUCTURED-LOCATION;VALUE=URI;X-ADDRESS=National Library Building 100 Victoria Street Singapore Singapore 188064 Singapore;X-APPLE-RADIUS=500;X-TITLE=100 Victoria Street:geo:103.8541438,1.2974415
END:VEVENT
BEGIN:VEVENT
DTSTART;TZID=Asia/Shanghai:20230525T090000
DTEND;TZID=Asia/Shanghai:20230528T191500
DTSTAMP:20260423T141224
CREATED:20230516T072344Z
LAST-MODIFIED:20230516T072344Z
UID:90197-1685005200-1685301300@artsequator.com
SUMMARY:The Asian Festival of Children's Content
DESCRIPTION:The 14th Asian Festival of Children’s Content (AFCC) returns this year as a fully in-person event\, celebrating the theme “Play!”\n\n\n\nWith over 70 programmes featuring more than 100 writers and speakers from Singapore and around the world\, AFCC 2023 explores the different dimensions of “Play” through books\, stories and performances. Come join our panels\, workshops\, public programmes and more\, as we showcase Vietnam as our Country of Focus.
URL:https://artsequator.com/event/the-asian-festival-of-childrens-content/
LOCATION:National Library Building\, 100 Victoria Street\, Singapore\, Singapore\, 188064\, Singapore
CATEGORIES:Children/Family (Events),Festival (Events),Literary Events/Talks (Events),Workshop & Talks (Events)
ATTACH;FMTTYPE=image/jpeg:https://artsequator.s3.ap-southeast-1.amazonaws.com/2023/05/AFCC-Main-Visual.jpeg
ORGANIZER;CN="Singapore%20Book%20Council":MAILTO:info@bookcouncil.sg
GEO:1.2974415;103.8541438
X-APPLE-STRUCTURED-LOCATION;VALUE=URI;X-ADDRESS=National Library Building 100 Victoria Street Singapore Singapore 188064 Singapore;X-APPLE-RADIUS=500;X-TITLE=100 Victoria Street:geo:103.8541438,1.2974415
END:VEVENT
END:VCALENDAR