BEGIN:VCALENDAR
VERSION:2.0
PRODID:-//ArtsEquator - ECPv5.16.3.1//NONSGML v1.0//EN
CALSCALE:GREGORIAN
METHOD:PUBLISH
X-ORIGINAL-URL:https://artsequator.com
X-WR-CALDESC:Events for ArtsEquator
REFRESH-INTERVAL;VALUE=DURATION:PT1H
X-Robots-Tag:noindex
X-PUBLISHED-TTL:PT1H
BEGIN:VTIMEZONE
TZID:Asia/Shanghai
BEGIN:STANDARD
TZOFFSETFROM:+0800
TZOFFSETTO:+0800
TZNAME:CST
DTSTART:20220101T000000
END:STANDARD
END:VTIMEZONE
BEGIN:VEVENT
DTSTART;TZID=Asia/Shanghai:20241005T160000
DTEND;TZID=Asia/Shanghai:20241006T173000
DTSTAMP:20260424T020335
CREATED:20240909T105512Z
LAST-MODIFIED:20240909T105512Z
UID:95330-1728144000-1728235800@artsequator.com
SUMMARY:Sing’theatre Academy presents “Best of Broadway” starring The Showstoppers!
DESCRIPTION:Sing’theatre Academy presents “Best of Broadway” starring The Showstoppers \nTo kickstart the celebration of Sing’theatre Academy’s 10th anniversary\, “Best of Broadway\,” is a vibrant homage to the magic of musical theatre. \nDirected by TJ Taylor\, the concert will showcase a variety of songs from classic and contemporary musicals\, ensuring there is something for everyone to enjoy. \nFrom the heartfelt ballads of RENT to the high-energy numbers of GREASE\, the show will take the audience on a journey that appeals to both long-time musical theatre enthusiasts and newcomers alike. \nJoin us for a night of spectacular music and entertainment that will leave you humming your favorite show tunes long after the final curtain call! \nCast:\nThis production features our Showstoppers Graduates\, returning for a stellar performance! \nStarring: Aidil Samri / Alice Anna Ribette / Andre Tng / Bjorn Soo / Bryan Tee / Chas Arevalo / Cédric Amsellem / Danica Elisha Chan / Elisa Mustika / Erika Goh / Farah Adriana / Fauzi Aziz / Gabbie / Hoe Wei Qi / Jaslyn Chan / Jen McCarthy / Jolyne Goh / Jorja Ashley / Marcus Lim / Marian Magturo / Misha Paule Tan / Natasha Kabakova / Prinsten Sim / Rachel Linn Braberry / Sen Jia Hui / Shantel Leow / Shantel Neo / Sharon Mah / skinée / Sreya Sanyal / Sunyung Oh / Tan Jing Yi (Kennigrace) / Tasha Idnani / Tay Xue Fen / Thaveesha Thenuwara/ Thomas Wu / Timothy Yeo / Victoria Lam / Yuan-Bing Mock / Ziggy Bautista / Roderick Howie \nShowtimes:\nShow 1 & Show 2 on Sat\, 5 October – 4.00pm & 8.00pm\nShow 3 Sun 6 October – 4.00pm \nVenue:\nGateway Black Box – 3615 Jalan Bukit Merah – Singapore 159461 \nPrice:\n– Tickets $49 per ticket \nPlease be advised that the show will be free seating. \nTickets are not required for children under 4 years old including infant-in-arms\, they may share seats with their parents or accompanying adults. \n  \nNow in its 7th year\, The Showstoppers programme allows adults from all walks of life\, with a hidden passion for musicals\, to audition and take to the stage in a fully produced show. Over the past seven years\, many graduates have moved on to professional careers in theatre. \nFor those looking to immerse themselves in the best of musical theatre\, this is a must-watch production\, showcasing the exceptional talents of Sing’theatre Academy’s adult students.
URL:https://artsequator.com/event/singtheatre-academy-presents-best-of-broadway-starring-the-showstoppers/
LOCATION:Gateway Theatre BlackBox\, 3615 Jalan Bukit Merah\, Singapore 159461\, Singapore\, 159461\, Singapore
CATEGORIES:Children/Family (Events),Event of the Day,Music (Events),Other (Events),Theatre (Events)
ATTACH;FMTTYPE=image/png:https://artsequator.s3.ap-southeast-1.amazonaws.com/2024/09/Untitled-design-8.png
ORGANIZER;CN="Sing%27theatre":MAILTO:felicia@singtheatre.com
GEO:1.2840557;103.8166283
X-APPLE-STRUCTURED-LOCATION;VALUE=URI;X-ADDRESS=Gateway Theatre BlackBox 3615 Jalan Bukit Merah Singapore 159461 Singapore 159461 Singapore;X-APPLE-RADIUS=500;X-TITLE=3615 Jalan Bukit Merah\, Singapore 159461:geo:103.8166283,1.2840557
END:VEVENT
BEGIN:VEVENT
DTSTART;TZID=Asia/Shanghai:20230715T093000
DTEND;TZID=Asia/Shanghai:20230716T120000
DTSTAMP:20260424T020335
CREATED:20230628T155442Z
LAST-MODIFIED:20230628T160535Z
UID:90886-1689413400-1689508800@artsequator.com
SUMMARY:Gateway Theatre: When Sadness Comes To Call
DESCRIPTION:Synopsis  \nSadness comes to visit unexpectedly. Do not be afraid. But when you let Sadness in\, you’ll discover this strange guest is not what it seems… When Sadness Comes To Call is a theatrical performance that helps our little ones explore the emotion of sadness and the importance of accepting it. A gentle and reassuring production recommended for young audiences age 4 and up\, this production encourages dialogue between children and their grown-ups on how to deal with sadness creatively.  \nDescription: Non-verbal\, physical theatre. Recommended for ages 4 to 8  \n  \nLearning Objectives \nThis production shows young audiences that it is okay to explore all types of feelings; both good feelings and the less pleasant ones such as sadness. Most importantly\, this show teaches children to accept and deal with their feelings.  \n  \nDates & Times: 15 & 16 July 2023\, 9:30am & 11:30am \nDuration: 30 minutes performance \nCapacity (Per show): 150 Pax  \nShow Accessibility \nSuitable for the deaf and hearing impaired \nSuitable for people on the autistic spectrum \nThis is a Relaxed Performance; a calm room will be available
URL:https://artsequator.com/event/gateway-theatre-when-sadness-comes-to-call/
LOCATION:Gateway Theatre BlackBox\, 3615 Jalan Bukit Merah\, Singapore 159461\, Singapore\, 159461\, Singapore
CATEGORIES:Children/Family (Events),Theatre (Events)
ATTACH;FMTTYPE=image/png:https://artsequator.s3.ap-southeast-1.amazonaws.com/2023/06/WSCTC.png
ORGANIZER;CN="Gateway%20Theatre":MAILTO:Ervin.tan@mariewee.com
GEO:1.2840557;103.8166283
X-APPLE-STRUCTURED-LOCATION;VALUE=URI;X-ADDRESS=Gateway Theatre BlackBox 3615 Jalan Bukit Merah Singapore 159461 Singapore 159461 Singapore;X-APPLE-RADIUS=500;X-TITLE=3615 Jalan Bukit Merah\, Singapore 159461:geo:103.8166283,1.2840557
END:VEVENT
BEGIN:VEVENT
DTSTART;TZID=Asia/Shanghai:20230222T090000
DTEND;TZID=Asia/Shanghai:20230222T180000
DTSTAMP:20260424T020335
CREATED:20230130T014613Z
LAST-MODIFIED:20230130T014613Z
UID:89245-1677056400-1677088800@artsequator.com
SUMMARY:Arts & Disability Forum 2023
DESCRIPTION:The 5th edition of the Arts and Disability Forum (ADF)\, organised by ART:DIS and the National Arts Council\, brings together international and local speakers across the arts and disability sector to share their diverse experiences\, providing a space for learning and reflection on best practices in the field of disability arts and access. The theme of “Enabling Aspirations\, Diversifying Pathways” spotlights the continuum of access that supports the professional development and leadership of D/deaf\, disabled and neurodiverse persons in the arts. We will discuss access within inclusive environments and communities\, and the support of collaborative processes and professional practices facilitated with and led by persons with disabilities. \nTargeted at arts workers\, social sector/SPED professionals and community stakeholders\, participants can look forward to a full day of plenary talks on 22 February 2023 at Gateway Theatre\, and a series of public talks and experiential hands-on workshops at ARTDIS (Bukit Merah) and Singapore Art Museum throughout that week.
URL:https://artsequator.com/event/arts-disability-forum-2023/
LOCATION:Gateway Theatre BlackBox\, 3615 Jalan Bukit Merah\, Singapore 159461\, Singapore\, 159461\, Singapore
CATEGORIES:Workshop & Talks (Events)
ATTACH;FMTTYPE=image/jpeg:https://artsequator.s3.ap-southeast-1.amazonaws.com/2023/01/Event_Banner_ADF2023-copy.jpg
ORGANIZER;CN="ART%3ADIS":MAILTO:suzanna@artdis.org.sg
GEO:1.2840557;103.8166283
X-APPLE-STRUCTURED-LOCATION;VALUE=URI;X-ADDRESS=Gateway Theatre BlackBox 3615 Jalan Bukit Merah Singapore 159461 Singapore 159461 Singapore;X-APPLE-RADIUS=500;X-TITLE=3615 Jalan Bukit Merah\, Singapore 159461:geo:103.8166283,1.2840557
END:VEVENT
BEGIN:VEVENT
DTSTART;TZID=Asia/Shanghai:20220902T200000
DTEND;TZID=Asia/Shanghai:20220902T220000
DTSTAMP:20260424T020335
CREATED:20220719T062406Z
LAST-MODIFIED:20220719T062406Z
UID:83595-1662148800-1662156000@artsequator.com
SUMMARY:SURVIVING HOPE
DESCRIPTION:Surviving Hope is an original theatre play inspired by real stories exploring notions of hope and mental wellness. The Playwright\, Ivan Lim\, uses his personal experiences and theatrical know-how to juxtapose elements required to express the deepest and most intricate dilemmas faced in broken relationships. The term ‘Surviving Hope’ paints a faint optimism in overcoming our greatest fears and struggles and highlights the importance of staying committed till the very end. The play is presented in a covert narrative\, through the eyes of children and parents\, bringing out the ironies of human behaviors and conflicting mental states. \nSurviving Hope is a theatre piece scripted to shed more light on the current stigma made on mental challenges in Singapore. The project seeks to stir deeper conversations and public discourse over mental issues people face and how it should be important for everyone to see a dim of hope in every one of our own struggles. \nActors: Adi Amon Mesika\, Nini Chaiyanara\, Risa Ann Wong\, Miranda Ng\, James Lee\nPlaywright : Ivan Lim\nDirector: Shana Yap\nDramaturg & Sound: Siti Z\nTheme song composer: Rebecca Louise Burch\nProducer: Dennis Toh
URL:https://artsequator.com/event/surviving-hope/2022-09-02/
LOCATION:Gateway Theatre BlackBox\, 3615 Jalan Bukit Merah\, Singapore 159461\, Singapore\, 159461\, Singapore
CATEGORIES:Theatre (Events)
ATTACH;FMTTYPE=image/jpeg:https://artsequator.s3.ap-southeast-1.amazonaws.com/2022/07/Hope-Header-1200-x-450px-1920-%C3%97-1080-px.jpg
ORGANIZER;CN="The%20Flux%20MEDIA":MAILTO:fluxtvsg@gmail.com
GEO:1.2840557;103.8166283
X-APPLE-STRUCTURED-LOCATION;VALUE=URI;X-ADDRESS=Gateway Theatre BlackBox 3615 Jalan Bukit Merah Singapore 159461 Singapore 159461 Singapore;X-APPLE-RADIUS=500;X-TITLE=3615 Jalan Bukit Merah\, Singapore 159461:geo:103.8166283,1.2840557
END:VEVENT
END:VCALENDAR