BEGIN:VCALENDAR
VERSION:2.0
PRODID:-//ArtsEquator - ECPv5.16.3.1//NONSGML v1.0//EN
CALSCALE:GREGORIAN
METHOD:PUBLISH
X-ORIGINAL-URL:https://artsequator.com
X-WR-CALDESC:Events for ArtsEquator
REFRESH-INTERVAL;VALUE=DURATION:PT1H
X-Robots-Tag:noindex
X-PUBLISHED-TTL:PT1H
BEGIN:VTIMEZONE
TZID:Asia/Shanghai
BEGIN:STANDARD
TZOFFSETFROM:+0800
TZOFFSETTO:+0800
TZNAME:CST
DTSTART:20220101T000000
END:STANDARD
TZID:Asia/Singapore
BEGIN:STANDARD
TZOFFSETFROM:+0800
TZOFFSETTO:+0800
TZNAME:+08
DTSTART:20230101T000000
END:STANDARD
END:VTIMEZONE
BEGIN:VEVENT
DTSTART;TZID=Asia/Shanghai:20231117T173000
DTEND;TZID=Asia/Shanghai:20231203T190000
DTSTAMP:20260423T231933
CREATED:20230809T053647Z
LAST-MODIFIED:20230824T191059Z
UID:91495-1700242200-1701630000@artsequator.com
SUMMARY:Searching Blue by T.H.E Dance Company
DESCRIPTION:Moments of dissonance build up to a sense of oneness — the self re-encounters the world\, others\, and oneself. How do we perceive\, and connect to\, the wider physical world? \nA site-adaptive\, travelling work\, this November’s premiere of Searching Blue by Kuik Swee Boon and T.H.E Dance Company invites you on a journey like no other\, weaving a hopeful web of interconnectedness that ripples through the city. \nSearching Blue is presented as part of T.H.E Dance Company’s programme lineup for its 15th anniversary.
URL:https://artsequator.com/event/searching-blue-by-t-h-e-dance-company/
LOCATION:Goodman Arts Centre\, 90 Goodman Road\, Block O\, Singapore\, Singapore 439053\, Singapore
CATEGORIES:Children/Family (Events),Dance (Events)
ATTACH;FMTTYPE=image/jpeg:https://artsequator.s3.ap-southeast-1.amazonaws.com/2023/08/Searching-Blue-banner-copy.jpg
ORGANIZER;CN="T.H.E%20Dance%20Company":MAILTO:info@the-dancecompany.com 
GEO:1.30444;103.885325
X-APPLE-STRUCTURED-LOCATION;VALUE=URI;X-ADDRESS=Goodman Arts Centre 90 Goodman Road Block O Singapore Singapore 439053 Singapore;X-APPLE-RADIUS=500;X-TITLE=90 Goodman Road\, Block O:geo:103.885325,1.30444
END:VEVENT
BEGIN:VEVENT
DTSTART;TZID=Asia/Shanghai:20230915T200000
DTEND;TZID=Asia/Shanghai:20230917T163000
DTSTAMP:20260423T231933
CREATED:20230809T061800Z
LAST-MODIFIED:20230809T061800Z
UID:91493-1694808000-1694968200@artsequator.com
SUMMARY:liTHE 2023 by T.H.E Second Company
DESCRIPTION:Emerging choreographers from T.H.E’s main and second companies contemplate facets of greed\, illusion and grief in a boldly tender triple bill. \nBuilding upon last year’s choreographic curiosities\, liTHE 2023 goes closer and deeper. Fiona Thng’s tauted takes a hard look at the enmeshed issues of overpopulation and privilege; The world\, pink at its edges by Kwek Yixuan surfaces an underlying unrest amidst a rose-tinted world; Jackie Ong and Lynette Lim shed light on the aggrieved to find hope within in I’m not leaving. Tender\, brave\, pertinent: join these emerging choreographers as their explorations continue unfolding on stage. \nliTHE 2023 is presented as part of T.H.E Dance Company’s programme lineup for its 15th anniversary.
URL:https://artsequator.com/event/lithe-2023-by-t-h-e-second-company/
LOCATION:Gallery Theatre\, National Museum of Singapore
CATEGORIES:Dance (Events)
ATTACH;FMTTYPE=image/jpeg:https://artsequator.s3.ap-southeast-1.amazonaws.com/2023/08/liTHE-2023-banner-small.jpg
ORGANIZER;CN="T.H.E%20Dance%20Company":MAILTO:info@the-dancecompany.com 
END:VEVENT
BEGIN:VEVENT
DTSTART;TZID=Asia/Shanghai:20230909T200000
DTEND;TZID=Asia/Shanghai:20230909T213000
DTSTAMP:20260423T231933
CREATED:20230809T062525Z
LAST-MODIFIED:20230809T062525Z
UID:91491-1694289600-1694295000@artsequator.com
SUMMARY:Pán: Why are we here?
DESCRIPTION:From the original work of Pán《盤》(Best Performance\, Asian Arts Award\, Edinburgh Festival Fringe 2021) comes Pán: Why are we here? — a re-edit of 2021’s livestream premiere with new footage shot in everyday social spaces to bring the explorations of transculturation closer to home. What do we have on our plates\, and how do they coexist? \nInfused with Founding Artistic Director and Main Choreographer Kuik Swee Boon’s HollowBody™ methodology and Resident Choreographer Kim Jae Duk’s unrelenting dynamism\, Pán: Why are we here? is a filmic portrayal by dance-filmmaker Maurice Lai of culture\, community\, and an emergent reality. \nPán: Why are we here? is presented as part of T.H.E Dance Company’s programme lineup for its 15th anniversary. \n  \nThis programme is approximately 90 minutes long and includes a dialogue with the artists after the screening.
URL:https://artsequator.com/event/pan-why-are-we-here/
LOCATION:Gallery Theatre\, National Museum of Singapore
CATEGORIES:Dance (Events),Film Screening (Events)
ATTACH;FMTTYPE=image/jpeg:https://artsequator.s3.ap-southeast-1.amazonaws.com/2023/08/Pan-Why-are-we-here-banner-2.2MB.jpg
ORGANIZER;CN="T.H.E%20Dance%20Company":MAILTO:info@the-dancecompany.com 
END:VEVENT
BEGIN:VEVENT
DTSTART;VALUE=DATE:20230608
DTEND;VALUE=DATE:20230628
DTSTAMP:20260423T231933
CREATED:20230406T074954Z
LAST-MODIFIED:20230418T172738Z
UID:89773-1686182400-1687910399@artsequator.com
SUMMARY:cont·act Contemporary Dance Festival
DESCRIPTION:cont·act Contemporary Dance Festival returns with a riveting 13th edition that draws us back to the essence of dance: the body as instrument\, and movement as language. What worlds\, horizons\, and perspectives could the medium of dance possibly illuminate? In our present flux\, we let our bodies speak. Reflecting upon the chaos and conundrums of our times\, join our Festival artists in boldly defying labels\, redefining ourselves\, and reimagining our world through the kaleidoscopic lens of movement.
URL:https://artsequator.com/event/cont%c2%b7act-contemporary-dance-festival/
LOCATION:Held across various locations
CATEGORIES:Dance (Events),Festival (Events)
ORGANIZER;CN="T.H.E%20Dance%20Company":MAILTO:info@the-dancecompany.com 
END:VEVENT
BEGIN:VEVENT
DTSTART;TZID=Asia/Shanghai:20221202T200000
DTEND;TZID=Asia/Shanghai:20221204T163000
DTSTAMP:20260423T231933
CREATED:20221103T053159Z
LAST-MODIFIED:20221103T053159Z
UID:86955-1670011200-1670171400@artsequator.com
SUMMARY:Seeing ______ Through the Eyes of Impermanence II
DESCRIPTION:In our ever-changing world\, the desire to capture passing moments and transient experiences gives rise to questions about the nature of permanence itself. Are tangible objects and structures immune to forces of change? Could intangible forms\, beliefs and values remain lasting in their relevance? What residues are inevitably left behind in the wake of impermanence?\n\nThe Human Expression (T.H.E) Dance Company and T.H.E Second Company share the stage in Seeing ______ Through the Eyes of Impermanence II\, featuring a restaging of 2012’s Hey Man! by resident choreographer Kim Jae Duk\, and a reinterpretation of Kuik Swee Boon’s Helix (originally Helix\, in progress in 2016). In looking at the interactions of singular and collective selves\, this double bill reimagines ways of exchange\, encounter and existence\, reclaiming a contemporary resilience for the challenges of our times.
URL:https://artsequator.com/event/seeing-______-through-the-eyes-of-impermanence-ii/
LOCATION:Esplanade Theatre Studio\, 1 Esplanade Dr\, Singapore\, 038981\, Singapore
CATEGORIES:Dance (Events)
ATTACH;FMTTYPE=image/jpeg:https://artsequator.s3.ap-southeast-1.amazonaws.com/2022/11/FB-Banner.jpg
ORGANIZER;CN="T.H.E%20Dance%20Company":MAILTO:info@the-dancecompany.com 
GEO:1.289857;103.8552799
X-APPLE-STRUCTURED-LOCATION;VALUE=URI;X-ADDRESS=Esplanade Theatre Studio 1 Esplanade Dr Singapore 038981 Singapore;X-APPLE-RADIUS=500;X-TITLE=1 Esplanade Dr:geo:103.8552799,1.289857
END:VEVENT
END:VCALENDAR