BEGIN:VCALENDAR
VERSION:2.0
PRODID:-//ArtsEquator - ECPv5.16.3.1//NONSGML v1.0//EN
CALSCALE:GREGORIAN
METHOD:PUBLISH
X-ORIGINAL-URL:https://artsequator.com
X-WR-CALDESC:Events for ArtsEquator
REFRESH-INTERVAL;VALUE=DURATION:PT1H
X-Robots-Tag:noindex
X-PUBLISHED-TTL:PT1H
BEGIN:VTIMEZONE
TZID:Asia/Shanghai
BEGIN:STANDARD
TZOFFSETFROM:+0800
TZOFFSETTO:+0800
TZNAME:CST
DTSTART:20240101T000000
END:STANDARD
END:VTIMEZONE
BEGIN:VEVENT
DTSTART;TZID=Asia/Shanghai:20240301T190000
DTEND;TZID=Asia/Shanghai:20240331T210000
DTSTAMP:20260420T190957
CREATED:20240207T033232Z
LAST-MODIFIED:20240207T033232Z
UID:93423-1709319600-1711918800@artsequator.com
SUMMARY:The New York Secret by Secret Theatre
DESCRIPTION:The multi-award winning UK-based immersive theatre experience Secret Theatre is returning to Singapore this March with its highly anticipated play\, ‘The New York Secret’!  \n  \nHeld at an exclusive members-only secret location in the heart of Chinatown with an undisclosed drama plot\, this year’s performance beckons both introspective and thrill-seeking theatre enthusiasts to travel back in time to the wild secret world of 1980s New York City.  \n  \nAudiences can expect electrifying disco music and Manhattan-inspired food and drinks\, culminating in a dazzling night of unexpected surprises and spellbinding performances. \n  \nAs the world’s first and only immersive theatre experience founded and led by actor-director Richard Crawford since 2008\, Secret Theatre has traveled across more than 10 cities globally\, and was voted the ‘coolest show’ in London by GQ Magazine. This year’s ‘The New York Secret’ production was a smash hit in London and will be co-produced with American event production company DesignScene. \n  \nTickets will go on sale from 25 January 2024.
URL:https://artsequator.com/event/the-new-york-secret-by-secret-theatre/
LOCATION:A secret and luxurious spot at the heart of Chinatown\, Singapore. (The show venue will be revealed to registered participants and ticket buyers)\, Chinatown\, 089845\, Singapore
CATEGORIES:Theatre (Events)
ATTACH;FMTTYPE=image/jpeg:https://artsequator.s3.ap-southeast-1.amazonaws.com/2024/01/The-Secret-Theatre-Presents-The-New-York-Secret.jpg
ORGANIZER;CN="Secret%20Theatre":MAILTO:secret@secrettheatrelondon.com
GEO:1.279295;103.840375
END:VEVENT
END:VCALENDAR