BEGIN:VCALENDAR
VERSION:2.0
PRODID:-//ArtsEquator - ECPv5.16.3.1//NONSGML v1.0//EN
CALSCALE:GREGORIAN
METHOD:PUBLISH
X-ORIGINAL-URL:https://artsequator.com
X-WR-CALDESC:Events for ArtsEquator
REFRESH-INTERVAL;VALUE=DURATION:PT1H
X-Robots-Tag:noindex
X-PUBLISHED-TTL:PT1H
BEGIN:VTIMEZONE
TZID:Asia/Shanghai
BEGIN:STANDARD
TZOFFSETFROM:+0800
TZOFFSETTO:+0800
TZNAME:CST
DTSTART:20240101T000000
END:STANDARD
END:VTIMEZONE
BEGIN:VEVENT
DTSTART;TZID=Asia/Shanghai:20240229T150000
DTEND;TZID=Asia/Shanghai:20240229T170000
DTSTAMP:20260420T173847
CREATED:20240313T085843Z
LAST-MODIFIED:20240313T085843Z
UID:93891-1709218800-1709226000@artsequator.com
SUMMARY:Pansak Yakan: Dancing among the Yakan of Lamitan\, Basilan with Earl Francis C. Pasilan
DESCRIPTION:The Yakan\, an indigenous group of the province of Basilan in Southern Philippines\, is known for its cultural traditions as it is for its agricultural practices. This discussion with Earl Francis C. Pasilan focuses on the Yakan’s ability to engage with and adapt to changes to their physical environments\, and how these changed their acts of performance and ritual. It tracks the way in which the Yakan\, in the end\, created its own movement vocabulary\, one that speaks to categories of gender\, social status\, and purpose\, and affects aspects of performance such as music\, instruments\, and clothing\, as well as the mounting of the event itself. This talk is presented in partnership with Mindanao State University Iligan Institute of Technology Center for Culture and Arts \nThis event is free and open to the public through the museum’s Facebook page.
URL:https://artsequator.com/event/pansak-yakan-dancing-among-the-yakan-of-lamitan-basilan-with-earl-francis-c-pasilan/
LOCATION:Online
CATEGORIES:Workshop & Talks (Events)
ATTACH;FMTTYPE=image/jpeg:https://artsequator.s3.ap-southeast-1.amazonaws.com/2024/02/pansak-yakan.jpeg
END:VEVENT
END:VCALENDAR