BEGIN:VCALENDAR
VERSION:2.0
PRODID:-//ArtsEquator - ECPv5.16.3.1//NONSGML v1.0//EN
CALSCALE:GREGORIAN
METHOD:PUBLISH
X-ORIGINAL-URL:https://artsequator.com
X-WR-CALDESC:Events for ArtsEquator
REFRESH-INTERVAL;VALUE=DURATION:PT1H
X-Robots-Tag:noindex
X-PUBLISHED-TTL:PT1H
BEGIN:VTIMEZONE
TZID:Asia/Shanghai
BEGIN:STANDARD
TZOFFSETFROM:+0800
TZOFFSETTO:+0800
TZNAME:CST
DTSTART:20230101T000000
END:STANDARD
END:VTIMEZONE
BEGIN:VEVENT
DTSTART;TZID=Asia/Shanghai:20240308T120000
DTEND;TZID=Asia/Shanghai:20240308T120000
DTSTAMP:20260423T153642
CREATED:20240313T092327Z
LAST-MODIFIED:20240313T092327Z
UID:93871-1709899200-1709899200@artsequator.com
SUMMARY:Open call for M1 Singapore Fringe Festival 2025
DESCRIPTION:Want to be part of Fringe 2025 in Singapore? \nSend in your proposal by Fri 8 March! \nNo application fee is required. \nWe want to hear what artists are concerned with in the world today\, and how your artistic response is a call to arms\, a healing process\, or a road map to a different\, better future.
URL:https://artsequator.com/event/open-call-for-m1-singapore-fringe-festival-2025/
LOCATION:Various Locations island-wide & Online\, Singapore
CATEGORIES:Artist Opportunities
ATTACH;FMTTYPE=image/png:https://artsequator.s3.ap-southeast-1.amazonaws.com/2024/02/fringe-2025-2-twitter.png
ORGANIZER;CN="M1%20Singapore%20Fringe%20Festival":MAILTO:info@singaporefringe.com
GEO:1.352083;103.819836
END:VEVENT
BEGIN:VEVENT
DTSTART;TZID=Asia/Shanghai:20240125T200000
DTEND;TZID=Asia/Shanghai:20240128T163000
DTSTAMP:20260423T153642
CREATED:20231121T072803Z
LAST-MODIFIED:20231121T072845Z
UID:92802-1706212800-1706459400@artsequator.com
SUMMARY:M1 Singapore Fringe Festival presents Oo-Woo by The Necessary Stage (Singapore)
DESCRIPTION:In English and Bahasa Melayu \nAccessibility features: open captions in English for all shows \n  \nThrough tender storytelling\, Oo-woo unravels the intricate web of caring for an elderly family member with dementia. As the story unfolds\, deep secrets and hidden desires come to light\, casting doubt on the strength of familial bonds. When their cherished family bird mysteriously disappears\, a journey of unsettling discoveries begins\, challenging the characters’ understanding of duty and love. \n  \nWritten by Raimi Safari\, directed by Mohd Fared Jainal\, and starring Dalifah Shahril\, Farah Lola\, Isabella Chiam and Yazid Jalil\, Oo-woo delves into the haunting realm of dementia\, blurring the lines between reality and illusion. A single bird brings into question the sacrifices and choices we make when faced with the unknown. \n  \nOo-Woo was developed at The Necessary Stage’s Playwrights’ Cove 2022 under the mentorship of Resident Playwright Haresh Sharma. \n  \nPost-show dialogue on 25 January 2024\, with speech to text interpretation available upon request. Please email your request to info@singaporefringe.com before 15 December 2023.
URL:https://artsequator.com/event/m1-singapore-fringe-festival-presents-oo-woo-by-the-necessary-stage-singapore/
LOCATION:Esplanade Theatre Studio\, 1 Esplanade Dr\, Singapore\, 038981\, Singapore
CATEGORIES:Festival (Events),Theatre (Events)
ORGANIZER;CN="M1%20Singapore%20Fringe%20Festival":MAILTO:info@singaporefringe.com
GEO:1.289857;103.8552799
X-APPLE-STRUCTURED-LOCATION;VALUE=URI;X-ADDRESS=Esplanade Theatre Studio 1 Esplanade Dr Singapore 038981 Singapore;X-APPLE-RADIUS=500;X-TITLE=1 Esplanade Dr:geo:103.8552799,1.289857
END:VEVENT
BEGIN:VEVENT
DTSTART;TZID=Asia/Shanghai:20240120T200000
DTEND;TZID=Asia/Shanghai:20240121T160000
DTSTAMP:20260423T153642
CREATED:20231121T073832Z
LAST-MODIFIED:20231121T073832Z
UID:92800-1705780800-1705852800@artsequator.com
SUMMARY:M1 Singapore Fringe Festival presents SAME SAME by Dame de Pic/Cie Karine Ponties & Temporary Collective (Belgium & Czech Republic)
DESCRIPTION:Accessibility features: open captions in English for all shows \n  \nIn a world where reason is a nice façade\, the bursting in of non-sense makes us face our relationship with normalcy and allows us to open up to unexplored paths. Somewhere between burn out and brown out\, two women\, exposed to each other like a palindrome in a distorting mirror\, lose their direction and rekindle with their inner wild animals. \n  \nBelgian choreographer Karine Ponties\, leading Czech creative dancer Tereza Ondrová and theatre director Petra Tejnorová explore the boundaries of subtle humour\, irony and absurdity in this award-winning dance-theatre performance. Inspired by silent film actor Buster Keaton whose trademark physical comedy was heightened by his deadpan expressions\, SAME SAME moves us with their depth and sincerity despite the hilarity of the form. \n  \nSAME SAME was awarded Best Dancer of the Year and Special Mention by the Jury at the 2019 Czech Dance Platform. \n  \nPost-show dialogue on 20 January 2024\, with speech to text interpretation available upon request. Please email your request to info@singaporefringe.com before 15 December 2023.
URL:https://artsequator.com/event/m1-singapore-fringe-festival-presents-same-same-by-dame-de-pic-cie-karine-ponties-temporary-collective-belgium-czech-republic/
LOCATION:Esplanade Theatre Studio\, 1 Esplanade Dr\, Singapore\, 038981\, Singapore
CATEGORIES:Dance (Events),Festival (Events)
ATTACH;FMTTYPE=image/png:https://artsequator.s3.ap-southeast-1.amazonaws.com/2023/11/M1FF%E2%80%93LinkedIn%E2%80%93SAME-SAME.png
ORGANIZER;CN="M1%20Singapore%20Fringe%20Festival":MAILTO:info@singaporefringe.com
GEO:1.289857;103.8552799
X-APPLE-STRUCTURED-LOCATION;VALUE=URI;X-ADDRESS=Esplanade Theatre Studio 1 Esplanade Dr Singapore 038981 Singapore;X-APPLE-RADIUS=500;X-TITLE=1 Esplanade Dr:geo:103.8552799,1.289857
END:VEVENT
BEGIN:VEVENT
DTSTART;TZID=Asia/Shanghai:20240118T200000
DTEND;TZID=Asia/Shanghai:20240121T213000
DTSTAMP:20260423T153642
CREATED:20231121T072332Z
LAST-MODIFIED:20231121T072332Z
UID:92805-1705608000-1705872600@artsequator.com
SUMMARY:M1 Singapore Fringe Festival presents THOM PAIN (based on nothing) by Edith Podesta\, Yarra Ileto & Nanyang Academy of Fine Arts (Australia & Singapore)
DESCRIPTION:“Thom Pain is at bottom a surreal meditation on the empty promises life makes\, the way experience never lives up to the weird and awesome fact of being. But it is also\, in its odd\, bewitching beauty\, an affirmation of life’s worth.” \n—The New York Times \n  \nThom Pain is trying to save his life to save your life\, in that order. \nFilled with biting humour\, desire\, and lost innocence\, the Pulitzer Prize-nominated show THOM PAIN (based on nothing) is one ordinary man’s extraordinary search through the wreckage of his life. \n  \nHailed as “astonishing …a small masterpiece” by The New York Times\, this insightful\, at times surreal\, production catalogues the eternal agonies of the human condition in wit and one last-ditch plea for empathy and enlightenment. \n  \nDirected by Edith Podesta and choreographed by Yarra Ileto\, THOM PAIN (based on nothing) is performed by students from the BA (Hons) in Performance Making programme at the Nanyang Academy of Fine Arts. \n  \nPost-show dialogue on 19 January 2024\, with speech to text interpretation available upon request. Please email your request to info@singaporefringe.com before 15 December 2023.
URL:https://artsequator.com/event/m1-singapore-fringe-festival-presents-thom-pain-based-on-nothing-by-edith-podesta-yarra-ileto-nanyang-academy-of-fine-arts-australia-singapore/
LOCATION:NAFA Studio Theatre\, 151 Bencoolen Street\, 189656\, Singapore
CATEGORIES:Festival (Events),Theatre (Events)
ATTACH;FMTTYPE=image/png:https://artsequator.s3.ap-southeast-1.amazonaws.com/2023/11/M1FF%E2%80%93LinkedIn%E2%80%93THOM-PAIN.png
ORGANIZER;CN="M1%20Singapore%20Fringe%20Festival":MAILTO:info@singaporefringe.com
GEO:1.3012565;103.8517878
X-APPLE-STRUCTURED-LOCATION;VALUE=URI;X-ADDRESS=NAFA Studio Theatre 151 Bencoolen Street 189656 Singapore;X-APPLE-RADIUS=500;X-TITLE=151 Bencoolen Street:geo:103.8517878,1.3012565
END:VEVENT
BEGIN:VEVENT
DTSTART;TZID=Asia/Shanghai:20240118T200000
DTEND;TZID=Asia/Shanghai:20240120T210000
DTSTAMP:20260423T153642
CREATED:20231121T072445Z
LAST-MODIFIED:20231121T072445Z
UID:92803-1705608000-1705784400@artsequator.com
SUMMARY:M1 Singapore Fringe Festival presents Motherland by Very Shy Gurl by fendy (Singapore)
DESCRIPTION:Accessibility features: open captions in English for all shows \nIn a tight embrace above the very line that divides the land\, two unknown soldiers deeply in love and with different loyalties contemplate the inevitable as the night sky above Motherland starts to burn red. When Motherland eventually bleeds and pleads for vengeance\, how should the soldier love? \n  \nFirst presented as a work-in-progress at Headlines Act / SIFA-X 2023 Edition by Centre 42 and Singapore International Festival of Arts (SIFA)\, Motherland examines notions of love as framed between the extremes of loyalty and betrayal responding to the remembered\, forgotten\, neglected\, and celebrated violent conflicts all around the world that continue to develop\, evolve\, and erupt to this day. \n  \nPost-show dialogue on 19 January 2024\, with speech to text interpretation available upon request. Please email your request to info@singaporefringe.com before 15 December 2023. \n 
URL:https://artsequator.com/event/m1-singapore-fringe-festival-presents-motherland-by-very-shy-gurl-by-fendy-singapore/
LOCATION:The Theatre Practice\, 54 Waterloo Street\, Singapore\, 187953
CATEGORIES:Festival (Events),Theatre (Events)
ATTACH;FMTTYPE=image/png:https://artsequator.s3.ap-southeast-1.amazonaws.com/2023/11/M1FF%E2%80%93LinkedIn%E2%80%93Motherland.png
ORGANIZER;CN="M1%20Singapore%20Fringe%20Festival":MAILTO:info@singaporefringe.com
GEO:1.2986009;103.85118
X-APPLE-STRUCTURED-LOCATION;VALUE=URI;X-ADDRESS=The Theatre Practice 54 Waterloo Street Singapore 187953;X-APPLE-RADIUS=500;X-TITLE=54 Waterloo Street:geo:103.85118,1.2986009
END:VEVENT
BEGIN:VEVENT
DTSTART;TZID=Asia/Shanghai:20240117T200000
DTEND;TZID=Asia/Shanghai:20240118T210000
DTSTAMP:20260423T153642
CREATED:20231121T074943Z
LAST-MODIFIED:20231121T074943Z
UID:92798-1705521600-1705611600@artsequator.com
SUMMARY:M1 Singapore Fringe Festival presents aMoratorium by J’Sun Howard
DESCRIPTION:Accessibility features: open captions in English for all shows \n  \n“… resists essentialist notions of Black masculinity by imagining a world where Black pain… is met with Black tenderness\, care\, and community.” \n—Frenzied H(e)avens: African American Post Exilic Realities \nin J’Sun Howard’s “aMoratorium” by Brianna Alexis Heath \n  \naMoratorium was initially commissioned by the Art Institute of Chicago to respond to its retrospective of Charles Wilbert White\, a visual artist who powerfully interpreted African American history\, culture\, and lives over the course of his four-decade career. \n  \naMoratorium explores Black male identity\, visibility\, temporality\, and its absence\, and further examines death as it relates to the Black church and Black spiritual traditions. It is an intimate performance that expresses generous\, compassionate\,​and loving play between Black and Brown men in our current socio-political climate. \n  \nChoreographer J’Sun Howard and his collaborators performers Dedrick “D. Banks” Gray and Timothy “Solomon” Bowser\, and DJ Jared Brown\, have created a frank and courageous dance-theatre performance. Standing at the intersection between art\, activism\, education\, and social engagement\, aMoratorium challenges racial supremacy\, police brutality\, global anti-Blackness\, homophobia\, and xenophobia. \n  \nPost-show dialogue on 18 January 2024\, with speech to text interpretation available upon request. Please email your request to info@singaporefringe.com before 15 December 2023.
URL:https://artsequator.com/event/m1-singapore-fringe-festival-presents-amoratorium-by-jsun-howard/
LOCATION:Esplanade Theatre Studio\, 1 Esplanade Dr\, Singapore\, 038981\, Singapore
CATEGORIES:Dance (Events),Festival (Events)
ATTACH;FMTTYPE=image/png:https://artsequator.s3.ap-southeast-1.amazonaws.com/2023/11/M1FF%E2%80%93LinkedIn%E2%80%93aMoratorium.png
ORGANIZER;CN="M1%20Singapore%20Fringe%20Festival":MAILTO:info@singaporefringe.com
GEO:1.289857;103.8552799
X-APPLE-STRUCTURED-LOCATION;VALUE=URI;X-ADDRESS=Esplanade Theatre Studio 1 Esplanade Dr Singapore 038981 Singapore;X-APPLE-RADIUS=500;X-TITLE=1 Esplanade Dr:geo:103.8552799,1.289857
END:VEVENT
BEGIN:VEVENT
DTSTART;TZID=Asia/Shanghai:20230115T140000
DTEND;TZID=Asia/Shanghai:20230115T170000
DTSTAMP:20260423T153642
CREATED:20221124T045928Z
LAST-MODIFIED:20221124T045928Z
UID:87658-1673791200-1673802000@artsequator.com
SUMMARY:Foreign Bodies by Birds Migrant Theatre
DESCRIPTION:In English\, Bahasa Indonesia and Bengali with English surtitles\nAccessibility features: TBC\n60 minutes with no intermission\nAdvisory 16 (Some Mature Content and Coarse Language)\nWorld Premiere • Fringe Commission \nArif and Ani are migrant workers in Singapore. A chance encounter develops into a romantic relationship. However\, can they afford to fall in love in Singapore when they have obligations back in their home countries? Complications arise when news threatens the foundation of their relationship. \nForeign Bodies is devised by the Company and performed by an ensemble of migrant and Singapore actors. It looks at the desperate and extreme situations migrants in Singapore sometimes find themselves in. Although they are told to focus on working and making money for their families back home\, often they desire a better quality of life in Singapore. However\, not everything always goes as planned.
URL:https://artsequator.com/event/foreign-bodies-by-birds-migrant-theatre/2023-01-15/
LOCATION:Esplanade Annexe Studio\, 1 Esplanade Drive\, 038981\, Singapore
CATEGORIES:Festival (Events),Theatre (Events)
ATTACH;FMTTYPE=image/jpeg:https://artsequator.s3.ap-southeast-1.amazonaws.com/2022/11/Foreign-Bodies.jpg
ORGANIZER;CN="M1%20Singapore%20Fringe%20Festival":MAILTO:info@singaporefringe.com
GEO:1.289857;103.8552799
X-APPLE-STRUCTURED-LOCATION;VALUE=URI;X-ADDRESS=Esplanade Annexe Studio 1 Esplanade Drive 038981 Singapore;X-APPLE-RADIUS=500;X-TITLE=1 Esplanade Drive:geo:103.8552799,1.289857
END:VEVENT
BEGIN:VEVENT
DTSTART;TZID=Asia/Shanghai:20230112T200000
DTEND;TZID=Asia/Shanghai:20230112T210000
DTSTAMP:20260423T153642
CREATED:20221124T045920Z
LAST-MODIFIED:20221124T045920Z
UID:87671-1673553600-1673557200@artsequator.com
SUMMARY:Why Be Good When You Can Be the Best? by Deonn Yang
DESCRIPTION:Accessibility features: open captions in English\n60 minutes with no intermission\nRating to be advised\nWorld Premiere • Fringe Commission \nWhy Be Good When You Can Be the Best? is a satirical play that follows the journey of Tan Hui Min\, “Min”. \nMin is your average\, every day\,down-to-earth worker. She has her daily routine down pat. Min works hard\, is good at her job\, and leads a relatively simple life. She is happy and content with her current life. One day\, Min veered off from her usual routine and unexpectedly finds herself at a game show competing to be The Best Employee Ever. The experience at the game show changes Min\, and she is forced to decide between what she knows and brings her contentment and happiness\, and wanting to be the best. What does she have to give up in order to be the best? \nWritten and directed by Deonn Yang\, Why Be Good When You Can Be the Best? is performed by Chng Xin Xuan\, Mitchell Fang\, Sindhura Kalidas\, Suhaili Safari and Eve Voigtlander\, and questions our societal obsession with productivity and success. \nVenue support by Nanyang Academy of Fine Arts.
URL:https://artsequator.com/event/why-be-good-when-you-can-be-the-best-by-deonn-yang/
LOCATION:NAFA Studio Theatre\, 151 Bencoolen Street\, 189656\, Singapore
CATEGORIES:Festival (Events),Theatre (Events)
ATTACH;FMTTYPE=image/jpeg:https://artsequator.s3.ap-southeast-1.amazonaws.com/2022/11/Why-Be-Good.jpg
ORGANIZER;CN="M1%20Singapore%20Fringe%20Festival":MAILTO:info@singaporefringe.com
GEO:1.3012565;103.8517878
X-APPLE-STRUCTURED-LOCATION;VALUE=URI;X-ADDRESS=NAFA Studio Theatre 151 Bencoolen Street 189656 Singapore;X-APPLE-RADIUS=500;X-TITLE=151 Bencoolen Street:geo:103.8517878,1.3012565
END:VEVENT
BEGIN:VEVENT
DTSTART;TZID=Asia/Shanghai:20230112T200000
DTEND;TZID=Asia/Shanghai:20230112T210000
DTSTAMP:20260423T153642
CREATED:20221124T045751Z
LAST-MODIFIED:20221124T045751Z
UID:87713-1673553600-1673557200@artsequator.com
SUMMARY:Kafka's Ape by Phala O Phala & Tony Bonani Miyambo
DESCRIPTION:Accessibility features: open captions in English\n50 minutes with no intermission\nRating: General\nAsian Premiere \n“The fact that it’s actually more relevant today than when it was written 100 years ago suggests that the world we currently live in has some serious problems.”\n—Heather Taylor Johnson\, InDaily \n“The audience is left both dumbfounded and in awe at the end of this hour of theatre. It has been a mighty trip into a hideous hypothetical. It has been a display of masterful acting\, it has been a graphic lesson in humanity and an unforgettable experience.”\n—Samela Harris\, The Barefoot Review \nAn adaptation of Franz Kafka’s A Report to an Academy\, Kafka’s Ape is a solo performance about a primate’s struggle to overcome the confines of captivity. The hard-hitting play presents a metaphorical view on South African society\, highlighting the complexities of identity in post-apartheid South Africa as well as in the human race. \nAn ape named Red Peter is captured. In his quest to break out of his confinement\, he learns to imitate humanity and contests identity based on outward appearance. Through his journey\, Kafka’s Ape questions the understanding of otherness. \nMiyambo has received multiple accolades for this powerful performance\, including Winner of Outstanding Performance award at Prague Fringe Festival 2019\, Best Satire Award at New York’s United Solo Festival 2019\, and the Graham F. Smith Peace Foundation Award at the Adelaide Fringe Festival 2021\, among others.
URL:https://artsequator.com/event/kafkas-ape-by-phala-o-phala-tony-bonani-miyambo/2023-01-12/
LOCATION:Esplanade Theatre Studio\, 1 Esplanade Dr\, Singapore\, 038981\, Singapore
CATEGORIES:Festival (Events),Theatre (Events)
ATTACH;FMTTYPE=image/jpeg:https://artsequator.s3.ap-southeast-1.amazonaws.com/2022/11/Kafkas-Ape.jpg
ORGANIZER;CN="M1%20Singapore%20Fringe%20Festival":MAILTO:info@singaporefringe.com
GEO:1.289857;103.8552799
X-APPLE-STRUCTURED-LOCATION;VALUE=URI;X-ADDRESS=Esplanade Theatre Studio 1 Esplanade Dr Singapore 038981 Singapore;X-APPLE-RADIUS=500;X-TITLE=1 Esplanade Dr:geo:103.8552799,1.289857
END:VEVENT
BEGIN:VEVENT
DTSTART;TZID=Asia/Shanghai:20230105T200000
DTEND;TZID=Asia/Shanghai:20230105T210000
DTSTAMP:20260423T153642
CREATED:20221124T045928Z
LAST-MODIFIED:20221124T045928Z
UID:87655-1672948800-1672952400@artsequator.com
SUMMARY:Less Than Half by Adib Kosnan\, Yarra Ileto & Nanyang Academy of Fine Arts
DESCRIPTION:Accessibility features: open captions in English\n60 minutes with no intermission\nAdvisory (Some Mature Content)\nWorld Premiere • Fringe Commission \nSet in an imagined\, futuristic world\, Sama Wholeness Centre believes in the country’s mandate that all human lives are Whole. \nCitizens who do not conform to the status of Whole are put through a rigorous training programme that will help them achieve the desired status before gaining admission to the country. Citizens who fail the programme are ousted and lost forever. Given the high stakes\, the recruits soon discover that they must work both individually and collectively. Uncertainty ensues. \nWhat have these recruits really signed up for? Will these recruits choose to conform to the demands of the programme\, or will they stick to their roots and embrace what makes them “less than half”? \nDirected by Adib Kosnan and Yarra Ileto\, and written by Aswani Aswath\, Less Than Half is devised and performed by students from the BA (Hons) in Performance Making programme at the Nanyang Academy of Fine Arts. \nCo-presented with Nanyang Academy of Fine Arts
URL:https://artsequator.com/event/less-than-half-by-adib-kosnan-yarra-ileto-nanyang-academy-of-fine-arts/
LOCATION:NAFA Studio Theatre\, 151 Bencoolen Street\, 189656\, Singapore
CATEGORIES:Festival (Events),Theatre (Events)
ATTACH;FMTTYPE=image/jpeg:https://artsequator.s3.ap-southeast-1.amazonaws.com/2022/11/Less-Than-Half.jpg
ORGANIZER;CN="M1%20Singapore%20Fringe%20Festival":MAILTO:info@singaporefringe.com
GEO:1.3012565;103.8517878
X-APPLE-STRUCTURED-LOCATION;VALUE=URI;X-ADDRESS=NAFA Studio Theatre 151 Bencoolen Street 189656 Singapore;X-APPLE-RADIUS=500;X-TITLE=151 Bencoolen Street:geo:103.8517878,1.3012565
END:VEVENT
BEGIN:VEVENT
DTSTART;TZID=Asia/Shanghai:20230104T200000
DTEND;TZID=Asia/Shanghai:20230104T213000
DTSTAMP:20260423T153642
CREATED:20221124T045608Z
LAST-MODIFIED:20221124T045635Z
UID:87741-1672862400-1672867800@artsequator.com
SUMMARY:Never the Bride by The Necessary Stage
DESCRIPTION:In English\, with some Mandarin\, Malay and Tamil\nAccessibility features: open captions in English\n90 minutes with no intermission\nRating to be advised\nFringe Commission \nThree queer Singaporean men cast a little gay spell\, don their bridal veils\, and embark on a whirlwind journey towards matrimony. They dream through the past\, the present and an imagined future to discover what a big\, fat\, fabulously gay wedding would look like for them! \nIn a country where the legal right to marriage is denied to the queer community\, these individuals navigate the political\, social\, cultural\, and personal reality of their lives\, along with saying “yes” to whimsical wedding fantasies. “Always the bridesmaid\, never the bride.” Is that the ultimate ultimatum\, or is there a possible way to find marital bliss amidst the chaos? \nDevised and performed by Ryan Ang\, Fadhil Daud and Rajkumar Thiagaras\, Never the Bride was first created and presented at the Devising with Actors and Playwrights programme as part of The Necessary Stage’s Devising Platform in 2021.
URL:https://artsequator.com/event/never-the-bride-by-the-necessary-stage/
LOCATION:Esplanade Annexe Studio\, 1 Esplanade Drive\, 038981\, Singapore
CATEGORIES:Festival (Events),Theatre (Events)
ATTACH;FMTTYPE=image/jpeg:https://artsequator.s3.ap-southeast-1.amazonaws.com/2022/11/never-the-bride.jpg
ORGANIZER;CN="M1%20Singapore%20Fringe%20Festival":MAILTO:info@singaporefringe.com
GEO:1.289857;103.8552799
X-APPLE-STRUCTURED-LOCATION;VALUE=URI;X-ADDRESS=Esplanade Annexe Studio 1 Esplanade Drive 038981 Singapore;X-APPLE-RADIUS=500;X-TITLE=1 Esplanade Drive:geo:103.8552799,1.289857
END:VEVENT
BEGIN:VEVENT
DTSTART;TZID=Asia/Shanghai:20230104T200000
DTEND;TZID=Asia/Shanghai:20230104T210000
DTSTAMP:20260423T153642
CREATED:20221124T045859Z
LAST-MODIFIED:20221124T045859Z
UID:87673-1672862400-1672866000@artsequator.com
SUMMARY:Mother of Compost by Noémie Huttner-Koros
DESCRIPTION:“Whimsical yet powerful\, Mother of Compost is a show with ecological advice that’s worth hearing and heeding”\n—Seesaw \n“Mother of Compost tackles climate change and social responsibility through the lens of young artists as they contemplate nature and regeneration\, what legacy we will leave on our children\, and whether it is\, indeed a good idea to birth at all.”\n—The Fourth Wall \nDearest compost\, I am your mother and I am your child. \nWe live in an ecologically precarious time. Some of us don’t want to bring children into this world\, others are worried their children won’t have a world to grow old into… but we’ve still got a whole lot of love to give. Rethink what it means to give birth and be birthed\, and dance along with us in this gooey\, camp and interactive subversion of family portraits\, birthing classes\, and evolutionary biology. \nOver the course of the performance\, the audience transforms from strangers to the beginnings of a family. Mother of Compost is a queer and unruly family gathering and a communal grieving for what is being lost and everything left to fight for. \nFrom the minds of queer performance-makers Noémie Huttner-Koros and director Andrew Sutherland\, Mother of Compost asks you to roll up your sleeves this Fringe Festival… Change only comes from getting your hands dirty. \nWith the support of the Department of Local Government\, Sport and Cultural Industries\, Government of Western Australia.
URL:https://artsequator.com/event/mother-of-compost-by-noemie-huttner-koros/2023-01-04/
LOCATION:Esplanade Theatre Studio\, 1 Esplanade Dr\, Singapore\, 038981\, Singapore
CATEGORIES:Festival (Events),Theatre (Events)
ATTACH;FMTTYPE=image/jpeg:https://artsequator.s3.ap-southeast-1.amazonaws.com/2022/11/Mother-of-Compost.jpg
ORGANIZER;CN="M1%20Singapore%20Fringe%20Festival":MAILTO:info@singaporefringe.com
GEO:1.289857;103.8552799
X-APPLE-STRUCTURED-LOCATION;VALUE=URI;X-ADDRESS=Esplanade Theatre Studio 1 Esplanade Dr Singapore 038981 Singapore;X-APPLE-RADIUS=500;X-TITLE=1 Esplanade Dr:geo:103.8552799,1.289857
END:VEVENT
BEGIN:VEVENT
DTSTART;VALUE=DATE:20230104
DTEND;VALUE=DATE:20230105
DTSTAMP:20260423T153642
CREATED:20221124T045655Z
LAST-MODIFIED:20221124T045731Z
UID:87727-1672790400-1672876799@artsequator.com
SUMMARY:Tree Confessions by This is Not a Theatre Company
DESCRIPTION:Accessibility features: Accessible to wheelchair users\, audience with visual impairment\, and as a relaxed performance experience\n35 minutes with no intermission\nAsian Premiere \n“Moving and powerful”\n—Ramsay Adams\, Executive Director of Catskill Mountainkeepers \n“Mesmerizing. Fascinating\, moving\, mystical\, informative; I could list a dictionary’s worth of adjectives and still not fully describe how special Tree Confessions is… an audio-only piece that is so fully realized you can see it. Please take half an hour and listen to Tree Confessions and be changed for the better.”\n—Rachel More\, View \nPresenting the world’s first play told entirely from the point of view of a tree\, performed by award-winning Broadway\, theatre and TV actress Kathleen Chalfant. \nTrees talk! In a landmark study\, a scientist learned everything about how trees communicate—or did she? One tree tells the story of what really happened\, reminding us that human beings and plants live in one interconnected ecosystem. \nTo experience this site-specific audio play\, find a tree near you\, sit under it (or nearby)\, press play\, and listen to the tree’s confessions.
URL:https://artsequator.com/event/tree-confessions-by-this-is-not-a-theatre-company/2023-01-04/
LOCATION:Online
CATEGORIES:Festival (Events),Theatre (Events)
ATTACH;FMTTYPE=image/jpeg:https://artsequator.s3.ap-southeast-1.amazonaws.com/2022/11/tree-confessions.jpg
ORGANIZER;CN="M1%20Singapore%20Fringe%20Festival":MAILTO:info@singaporefringe.com
END:VEVENT
BEGIN:VEVENT
DTSTART;VALUE=DATE:20230104
DTEND;VALUE=DATE:20230116
DTSTAMP:20260423T153642
CREATED:20221124T045642Z
LAST-MODIFIED:20221124T045642Z
UID:87739-1672790400-1673827199@artsequator.com
SUMMARY:Django in Pain by Por Piedad Teatro & The Play Company
DESCRIPTION:Digital table-top puppet theatre via video on demand\nContent advisories: This story is about a character who is dealing with depression and contains strong images and language associated with suicidal thoughts and actions. There are non-photographic depictions of injured animals in distress. \nAccessibility features: Closed captions in English. A version with audio description is also available.\n60 minutes with no intermission\nNC16 (Some Mature Content)\nAsian premiere \n“In a world that seems to give us lots of reasons to give up\, Django in Painis a cry of hope”\n—Juan Carlos Araujo\, Entretenia.com (translated from Spanish) \n“A day will come when you might need to kill a wolf; a mad wolf out there\, or a wolf inside of you… ” \nA playwright wants to write a happy play\, but he can’t because his main character is so depressed that he wants to end his life. Hopefully the playwright will find a way to give \nDjango’s journey a happy ending. Or is it the other way around? \nDjango in Pain is an astonishing\, exquisitely detailed and healing piece about depression\, creativity\, and love. Made and staged within the isolation of the early days of the pandemic in New York City\, it used only hand-made puppets and scrap materials found around their\nhome and was filmed on a cellphone. This feature-length table-top puppet show chronicles the often-humorous with razor edges of grief misfortunes and adventures of Django—a puppet loosely inspired by Django Reinhardt\, and a stray dog that keeps getting in his way.\nIt is both a deeply personal yet universal\, multi-layered tale of despair\, loyalty and hope. \nDjango in Pain premiered in New York City in October 2021 to rave reviews. The Spanish version\, Django con la Soga al Cuello has been presented in Mexico and Argentina\, where it received more than 6000 views in just three days.
URL:https://artsequator.com/event/django-in-pain-by-por-piedad-teatro-the-play-company/2023-01-04/
LOCATION:Online
CATEGORIES:Festival (Events),Theatre (Events)
ATTACH;FMTTYPE=image/jpeg:https://artsequator.s3.ap-southeast-1.amazonaws.com/2022/11/django-in-pain.jpg
ORGANIZER;CN="M1%20Singapore%20Fringe%20Festival":MAILTO:info@singaporefringe.com
END:VEVENT
END:VCALENDAR