BEGIN:VCALENDAR
VERSION:2.0
PRODID:-//ArtsEquator - ECPv5.16.3.1//NONSGML v1.0//EN
CALSCALE:GREGORIAN
METHOD:PUBLISH
X-WR-CALNAME:ArtsEquator
X-ORIGINAL-URL:https://artsequator.com
X-WR-CALDESC:Events for ArtsEquator
REFRESH-INTERVAL;VALUE=DURATION:PT1H
X-Robots-Tag:noindex
X-PUBLISHED-TTL:PT1H
BEGIN:VTIMEZONE
TZID:Asia/Shanghai
BEGIN:STANDARD
TZOFFSETFROM:+0800
TZOFFSETTO:+0800
TZNAME:CST
DTSTART:20220101T000000
END:STANDARD
END:VTIMEZONE
BEGIN:VEVENT
DTSTART;TZID=Asia/Shanghai:20230505T200000
DTEND;TZID=Asia/Shanghai:20230506T213000
DTSTAMP:20260424T022915
CREATED:20230411T082319Z
LAST-MODIFIED:20230411T082319Z
UID:89648-1683316800-1683408600@artsequator.com
SUMMARY:Revisor by Kidd Pivot
DESCRIPTION:Witness a captivating hybrid of contemporary dance and theatre in this spectacular production by award-winning collaborators Crystal Pite and Jonathon Young. \nIn Revisor\, Pite and Young take on an archetypal comic plot inspired by a bizarre theatrical interpretation of Nikolai Gogol’s novel\, The Government Inspector. Driven by characters of mixed motives\, the narrative satirises the absurdity of power and bureaucracy. With the exceptional dancers from Kidd Pivot embodying the recorded dialogue of some of Canada’s finest actors\, the work explores conflict\, comedy and corruption in the compelling relationship between language and the body. \nRevisor was named best new dance production by the Olivier Awards in 2022 and now arrives in Singapore for its Asian premiere. \nThis production is presented as part of da:ns focus – Body Language\, a weekend of programmes that examines the interplay between dance\, the body\, text and speech.
URL:https://artsequator.com/event/revisor-by-kidd-pivot/
LOCATION:Esplanade Theatre\, 1 Esplanade Drive\, Singapore\, Singapore\, 038981\, Singapore
CATEGORIES:Theatre (Events)
ATTACH;FMTTYPE=image/jpeg:https://artsequator.s3.ap-southeast-1.amazonaws.com/2023/03/Revisor-1200x1200-1.jpg
GEO:1.289857;103.8552799
X-APPLE-STRUCTURED-LOCATION;VALUE=URI;X-ADDRESS=Esplanade Theatre 1 Esplanade Drive Singapore Singapore 038981 Singapore;X-APPLE-RADIUS=500;X-TITLE=1 Esplanade Drive:geo:103.8552799,1.289857
END:VEVENT
BEGIN:VEVENT
DTSTART;TZID=Asia/Shanghai:20230401T200000
DTEND;TZID=Asia/Shanghai:20230401T213000
DTSTAMP:20260424T022915
CREATED:20230301T040407Z
LAST-MODIFIED:20230301T040407Z
UID:89309-1680379200-1680384600@artsequator.com
SUMMARY:TRIP 2023: No Particular Order
DESCRIPTION:A despot has come to power. The population is anxious\, submissive and scared. \n  \nBut beneath every violation of civil liberty\, there are real human beings; behind every act of resistance\, there is an individual willing to risk everything. And these people aren’t heroic or remarkable – they’re just like us. \n  \nThrough a series of vignettes involving the lives of bureaucrats\, soldiers\, artists and tour guides\, No Particular Order charts the fate of a society in turmoil to ask at every step of the way: is it empathy\, or power\, that endures? \n  \nJoel Tan’s No Particular Order  first debuted in May 2022 at London’s Theatre503. Described as “startling and apocalyptic”\, the play was shortlisted for the Theatre503 International Playwriting Award as well as the 2022 George Devine Award. This performance marks its Singapore premiere. \n  \nA programme of TRIP—a platform to showcase work by early-career directors. \n  \nDirector: Sim Yan Ying “YY” \nPlaywright: Joel Tan \nPerformers: Arielle Jasmine Van Zuijlen\, Karen Tan\, Pavan J Singh and Shrey Bhargava \nLighting Designer: James Tan \nSound Designer: Lee Yew Jin (Ctrl Fre@k) \nSet Designer: Hella Chan \nProduction Manager: Evelyn Chia (The Backstage Affair) \nStage Manager: Carolene Ruth Liew (The Backstage Affair) \nAssistant Stage Manager: Irish Alcantara (The Backstage Affair)
URL:https://artsequator.com/event/trip-2023-no-particular-order/2023-04-01/
LOCATION:Esplanade Theatre Studio\, 1 Esplanade Dr\, Singapore\, 038981\, Singapore
CATEGORIES:Other (Events),Theatre (Events)
ATTACH;FMTTYPE=image/png:https://artsequator.s3.ap-southeast-1.amazonaws.com/2023/02/No_particular_order.png
GEO:1.289857;103.8552799
X-APPLE-STRUCTURED-LOCATION;VALUE=URI;X-ADDRESS=Esplanade Theatre Studio 1 Esplanade Dr Singapore 038981 Singapore;X-APPLE-RADIUS=500;X-TITLE=1 Esplanade Dr:geo:103.8552799,1.289857
END:VEVENT
BEGIN:VEVENT
DTSTART;TZID=Asia/Shanghai:20230302T183000
DTEND;TZID=Asia/Shanghai:20230305T220000
DTSTAMP:20260424T022915
CREATED:20230221T072947Z
LAST-MODIFIED:20230301T011400Z
UID:89365-1677781800-1678053600@artsequator.com
SUMMARY:A Date With Friends 2023
DESCRIPTION:Celebrate Singapore music icons of yesteryear and make A Date With Friends! From 2 – 5 Mar 2023\, reminisce the good ol’ days with the eternally young-at-heart through a mix of concerts\, workshops and more.
URL:https://artsequator.com/event/a-date-with-friends-2023/
LOCATION:Esplanade – Theatres on the Bay\, 1 Esplanade Dr\, 038981\, Singapore
CATEGORIES:Festival (Events),Music (Events),Workshop & Talks (Events)
ATTACH;FMTTYPE=image/jpeg:https://artsequator.s3.ap-southeast-1.amazonaws.com/2023/02/ADWF-1920-x-1080px.jpg
GEO:1.289857;103.8552799
X-APPLE-STRUCTURED-LOCATION;VALUE=URI;X-ADDRESS=Esplanade – Theatres on the Bay 1 Esplanade Dr 038981 Singapore;X-APPLE-RADIUS=500;X-TITLE=1 Esplanade Dr:geo:103.8552799,1.289857
END:VEVENT
BEGIN:VEVENT
DTSTART;TZID=Asia/Shanghai:20221204T170000
DTEND;TZID=Asia/Shanghai:20221204T183000
DTSTAMP:20260424T022915
CREATED:20221115T060656Z
LAST-MODIFIED:20221115T060656Z
UID:87429-1670173200-1670178600@artsequator.com
SUMMARY:A Cappella Gala
DESCRIPTION:In celebration of the 10th edition of Voices – A Festival of Song\, this specially produced A Cappella Gala brings together three unique and outstandingly talented vocal bands. Each known for their signature styles\, Singapore favourites 1023 and MICappella\, will be joined by top Filipino a cappella band\, Acapellago. \n  \nLook forward to an evening of familiar pop\, Mandopop and Singaporean songs\, as well as some jazz standards that celebrate Singapore’s musical and cultural diversity with 1023. A special treat will include their international premiere of Mambo Jambo Medley—a cheeky tribute to the uniquely Singaporean clubbing phenomenon of the same name\, made popular in the late ‘90s and early 2000’s. MICappella will perform their signature song One Night in Beijing and their original 我的Party Time. Not to be missed either is Acapellago’s Queen of the Night and Burlesque. \n  \nNo matter your jam—childhood folk songs you can sing along with or toe-tapping classics that you know the dance moves to\, this concert will have something for audiences of all ages to enjoy.
URL:https://artsequator.com/event/a-cappella-gala/
LOCATION:Esplanade Concert Hall\, Esplanade Concert Hall\, 1 Esplanade Dr.\, Singapore\, 038981\, Singapore\, Singapore\, 038981\, Singapore
CATEGORIES:Children/Family (Events),Event of the Day,Festival (Events),Music (Events)
ATTACH;FMTTYPE=image/jpeg:https://artsequator.s3.ap-southeast-1.amazonaws.com/2022/11/ag.jpg
GEO:1.2894512;103.8548316
X-APPLE-STRUCTURED-LOCATION;VALUE=URI;X-ADDRESS=Esplanade Concert Hall Esplanade Concert Hall 1 Esplanade Dr. Singapore 038981 Singapore Singapore 038981 Singapore;X-APPLE-RADIUS=500;X-TITLE=Esplanade Concert Hall\, 1 Esplanade Dr.\, Singapore\, 038981:geo:103.8548316,1.2894512
END:VEVENT
BEGIN:VEVENT
DTSTART;TZID=Asia/Shanghai:20221202T193000
DTEND;TZID=Asia/Shanghai:20221202T213000
DTSTAMP:20260424T022915
CREATED:20221115T060740Z
LAST-MODIFIED:20221115T060740Z
UID:87427-1670009400-1670016600@artsequator.com
SUMMARY:Christmas with The King's Singers
DESCRIPTION:Celebrate the magic of Christmas with festive favourites and brand-new surprises. In this concert\, The King’s Singers present their signature close-harmony style\, as well as music celebrating 100 years of Disney. \n  \nRepresenting the gold standard in a cappella singing on the world’s greatest stages for over 50 years\, The King’s Singers are renowned for their connection and engagement with their audiences\, their unrivalled technique\, versatility and skill in performance. Their consummate musicianship draws from the group’s rich heritage and pioneering spirit to create an extraordinary wealth of original works and unique collaborations. With their extensive discography\, The King’s Singers have won numerous awards including two Grammy Awards\, an Emmy Award\, and a place in Gramophone magazine’s inaugural Hall of Fame.
URL:https://artsequator.com/event/christmas-with-the-kings-singers/
LOCATION:Esplanade – Theatres on the Bay\, 1 Esplanade Dr\, 038981\, Singapore
CATEGORIES:Children/Family (Events),Event of the Day,Festival (Events),Music (Events)
ATTACH;FMTTYPE=image/png:https://artsequator.s3.ap-southeast-1.amazonaws.com/2022/11/tks.png
GEO:1.289857;103.8552799
X-APPLE-STRUCTURED-LOCATION;VALUE=URI;X-ADDRESS=Esplanade – Theatres on the Bay 1 Esplanade Dr 038981 Singapore;X-APPLE-RADIUS=500;X-TITLE=1 Esplanade Dr:geo:103.8552799,1.289857
END:VEVENT
BEGIN:VEVENT
DTSTART;TZID=Asia/Shanghai:20221201T180000
DTEND;TZID=Asia/Shanghai:20221204T230000
DTSTAMP:20260424T022915
CREATED:20221115T060757Z
LAST-MODIFIED:20221115T060757Z
UID:87424-1669917600-1670194800@artsequator.com
SUMMARY:Voices – A Festival of Song
DESCRIPTION:Esplanade – Theatres on the Bay is proud to present the 10th edition of Voices – A Festival of Song\, a celebration of vocal music to be held from 1 – 4 Dec 2022.
URL:https://artsequator.com/event/voices-a-festival-of-song/
LOCATION:Esplanade – Theatres on the Bay\, 1 Esplanade Dr\, 038981\, Singapore
CATEGORIES:Festival (Events),Music (Events),Workshop & Talks (Events)
ATTACH;FMTTYPE=image/png:https://artsequator.s3.ap-southeast-1.amazonaws.com/2022/11/Voices-KV.png
GEO:1.289857;103.8552799
X-APPLE-STRUCTURED-LOCATION;VALUE=URI;X-ADDRESS=Esplanade – Theatres on the Bay 1 Esplanade Dr 038981 Singapore;X-APPLE-RADIUS=500;X-TITLE=1 Esplanade Dr:geo:103.8552799,1.289857
END:VEVENT
BEGIN:VEVENT
DTSTART;TZID=Asia/Shanghai:20221103T193000
DTEND;TZID=Asia/Shanghai:20221105T224500
DTSTAMP:20260424T022915
CREATED:20221020T031553Z
LAST-MODIFIED:20221020T031553Z
UID:86295-1667503800-1667688300@artsequator.com
SUMMARY:A Midsummer Night’s Dream
DESCRIPTION:Presented by Intercultural Theatre Institute\nIn Collaboration with Esplanade – Theatres on the Bay \nThings are in chaos in the forest of Athens. Star-crossed lovers run off into the night\, fairies squabble and interfere\, and a troupe of amateurs rehearse a play — making for a moonlit mix of magic\, trickery and a whole lot of confusion. \nITI presents William Shakespeare’s ethereal and earthy romantic comedy\, A Midsummer Night’s Dream\, with a traditional Asian spin. Led by award-winning veteran director Aarne Neeme and featuring a cast of 12-actor students from seven countries. \nCome dream with us! \n—— \nDate: 3 – 5 Nov\nTime: 7:30 PM with an additional 2 PM matinee on Saturday\, 5 Nov\nVenue: Esplanade Theatre Studio \n—— \nWritten by William Shakespeare\nDirected by Aarne Neeme\nPerformed by ITI’s 2022 graduating cohort \nCast\nDaisy Zhao Xiaoqing\, Ismael Gallaza Pantao\, Jemima Dunn\, Kaleem Zafar\, Karlwinn\, Ng Yuan Ci\, Oliver S. K. Wu\, Peh Jun Kai\, Ruthi Lalrinawmi\, Wan Ahmad\, Will Wong Keng Ip\, Wong Jin Yi \nCreative team\nVocal Coach: Simon Stollery\nLighting\, Set and Props Designer: Dorothy Png\nSound Designer: Vick Low\nCostume and Headdress Designer: Eve Tan\nCostume Consultant: Lim Chin Huat
URL:https://artsequator.com/event/a-midsummer-nights-dream/
LOCATION:Esplanade Theatre Studio\, 1 Esplanade Dr\, Singapore\, 038981\, Singapore
CATEGORIES:Theatre (Events)
ATTACH;FMTTYPE=image/jpeg:https://artsequator.s3.ap-southeast-1.amazonaws.com/2022/10/ITI-AMND-ArtsEquator.jpg
ORGANIZER;CN="Intercultural%20Theatre%20Institute":MAILTO:admin@iti.edu.sg
GEO:1.289857;103.8552799
X-APPLE-STRUCTURED-LOCATION;VALUE=URI;X-ADDRESS=Esplanade Theatre Studio 1 Esplanade Dr Singapore 038981 Singapore;X-APPLE-RADIUS=500;X-TITLE=1 Esplanade Dr:geo:103.8552799,1.289857
END:VEVENT
BEGIN:VEVENT
DTSTART;TZID=Asia/Shanghai:20220926T123000
DTEND;TZID=Asia/Shanghai:20220926T130000
DTSTAMP:20260424T022915
CREATED:20220719T061119Z
LAST-MODIFIED:20220719T061119Z
UID:83573-1664195400-1664197200@artsequator.com
SUMMARY:Munch! Lunchtime Concerts - Music for Violin and Piano From Bulgaria
DESCRIPTION:Pianist Radostin Kirchev and violinist Vera Boyadzhieva present a programme of picturesque music for violin and piano from Bulgaria. Reflective of the unique folklore music and dances\, the repertoire features works by Bentsion Eliezer\, Parashkev Hadzhiev\, Georgi Zlatev-Cherkin and Pancho Vladigerov. \nReceive a $10 Esplanade Mall voucher with every ticket purchased. The voucher will be emailed to ticket holders on the day of the concert. T&C apply. 
URL:https://artsequator.com/event/munch-lunchtime-concerts-music-for-violin-and-piano-from-bulgaria/
LOCATION:Esplanade – Theatres on the Bay\, 1 Esplanade Dr\, 038981\, Singapore
CATEGORIES:Music (Events)
ATTACH;FMTTYPE=image/jpeg:https://artsequator.s3.ap-southeast-1.amazonaws.com/2022/07/Munch-29-Aug-1920-x-1080-1.jpg
GEO:1.289857;103.8552799
X-APPLE-STRUCTURED-LOCATION;VALUE=URI;X-ADDRESS=Esplanade – Theatres on the Bay 1 Esplanade Dr 038981 Singapore;X-APPLE-RADIUS=500;X-TITLE=1 Esplanade Dr:geo:103.8552799,1.289857
END:VEVENT
BEGIN:VEVENT
DTSTART;TZID=Asia/Shanghai:20220916T193000
DTEND;TZID=Asia/Shanghai:20220916T210000
DTSTAMP:20260424T022915
CREATED:20220805T092154Z
LAST-MODIFIED:20220813T014613Z
UID:84132-1663356600-1663362000@artsequator.com
SUMMARY:Esplanade Presents - Charlie Lim & The Great Wave
DESCRIPTION:Charlie Lim returns to the Esplanade Concert Hall once again\, this time with a stellar line-up of guest artists from The Great Wave\, a new artist collective set to release collaborative works.  \nIndulge in the musical synergies between Charlie and these artists as they perform their original music\, backed by Charlie’s superband of seasoned musicians\, The Mothership. Beyond musical exchange\, the artists will also share their personal experiences in songwriting along with insights into their creative processes through candid on-stage conversations.  \nBe part of this new chapter of Charlie’s musical journey and experience the next great wave of talented young artists!  \nA programme of PopLore\, in celebration of Esplanade’s 20th anniversary.\nDiscover and relive the epic\, storied and exhilarating journeys of different generations through Singapore popular music and culture. 
URL:https://artsequator.com/event/esplanade-presents-charlie-lim-the-great-wave/
LOCATION:Esplanade – Theatres on the Bay\, 1 Esplanade Dr\, 038981\, Singapore
CATEGORIES:Event of the Day,Music (Events)
ATTACH;FMTTYPE=image/png:https://artsequator.s3.ap-southeast-1.amazonaws.com/2022/08/Charlie-Lim_1920x1080.png
GEO:1.289857;103.8552799
X-APPLE-STRUCTURED-LOCATION;VALUE=URI;X-ADDRESS=Esplanade – Theatres on the Bay 1 Esplanade Dr 038981 Singapore;X-APPLE-RADIUS=500;X-TITLE=1 Esplanade Dr:geo:103.8552799,1.289857
END:VEVENT
BEGIN:VEVENT
DTSTART;TZID=Asia/Shanghai:20220829T123000
DTEND;TZID=Asia/Shanghai:20220829T130000
DTSTAMP:20260424T022915
CREATED:20220719T061059Z
LAST-MODIFIED:20220719T061059Z
UID:83571-1661776200-1661778000@artsequator.com
SUMMARY:Munch! Lunchtime Concerts - Not Just Another Hunt! - Music for Horn and Piano
DESCRIPTION:From the dense forests to the polished floors of a concert hall\, the horn has certainly established itself as one of the most iconic and versatile instruments in Western music. What else can the horn offer? Join Kartik and Beatrice in discovering a platter of varied sounds from the music of Mozart to Messiaen. \nReceive a $10 Esplanade Mall voucher with every ticket purchased. The voucher will be emailed to ticket holders on the day of the concert. T&C apply. 
URL:https://artsequator.com/event/munch-lunchtime-concerts-not-just-another-hunt-music-for-horn-and-piano/
LOCATION:Esplanade – Theatres on the Bay\, 1 Esplanade Dr\, 038981\, Singapore
CATEGORIES:Music (Events)
ATTACH;FMTTYPE=image/jpeg:https://artsequator.s3.ap-southeast-1.amazonaws.com/2022/07/Munch-29-Aug-1920-x-1080.jpg
GEO:1.289857;103.8552799
X-APPLE-STRUCTURED-LOCATION;VALUE=URI;X-ADDRESS=Esplanade – Theatres on the Bay 1 Esplanade Dr 038981 Singapore;X-APPLE-RADIUS=500;X-TITLE=1 Esplanade Dr:geo:103.8552799,1.289857
END:VEVENT
END:VCALENDAR