BEGIN:VCALENDAR
VERSION:2.0
PRODID:-//ArtsEquator - ECPv5.16.3.1//NONSGML v1.0//EN
CALSCALE:GREGORIAN
METHOD:PUBLISH
X-WR-CALNAME:ArtsEquator
X-ORIGINAL-URL:https://artsequator.com
X-WR-CALDESC:Events for ArtsEquator
REFRESH-INTERVAL;VALUE=DURATION:PT1H
X-Robots-Tag:noindex
X-PUBLISHED-TTL:PT1H
BEGIN:VTIMEZONE
TZID:Asia/Shanghai
BEGIN:STANDARD
TZOFFSETFROM:+0800
TZOFFSETTO:+0800
TZNAME:CST
DTSTART:20240101T000000
END:STANDARD
END:VTIMEZONE
BEGIN:VEVENT
DTSTART;TZID=Asia/Shanghai:20241002T110000
DTEND;TZID=Asia/Shanghai:20241130T210000
DTSTAMP:20260421T015450
CREATED:20240924T073210Z
LAST-MODIFIED:20240924T073220Z
UID:95524-1727866800-1733000400@artsequator.com
SUMMARY:ART COLLECTIVE 2 - LET ART FLOW
DESCRIPTION:Building on the success of “Art Collective 1 – Symphony of Colors\,” Be One Gallery proudly presents “Art Collective 2 – Let Art Flow” at Raffles City Shopping Centre\, Singapore. This exhibition continues the gallery’s mission to celebrate and promote Singapore’s top artistic talents while inspiring home décor. Since 2017\, Be One Gallery has provided a platform for both emerging and established artists\, connecting them with wider audiences. Supported by Singapore’s leading e-furniture brand FortyTwo\, the event blends art seamlessly into daily life. Held at the Qoltured by FortyTwo showroom\, the exhibition showcases works by renowned artists like Kevin Tan\, president of The Society of Chinese Artists\, who captivates with his semi-abstract depictions of Singapore\, alongside UOB Painting of the Year winners Wong Yee Heng and Arick Lee.”Art Collective 2″ offers an engaging experience for art lovers and collectors\, blending artistic creativity with everyday life.
URL:https://artsequator.com/event/art-collective-2-let-art-flow/
LOCATION:Raffles City Shopping Centre\, #03-03\,Raffles City Shopping Centre\, Singapore\, Singapore
ATTACH;FMTTYPE=image/png:https://artsequator.s3.ap-southeast-1.amazonaws.com/2024/09/Artcollective-poster-01.png
ORGANIZER;CN="Be%20One%20Gallery":MAILTO:beonegallerysg@gmail.com
GEO:1.29401;103.8531473
X-APPLE-STRUCTURED-LOCATION;VALUE=URI;X-ADDRESS=Raffles City Shopping Centre #03-03Raffles City Shopping Centre Singapore Singapore;X-APPLE-RADIUS=500;X-TITLE=#03-03\,Raffles City Shopping Centre\, Singapore:geo:103.8531473,1.29401
END:VEVENT
END:VCALENDAR