BEGIN:VCALENDAR
VERSION:2.0
PRODID:-//ArtsEquator - ECPv5.16.3.1//NONSGML v1.0//EN
CALSCALE:GREGORIAN
METHOD:PUBLISH
X-ORIGINAL-URL:https://artsequator.com
X-WR-CALDESC:Events for ArtsEquator
REFRESH-INTERVAL;VALUE=DURATION:PT1H
X-Robots-Tag:noindex
X-PUBLISHED-TTL:PT1H
BEGIN:VTIMEZONE
TZID:Asia/Shanghai
BEGIN:STANDARD
TZOFFSETFROM:+0800
TZOFFSETTO:+0800
TZNAME:CST
DTSTART:20230101T000000
END:STANDARD
END:VTIMEZONE
BEGIN:VEVENT
DTSTART;TZID=Asia/Shanghai:20230624T190000
DTEND;TZID=Asia/Shanghai:20230624T210000
DTSTAMP:20260424T170246
CREATED:20230517T083743Z
LAST-MODIFIED:20230517T084045Z
UID:90482-1687633200-1687640400@artsequator.com
SUMMARY:A Night with Beethoven: Lucerne Symphony Orchestra
DESCRIPTION:L.V. Beethoven (1770 – 1827)\nViolin Concerto in D Major\, Op. 61\nSymphony No.5\, Op.67 \n  \nMichael Sandeling\, chief conductor\nAugustin Hadelich\, violin \nCall it a glorious twist of fate? It’s only fitting that Switzerland’s oldest orchestra\, founded in 1805\, just when Beethoven was writing his Violin Concerto\, makes its breathtaking Thailand debut playing that same hallmark piece\, as well as what is perhaps the most famous piece of classical music in history\, his dramatic Symphony No. 5. \nProlific in recording but steeped in musical heritage\, the Lucerne Symphony Orchestra is conducted by Michael Sanderling who has experience conducting most of Europe’s leading orchestras\, including the Berlin Philharmonic\, the Munich Philharmonic\, and more.
URL:https://artsequator.com/event/a-night-with-beethoven-lucerne-symphony-orchestra/
CATEGORIES:Festival (Events),Music (Events)
ATTACH;FMTTYPE=image/jpeg:https://artsequator.s3.ap-southeast-1.amazonaws.com/2023/05/A-Night-with-Beethoven-Lucerne-Symphony-Orchestra.jpg
END:VEVENT
END:VCALENDAR