BEGIN:VCALENDAR
VERSION:2.0
PRODID:-//ArtsEquator - ECPv5.16.3.1//NONSGML v1.0//EN
CALSCALE:GREGORIAN
METHOD:PUBLISH
X-WR-CALNAME:ArtsEquator
X-ORIGINAL-URL:https://artsequator.com
X-WR-CALDESC:Events for ArtsEquator
REFRESH-INTERVAL;VALUE=DURATION:PT1H
X-Robots-Tag:noindex
X-PUBLISHED-TTL:PT1H
BEGIN:VTIMEZONE
TZID:Asia/Shanghai
BEGIN:STANDARD
TZOFFSETFROM:+0800
TZOFFSETTO:+0800
TZNAME:CST
DTSTART:20230101T000000
END:STANDARD
END:VTIMEZONE
BEGIN:VEVENT
DTSTART;TZID=Asia/Shanghai:20230628T200000
DTEND;TZID=Asia/Shanghai:20230628T220000
DTSTAMP:20260424T081040
CREATED:20230622T145152Z
LAST-MODIFIED:20230622T145152Z
UID:90822-1687982400-1687989600@artsequator.com
SUMMARY:Ryan Cayabyab with the Ryan Cayabyab Singers - Live in Singapore
DESCRIPTION:Experience the long-awaited return of Ryan Cayabyab to Singapore\, as Ryan Cayabayab and The Ryan Cayabyab Singers grace the stage for an exclusive one-night performance. Prepare to be enchanted by the musical genius of Mr. C\, the renowned 2018 Philippine National Artist\, as he takes you on a nostalgic journey through his extraordinary repertoire. With a blend of heartfelt melodies and soul-stirring harmonies\, this captivating event will ensure an unforgettable evening of Filipino pride and musical delight. Secure your tickets now!
URL:https://artsequator.com/event/ryan-cayabyab-with-the-ryan-cayabyab-singers-live-in-singapore/
LOCATION:Esplanade Concert Hall\, Esplanade Concert Hall\, 1 Esplanade Dr.\, Singapore\, 038981\, Singapore\, Singapore\, 038981\, Singapore
CATEGORIES:Children/Family (Events),Music (Events)
ATTACH;FMTTYPE=image/png:https://artsequator.s3.ap-southeast-1.amazonaws.com/2023/06/RC_Event_169.001.png
GEO:1.2894512;103.8548316
X-APPLE-STRUCTURED-LOCATION;VALUE=URI;X-ADDRESS=Esplanade Concert Hall Esplanade Concert Hall 1 Esplanade Dr. Singapore 038981 Singapore Singapore 038981 Singapore;X-APPLE-RADIUS=500;X-TITLE=Esplanade Concert Hall\, 1 Esplanade Dr.\, Singapore\, 038981:geo:103.8548316,1.2894512
END:VEVENT
END:VCALENDAR