BEGIN:VCALENDAR
VERSION:2.0
PRODID:-//ArtsEquator - ECPv5.16.3.1//NONSGML v1.0//EN
CALSCALE:GREGORIAN
METHOD:PUBLISH
X-WR-CALNAME:ArtsEquator
X-ORIGINAL-URL:https://artsequator.com
X-WR-CALDESC:Events for ArtsEquator
REFRESH-INTERVAL;VALUE=DURATION:PT1H
X-Robots-Tag:noindex
X-PUBLISHED-TTL:PT1H
BEGIN:VTIMEZONE
TZID:Asia/Singapore
BEGIN:STANDARD
TZOFFSETFROM:+0800
TZOFFSETTO:+0800
TZNAME:+08
DTSTART:20240101T000000
END:STANDARD
TZID:Asia/Shanghai
BEGIN:STANDARD
TZOFFSETFROM:+0800
TZOFFSETTO:+0800
TZNAME:CST
DTSTART:20220101T000000
END:STANDARD
END:VTIMEZONE
BEGIN:VEVENT
DTSTART;VALUE=DATE:20240517
DTEND;VALUE=DATE:20240519
DTSTAMP:20260423T013122
CREATED:20240328T095351Z
LAST-MODIFIED:20240328T095351Z
UID:94380-1715904000-1716076799@artsequator.com
SUMMARY:Moby Dick
DESCRIPTION:Moby Dick by Plexus Polaire (FR/NO) is a programme under Singapore International Festival of Arts (SIFA) 2024. \nIt is the image of the ungraspable phantom of life; and this is the key to it all. ― Herman Melville\, Moby Dick \nAn ancient white whale\, a captain steering his ship into destruction and the inner storms of the human heart: Moby Dick is the tale of a whaling expedition\, but also the story of an obsession or an investigation into the unexplained mysteries of life. \nDrawing inspiration from her own family’s seafaring heritage\, director Yngvild Aspeli and award-winning puppet theatre company Plexus Polaire craft a spectacular visual world on stage that brings Herman Melville’s classic tale to life. With a cast of seven actors\, fifty intricately crafted puppets\, live music and immersive video projections\, this sensory feast of a production invites you to journey into the unfathomable depths of the ocean and Man’s perpetual battle with the forces of Nature. \nAgainst a backdrop of maritime history\, you’ll encounter the iconic white whale\, Captain Ahab’s relentless pursuit\, and the complex human emotions that drive Melville’s timeless epic. Miss at your own peril\, this striking theatrical adaptation of Literature’s beast of a book. \n17 May 2024\, Fri\n8PM \n18 May 2024\, Sat\n3PM & 8PM \n\nSingtel Waterfront Theatre at Esplanade\n\n$98\, $78*\, $58*\, $38\n*Limited concessions available for students\, NSFs and seniors.
URL:https://artsequator.com/event/moby-dick/
LOCATION:Singtel Waterfront Theatre at The Esplanade\, 8 Raffles Ave.\, Singapore 039802\, Singapore\, Singapore\, 039802\, Singapore
CATEGORIES:Festival (Events)
ATTACH;FMTTYPE=image/jpeg:https://artsequator.s3.ap-southeast-1.amazonaws.com/2024/03/Moby-Dick-by-Plexus-Polaire-Image-courtesy-of-Christophe-Raynaud-de-Lage-1.jpg
GEO:1.2896585;103.8557631
X-APPLE-STRUCTURED-LOCATION;VALUE=URI;X-ADDRESS=Singtel Waterfront Theatre at The Esplanade 8 Raffles Ave. Singapore 039802 Singapore Singapore 039802 Singapore;X-APPLE-RADIUS=500;X-TITLE=8 Raffles Ave.\, Singapore 039802:geo:103.8557631,1.2896585
END:VEVENT
BEGIN:VEVENT
DTSTART;VALUE=DATE:20240517
DTEND;VALUE=DATE:20240603
DTSTAMP:20260423T013122
CREATED:20240313T092535Z
LAST-MODIFIED:20240313T092535Z
UID:93869-1715904000-1717372799@artsequator.com
SUMMARY:SIFA 2024: The Anatomy of Performance – They Declare
DESCRIPTION:Returning from 17 May to 2 June 2024\, the Singapore International Festival of Arts (SIFA) 2024 presents The Anatomy of Performance – They Declare\, an expression of the multiplicity of voices that the Festival welcomes and celebrates. With Festival Director\, Natalie Hennedige\, setting the direction of the Festival for a third year\, SIFA 2024 calls for audiences to embrace difference and make space for the coexistence of different beliefs and ways of being.  \n  \nSIFA 2024 continues to foster creative intersections\, progressive and original works that demonstrate how performance can be approached as a dynamic arena for artistic innovation and expression\, as well as reflect shifting perspectives today. Festivalgoers can look forward to a diverse line-up ranging from dynamic transnational collaborations\, exciting invited international presentations\, an engaging event that celebrates Singapore’s vibrant theatre scene\, as well as Little SIFA\, an all-new programming pillar dedicated to families and children. Examples of these highlights include:  \n\nMoby Dick by Norwegian director\, actress\, puppet-maker\, and artistic director of Plexus Polaire\, Yngvild Aspeli\, presents a 90-minute live adaptation of Herman Melville’s mythical work about an ancient white whale. Performed by a cast of seven actors\, fifty puppets\, and video projections\, the work employs filmic techniques\, captivating puppetry\, and clever stagecraft to manipulate the audience’s perspective.\nSUARA / Oro Rua by Singapore music artist Safuan Johari and Māori Choreographer Eddie Elliot features original compositions\, choral singers\, and New Zealand dance artists to imagine a post-Anthropocene future.\nSingapore theatre-makers Haresh Sharma and Chong Tze Chien’s The Prose and the Passion is a play where fictional characters from English novelist E. M. Forster’s novels traverse space and time and interact with characters from Sharma’s imagination. \nFirst showcased at the 2019 Venice Biennale\, internationally-acclaimed award-winning experiential opera performance Sun & Sea by Rugilė Barzdžiukaitė\, Vaiva Grainytė\, Lina Lapelytė\, will make its Singapore debut at SIFA 2024. An ecological work at its very core\, the work takes the form of an imitation beach indoors where its lounging performers sing about mundane existence\, worry\, and boredom\, darkly remarking on the Earth’s decline.\nTransforming Stamford Arts Centre into a sandbox of works-in-process\, Tomorrow and tomorrow is an extraordinary opportunity to witness the diverse practices of local theatre groups on a single platform\, opening up vistas for future presentations while unearthing Singapore’s fertile ground for contemporary theatre-making.\nAs part of Little SIFA\, The Dancer’s Fair beckons audiences of all ages to Cathay Green\, where a larger-than-life ballerina and an old-style fair comprising seven fascinating machines await. Catch Leonardo! A Wonderful Show About A Terrible Monster\, where Mo Willems’ books are brought to life with hundreds of illustrated paper puppets\, book pages\, two-dimensional props\, furry monster puppets and songs.\nSIFA’s online presence continues with the light gleams an instant\, a 9-minute experimental short film helmed by film artist Natalie Soh in collaboration with Lee Kong Chian Natural History Museum and Yong Siew Toh Conservatory of Music that responds to the museum’s collections of specimens\, exploring the recursive and decaying nature of memory and meaning-making.\n\nSIFA 2024 is commissioned by the National Arts Council and organised by the Arts House Limited.
URL:https://artsequator.com/event/sifa-2024-the-anatomy-of-performance-they-declare/
CATEGORIES:Children/Family (Events),Festival (Events),Theatre (Events)
ATTACH;FMTTYPE=image/jpeg:https://artsequator.s3.ap-southeast-1.amazonaws.com/2024/02/Key-Visual-Landscape-Singapore-International-Festival-of-Arts-2024-Image-courtesy-of-Arts-House-Limited.jpg
END:VEVENT
BEGIN:VEVENT
DTSTART;TZID=Asia/Shanghai:20240127T120000
DTEND;TZID=Asia/Shanghai:20240127T233000
DTSTAMP:20260423T013122
CREATED:20231121T075703Z
LAST-MODIFIED:20231121T075703Z
UID:92772-1706356800-1706398200@artsequator.com
SUMMARY:Aliwal Urban Art Festival 2024
DESCRIPTION:Join us in celebrating the 10th year anniversary of Aliwal Urban Art Festival (AUAF) this 27 January 2024 at the Aliwal Arts Centre! Organised by Arts House Limited during the last weekend of Singapore Art Week 2024\, visitors can expect to be immersed in Singapore’s vibrant urban arts and culture scene through a series of exciting activities led by various renowned local urban arts groups and communities of different artistic practices. From interactive activities like silk screen painting\, and family-friendly dance workshops\, to engaging showcases like a live graffiti competition\, on top of open studio sessions\, performances and more\, AUAF invites all to enjoy an eclectic array of free and ticketed unique art-ivities at the heart of the vibrant cultural enclave.  \n  \nIn conjunction with the 10th year of Rebel Daughters and Grafffight!\, urban art collective RSCLS presents a new programme titled ‘10 years of SOLIDARITY MOVEMENT’ where visitors will get deeply acquainted with the street art culture and the homegrown graffiti and street art scene. For visitors who prefer to move and groove\, an array of dance and music workshops by The Improv Co.\, DASSAD\, and Nine Years Theatre await\, allowing anyone and everyone to learn the ways of expressing themselves through music and movement.  \n  \nAlternatively\, visitors can feast their eyes on entrancing roving performances by renowned Malay drum ensemble NADI Singapura\, Chowk Productions\, 4 R&B\, and dynamic street dance duo ScRach MarcS\, or get up-close-and-personal with the respective art groups at their available open studios. Visitors who enjoy the thrill of finding unexpected\, quaint treasures\, can also check out the Arts Market which will feature one-of-a-kind crafts from several urban creatives.  
URL:https://artsequator.com/event/aliwal-urban-art-festival-2024/
LOCATION:Aliwal Arts Centre\, Multi-purpose Hall\, 28 Aliwal st\, \, Singapore\, 199918\, Singapore
ATTACH;FMTTYPE=image/png:https://artsequator.s3.ap-southeast-1.amazonaws.com/2023/11/AUAF24-KV-1080px-HAK-2.png
GEO:1.3026755;103.8610119
X-APPLE-STRUCTURED-LOCATION;VALUE=URI;X-ADDRESS=Aliwal Arts Centre Multi-purpose Hall 28 Aliwal st  Singapore 199918 Singapore;X-APPLE-RADIUS=500;X-TITLE=28 Aliwal st\,:geo:103.8610119,1.3026755
END:VEVENT
BEGIN:VEVENT
DTSTART;TZID=Asia/Shanghai:20230825T170000
DTEND;TZID=Asia/Shanghai:20230826T230000
DTSTAMP:20260423T013122
CREATED:20230719T044421Z
LAST-MODIFIED:20230719T044421Z
UID:91181-1692982800-1693090800@artsequator.com
SUMMARY:A Date with Tradition 2023
DESCRIPTION:Returning for its second edition\, Arts House Limited (AHL) presents A Date with Tradition 2023 from 25 to 26 August at Stamford Arts Centre (SAC). Look forward to two evenings of captivating performances\, hands-on activities\, and artist showcases by local traditional art groups showcasing the beauty and richness of our traditional arts. \nSAC will come to life with a variety of free multicultural activities for one and all. Delve into traditional art forms with Nanyang Explored! by Amazing Art Shuttle and learn to paint with special Chinese ink watercolour brushes inspired by the Nanyang style and a Community Batik Project by Kamal Arts that invites visitors to contribute in a collaborative batik piece. Immerse yourself in the exciting cross-cultural live performance of Kedai Sinseh that combines traditional Malay dance and Chinese music and discover the Korean traditional art of Minhwa through exhibitions and artist meet and greet sessions. Don’t miss this opportunity to take home a piece of tradition with you! \nFor more information\, visit https://artshouselimited.sg/sac
URL:https://artsequator.com/event/a-date-with-tradition-2023/
LOCATION:Stamford Arts Centre\, 0202\, 155 Waterloo Street\, Singapore\, Singapore\, 187962\, Singapore
CATEGORIES:Children/Family (Events),Visual Arts (Events)
ATTACH;FMTTYPE=image/png:https://artsequator.s3.ap-southeast-1.amazonaws.com/2023/07/SAC-ADWT2023-1920x1080px-websiteCarousel-2.png
END:VEVENT
BEGIN:VEVENT
DTSTART;VALUE=DATE:20230426
DTEND;VALUE=DATE:20230614
DTSTAMP:20260423T013122
CREATED:20230523T030719Z
LAST-MODIFIED:20230523T030719Z
UID:90626-1682467200-1686700799@artsequator.com
SUMMARY:Golden Point Award 2023
DESCRIPTION:Singapore’s only multi-lingual writing competition is back! Whether you are a writer by profession or hobby\, we welcome you to showcase your writing talents.  \nGolden Point Award offers the short story and poetry categories in Singapore’s four official languages. To celebrate 30 years of discovering talented new writers\, the competition introduces a new category – Translation: Short Story (English). Don’t miss the opportunity to submit your work and stand a chance to win the grand prize of $6\,000 cash and a mentorship experience!  \nOnline submissions are open from 25 April till 13 June 2023\, 6:00 pm (SGT)   \nFor more information\, visit www.artshouselimited.sg/gpa 
URL:https://artsequator.com/event/golden-point-award-2023/
LOCATION:Online
CATEGORIES:Competition,Literary Events/Talks (Events)
ATTACH;FMTTYPE=image/png:https://artsequator.s3.ap-southeast-1.amazonaws.com/2023/05/GPA2023-1920x1080px-Website-Carousel-1.png
END:VEVENT
BEGIN:VEVENT
DTSTART;TZID=Asia/Shanghai:20230114T120000
DTEND;TZID=Asia/Shanghai:20230114T230000
DTSTAMP:20260423T013122
CREATED:20221222T061906Z
LAST-MODIFIED:20230106T045748Z
UID:88927-1673697600-1673737200@artsequator.com
SUMMARY:Aliwal Urban Art Festival 2023
DESCRIPTION:Aliwal Urban Art Festival (AUAF) makes its return on 14 January 2023 for its seventh edition at the Aliwal Arts Centre (AAC)! Taking place on the last weekend of Singapore Art Week 2023\, the Festival will showcase Singapore’s vibrant urban culture scene and feature renowned local artists from different urban art practices in an exciting array of free activities such as live graffiti painting\, music and dance performances\, and a pop-up artists’ market in the heart of Kampong Gelam. \n12 prominent urban artists\, ANTZ\, BONY\, Demster\, nuriman\, KILAS\, PHATNOEZ\, SAM LO\, SPAZ\, SPEAK CRYPTIC\, TraseOne\, TUYULOVEME\, and Boon Baked will exercise their artistic prowess for FLIPSIDE\, an exhibition where they are challenged to create in the tabula scalata format – presenting two images within a singular canvas.  \nVisitors can also look forward to  two Live Graffiti Painting showcases from  Has.J and Titan Aerosol Crew\, and for those looking to move and groove to urban dance and music\, David Siow of Steady State Records will present a line-up of independent bands and artists of various music genres\, from math rock band\, woes\, to feel-good R&B band\, Astronauts\, featuring Thai artist Lukpeach whom they have an upcoming collaboration with. \nFor more information on Aliwal Urban Art Festival 2023\, please visit https://artshouselimited.sg/aac-auaf-2023 or follow The Arts House on Facebook and Instagram. 
URL:https://artsequator.com/event/aliwal-urban-art-festival-2023/
LOCATION:Aliwal Arts Centre\, Multi-purpose Hall\, 28 Aliwal st\, \, Singapore\, 199918\, Singapore
CATEGORIES:Festival (Events)
ATTACH;FMTTYPE=image/png:https://artsequator.s3.ap-southeast-1.amazonaws.com/2022/12/1720x624_PR-3.png
GEO:1.3026755;103.8610119
X-APPLE-STRUCTURED-LOCATION;VALUE=URI;X-ADDRESS=Aliwal Arts Centre Multi-purpose Hall 28 Aliwal st  Singapore 199918 Singapore;X-APPLE-RADIUS=500;X-TITLE=28 Aliwal st\,:geo:103.8610119,1.3026755
END:VEVENT
BEGIN:VEVENT
DTSTART;TZID=Asia/Shanghai:20230106T100000
DTEND;TZID=Asia/Shanghai:20230115T220000
DTSTAMP:20260423T013122
CREATED:20221220T093051Z
LAST-MODIFIED:20230106T051216Z
UID:88924-1672999200-1673820000@artsequator.com
SUMMARY:Textures 2023: Arrived Home
DESCRIPTION:After two years of touring the heartlands\, Textures 2023 returns to The Arts House for Arrived Home\, the third edition of the Singapore Literature (SingLit) festival organised by Arts House Limited and curated by multi-disciplinary artist Jason Wee. With over 30 engaging programmes that highlight renowned local writers and their literary works\, we invite you to explore and question ideas of domesticity and belonging. What is it like to return to a home that is different from the one we began? How have we changed since our journeys away? What kinds of people and families do we think of when it comes to home? \nJoin us at The Arts House from 6 – 15 Jan 2023 to experience local literature in fun and accessible ways!
URL:https://artsequator.com/event/textures-2023-arrived-home/
LOCATION:The Arts House\, 1 Old Parliament Lane\, Singapore\, Singapore
CATEGORIES:Festival (Events)
GEO:1.288558;103.851072
X-APPLE-STRUCTURED-LOCATION;VALUE=URI;X-ADDRESS=The Arts House 1 Old Parliament Lane Singapore Singapore;X-APPLE-RADIUS=500;X-TITLE=1 Old Parliament Lane:geo:103.851072,1.288558
END:VEVENT
BEGIN:VEVENT
DTSTART;TZID=Asia/Shanghai:20230106T100000
DTEND;TZID=Asia/Shanghai:20230115T220000
DTSTAMP:20260423T013122
CREATED:20221220T093038Z
LAST-MODIFIED:20230106T060930Z
UID:88922-1672999200-1673820000@artsequator.com
SUMMARY:Textures 2023: Arrived Home
DESCRIPTION:After two years of touring the heartlands\, Textures 2023 returns to The Arts House for Arrived Home\, the third edition of the Singapore Literature (SingLit) festival organised by Arts House Limited and curated by multi-disciplinary artist Jason Wee. With over 30 engaging programmes that highlight renowned local writers and their literary works\, we invite you to explore and question ideas of domesticity and belonging. What is it like to return to a home that is different from the one we began? How have we changed since our journeys away? What kinds of people and families do we think of when it comes to home? \nJoin us at The Arts House from 6 – 15 Jan 2023 to experience local literature in fun and accessible ways!
URL:https://artsequator.com/event/textures-2023-arrived-home-2/
LOCATION:The Arts House\, 1 Old Parliament Lane\, Singapore\, Singapore
CATEGORIES:Festival (Events)
ATTACH;FMTTYPE=image/png:https://artsequator.s3.ap-southeast-1.amazonaws.com/2022/12/TexturesKV-1920x1080-1.png
GEO:1.288558;103.851072
X-APPLE-STRUCTURED-LOCATION;VALUE=URI;X-ADDRESS=The Arts House 1 Old Parliament Lane Singapore Singapore;X-APPLE-RADIUS=500;X-TITLE=1 Old Parliament Lane:geo:103.851072,1.288558
END:VEVENT
BEGIN:VEVENT
DTSTART;TZID=Asia/Shanghai:20230106T080000
DTEND;TZID=Asia/Shanghai:20230115T200000
DTSTAMP:20260423T013122
CREATED:20221216T065418Z
LAST-MODIFIED:20221216T065418Z
UID:88602-1672992000-1673812800@artsequator.com
SUMMARY:Textures 2023
DESCRIPTION:Organised by Arts House Limited\, Textures\, the annual literary festival that celebrates Singapore literature (SingLit) makes its comeback from 6 – 15 January 2023\, in conjunction with the Light to Night (L2N) Festival and as part of the Singapore Art Week (SAW). After two years of bringing local literary arts to the heartlands\, Textures 2023 returns home to where it first began\, celebrating the nation’s diverse literary scene at the home of Singapore’s literary arts\, The Arts House (TAH).  \n  \nCurated by critically-acclaimed\, multi-disciplinary artist Jason Wee for a third consecutive year\, and with the theme aptly titled Arrived Home\, the 2023 edition invites audiences to explore and question ideas of domesticity and belonging with programmes that highlight renowned local writers and their literary works. Head down to TAH to experience a wide range of literary art programmes from dramatised readings to multidisciplinary performances\, installations\, a pop-up bookstore\, and many more! \n  \nFollow #Textures2023 #ArrivedHome on: \nFacebook: https://www.facebook.com/theartshouse \nInstagram: https://www.instagram.com/theartshouse
URL:https://artsequator.com/event/textures-2023/
LOCATION:The Arts House\, 1 Old Parliament Lane\, Singapore\, Singapore
CATEGORIES:Festival (Events),Literary Events/Talks (Events)
ATTACH;FMTTYPE=image/png:https://artsequator.s3.ap-southeast-1.amazonaws.com/2022/12/Textures-2023-Key-Visual-Landscape.png
GEO:1.288558;103.851072
X-APPLE-STRUCTURED-LOCATION;VALUE=URI;X-ADDRESS=The Arts House 1 Old Parliament Lane Singapore Singapore;X-APPLE-RADIUS=500;X-TITLE=1 Old Parliament Lane:geo:103.851072,1.288558
END:VEVENT
BEGIN:VEVENT
DTSTART;VALUE=DATE:20221104
DTEND;VALUE=DATE:20221121
DTSTAMP:20260423T013122
CREATED:20220929T075133Z
LAST-MODIFIED:20220929T075133Z
UID:85532-1667520000-1668988799@artsequator.com
SUMMARY:Singapore Writers Festival 2022
DESCRIPTION:Singapore Writers Festival\, the premier multi-lingual literary arts festival in Singapore\, celebrates its 25th edition this year and returns from 4 to 20 November 2022 in full force since the pandemic. \nWith more than 200 programmes over three festival weekends\, from festival favourites to unexpected new offerings\, there is something for everyone – children\, youth to adults – with this year’s exciting line-up of immersive experiences\, exhibitions\, performances\, film screenings\, meet-the-author sessions and panel discussions. \nEarly Bird Sales are available from now till 14 October 2022\, 11.59pm!
URL:https://artsequator.com/event/singapore-writers-festival-2022/
LOCATION:The Arts House\, 1 Old Parliament Lane\, Singapore\, Singapore
CATEGORIES:Festival (Events),Literary Events/Talks (Events)
ATTACH;FMTTYPE=image/jpeg:https://artsequator.s3.ap-southeast-1.amazonaws.com/2022/09/Singapore-Writers-Festival-2022-Key-Visual-Landscape-Credits-to-Arts-House-Limited.jpg
GEO:1.288558;103.851072
X-APPLE-STRUCTURED-LOCATION;VALUE=URI;X-ADDRESS=The Arts House 1 Old Parliament Lane Singapore Singapore;X-APPLE-RADIUS=500;X-TITLE=1 Old Parliament Lane:geo:103.851072,1.288558
END:VEVENT
BEGIN:VEVENT
DTSTART;TZID=Asia/Shanghai:20220928T120000
DTEND;TZID=Asia/Shanghai:20221002T200000
DTSTAMP:20260423T013122
CREATED:20220929T075113Z
LAST-MODIFIED:20220929T075113Z
UID:85676-1664366400-1664740800@artsequator.com
SUMMARY:OFF THE BLOCKS!!!
DESCRIPTION:Organised by Arts House Limited and held at Aliwal Arts Centre in conjunction with Glamboyant\, OFF THE BLOCKS!!! looks into the narratives and practice of artists and creatives as they look into their identities intertwined with the notion of the street. It explores their connection to their urban space and how it has shaped their existence\, personalities\, ideals and aspirations. The term ‘street’ in this instance not only represents a physical space\, but also a mental\, emotional and creative space. It showcases the roots of their agency\, their intrinsic need to uphold\, advocate and stay true to their voices no matter how muffled and obstructed it may be. How did we start? Where do we go from here? \nThe exhibition will showcase multidisciplinary works both old and new from artists/creatives representing various overlapping sub-culture identities in Singapore\, and will include curatorial tours and a live painting showcase by emerging artists. \nFeatured Artists: ANTZ\, ATOMICK\, BAKED\, CRANKARMSTEADY\, DEMSTER\, HAS.J\, KILAS\, KROME\, MONO X SCAM\, NIC.K\, PHATNOEZ\, SHEN\, SEI\, SLACSATU\, SPAZ\, Syco03\, AshD\, TRASEONE\, SONG\, RAY (Badabink)\, ZERO \nFollow #OffTheBlocks at: \nInstagram: https://www.instagram.com/aliwalartscentre/  \nFacebook: https://www.facebook.com/AliwalArtsCentre 
URL:https://artsequator.com/event/off-the-blocks-2/
LOCATION:28 Aliwal St\, Singapore 199918\, 28 Aliwal St\, Singapore 199918\, Singapore\, 199918\, Singapore
CATEGORIES:Visual Arts (Events)
ATTACH;FMTTYPE=image/png:https://artsequator.s3.ap-southeast-1.amazonaws.com/2022/09/Website-Visual-for-media1920x1080.png
GEO:1.3027035;103.8609818
X-APPLE-STRUCTURED-LOCATION;VALUE=URI;X-ADDRESS=28 Aliwal St Singapore 199918 28 Aliwal St Singapore 199918 Singapore 199918 Singapore;X-APPLE-RADIUS=500;X-TITLE=28 Aliwal St\, Singapore 199918:geo:103.8609818,1.3027035
END:VEVENT
BEGIN:VEVENT
DTSTART;VALUE=DATE:20220928
DTEND;VALUE=DATE:20221003
DTSTAMP:20260423T013122
CREATED:20220926T015315Z
LAST-MODIFIED:20220927T082448Z
UID:85680-1664323200-1664755199@artsequator.com
SUMMARY:OFF THE BLOCKS!!!
DESCRIPTION:Aliwal Arts Centre presents OFF THE BLOCKS!!!\, a multidisciplinary exhibition which looks at how 21 different artists examine their identities\, intertwined with the notion of the street – their connection to their urban space and how it has shaped their existence\, personalities\, ideals and aspirations. \nFeaturing: ANTZ\, ATOMICK\, BAKED\, CRANKARMSTEADY\, DEMSTER\, HAS.J\, KILAS\, KROME\, MONO X SCAM\, NIC.K\, PHATNOEZ\, SHEN\, SEI\, SLACSATU\, SPAZ\, Syco03\, AshD\, TRASEONE\, SONG\, RAY (Badabink)\, ZERO. \nJoin us for a showcase of old and new works from artists/creatives representing various overlapping subculture identities in Singapore. \nEvent is free and will run from 28 Sep – 2 Oct\, be sure not to miss it! \nVisit our website here or head to our social media pages on instagram and facebook to find out more.
URL:https://artsequator.com/event/off-the-blocks/
LOCATION:Aliwal Arts Centre\, Multi-purpose Hall\, 28 Aliwal st\, \, Singapore\, 199918\, Singapore
CATEGORIES:Visual Arts (Events)
ATTACH;FMTTYPE=image/png:https://artsequator.s3.ap-southeast-1.amazonaws.com/2022/09/Website-slider-1920x1080-with-logo.png
GEO:1.3026755;103.8610119
X-APPLE-STRUCTURED-LOCATION;VALUE=URI;X-ADDRESS=Aliwal Arts Centre Multi-purpose Hall 28 Aliwal st  Singapore 199918 Singapore;X-APPLE-RADIUS=500;X-TITLE=28 Aliwal st\,:geo:103.8610119,1.3026755
END:VEVENT
BEGIN:VEVENT
DTSTART;TZID=Asia/Shanghai:20220819T193000
DTEND;TZID=Asia/Shanghai:20220819T213000
DTSTAMP:20260423T013122
CREATED:20220813T014819Z
LAST-MODIFIED:20220813T014819Z
UID:84037-1660937400-1660944600@artsequator.com
SUMMARY:StoryFest 2022: Story Threads - The Singapore Showcase at The Arts House
DESCRIPTION:Presented by The Storytelling Centre Limited and Arts House Limited (AHL)\, StoryFest 2022 is back this August for its 2022 edition. The annual storytelling festival includes the festival commission\, Story Threads: The Singapore Showcase. Listen to six storytellers from varied backgrounds captivate audiences with tales of love\, loss\, legend\, and lore during in-person storytelling sessions. The Singapore Showcase alumni Verena Tay\, Stephanie Dogfoot\, Hafiz Rashid\, and Melizarani T. Selva will be joined by newcomers Daryl Qilin Yam and Wesley Leon Aroozoo to perform a tapestry of six distinct tales that delve into how we find our way through complex relationships with the world\, whether tangible or otherwise.   \n  \nFor tickets and more information\, visit https://storythreads.peatix.com/   \n  \nFollow #storyfestsg at:  \nWebsite: https://storyfestsg.com/2022   \nFacebook: https://www.facebook.com/storyfestsg   \nInstagram: https://www.instagram.com/storyfestsg/   \nYouTube: https://www.youtube.com/StoryFestSingapore  
URL:https://artsequator.com/event/storyfest-2022-story-threads-the-singapore-showcase-at-the-arts-house/2022-08-19/
LOCATION:The Arts House\, 1 Old Parliament Lane\, Singapore\, Singapore
CATEGORIES:Festival (Events),Literary Events/Talks (Events)
ATTACH;FMTTYPE=image/jpeg:https://artsequator.s3.ap-southeast-1.amazonaws.com/2022/08/story-threads-2.jpg
GEO:1.288558;103.851072
X-APPLE-STRUCTURED-LOCATION;VALUE=URI;X-ADDRESS=The Arts House 1 Old Parliament Lane Singapore Singapore;X-APPLE-RADIUS=500;X-TITLE=1 Old Parliament Lane:geo:103.851072,1.288558
END:VEVENT
END:VCALENDAR