BEGIN:VCALENDAR
VERSION:2.0
PRODID:-//ArtsEquator - ECPv5.16.3.1//NONSGML v1.0//EN
CALSCALE:GREGORIAN
METHOD:PUBLISH
X-ORIGINAL-URL:https://artsequator.com
X-WR-CALDESC:Events for ArtsEquator
REFRESH-INTERVAL;VALUE=DURATION:PT1H
X-Robots-Tag:noindex
X-PUBLISHED-TTL:PT1H
BEGIN:VTIMEZONE
TZID:Asia/Shanghai
BEGIN:STANDARD
TZOFFSETFROM:+0800
TZOFFSETTO:+0800
TZNAME:CST
DTSTART:20230101T000000
END:STANDARD
END:VTIMEZONE
BEGIN:VEVENT
DTSTART;VALUE=DATE:20230930
DTEND;VALUE=DATE:20231201
DTSTAMP:20260421T030645
CREATED:20231024T152958Z
LAST-MODIFIED:20231024T152958Z
UID:92464-1696032000-1701388799@artsequator.com
SUMMARY:Podcast: Stories of the Un(forgotten) – Landmarks
DESCRIPTION:Can landmarks be forgotten?  \nMany landmarks have graced Singapore’s soil and skyline\, but as they make way in the name of development\, their stories slowly fade away with the passage of time.  \nEnter Stories of the Un(forgotten) – Landmarks\, a dramatized Podcast by Emerging Playwright gongxin. Through weaving historical facts\, anecdotal interviews and a rich\, lush\, immersive soundscape\, Playwright gongxin brings together Wind\, Moon\, Bird\, Rain and Tree in this nostalgic series.  \nPlug in to these stories and memories of the forgotten landmarks\, and un-forget them with every episode. \n 
URL:https://artsequator.com/event/podcast-stories-of-the-unforgotten-landmarks/
LOCATION:Online
CATEGORIES:Other (Events),Theatre (Events)
ATTACH;FMTTYPE=image/jpeg:https://artsequator.s3.ap-southeast-1.amazonaws.com/2023/09/SOTUL_LANDSCAPE-QR.jpg
ORGANIZER;CN="The%20Solitude%20Movement":MAILTO:outreach@thesolitudemovement.com
END:VEVENT
BEGIN:VEVENT
DTSTART;TZID=Asia/Shanghai:20231016T120000
DTEND;TZID=Asia/Shanghai:20231031T120000
DTSTAMP:20260421T030645
CREATED:20231024T145520Z
LAST-MODIFIED:20231024T145520Z
UID:92602-1697457600-1698753600@artsequator.com
SUMMARY:Open Call - Sound Plot: True/South\, A Collection of Audio Plays
DESCRIPTION:As part of Singapore Art Week 2024\, the Singapore Art Museum and Centre 42 are commissioning and producing a collection of original audio plays written in response to the geographical area of Tanjong Pagar/Pasir Panjang where the museum currently resides. \nThis is an invitation for two writers to respond through audio drama to this fascinating area\, guided by the curatorial prompt “True/South”. Selected writers will need to be available for an intensive script development phase in November 2023\, and will work with a director during the recording and production process in December 2023. Audio production is done in collaboration with Artwave Studio. \nFrom 19 – 28 Jan 2024\, the Singapore Art Museum will host these audio plays in their premises. Each play will have an audio spot installation inviting visitors to plug in to a world of audio drama\, connecting their physical site to imagined fictions and histories of adjacent sites. \nThis is a paid opportunity\, and commissioned writers will receive $1\,000 each.
URL:https://artsequator.com/event/open-call-sound-plot-true-south-a-collection-of-audio-plays/
LOCATION:42 Waterloo St\, 42 Waterloo St\, 187951\, Singapore
CATEGORIES:Artist Opportunities,Theatre (Events)
ORGANIZER;CN="Centre%2042":MAILTO:info@centre42.sg
GEO:1.2984662;103.8507241
X-APPLE-STRUCTURED-LOCATION;VALUE=URI;X-ADDRESS=42 Waterloo St 42 Waterloo St 187951 Singapore;X-APPLE-RADIUS=500;X-TITLE=42 Waterloo St:geo:103.8507241,1.2984662
END:VEVENT
BEGIN:VEVENT
DTSTART;TZID=Asia/Shanghai:20231019T200000
DTEND;TZID=Asia/Shanghai:20231021T210000
DTSTAMP:20260421T030645
CREATED:20231005T114716Z
LAST-MODIFIED:20231005T114716Z
UID:92508-1697745600-1697922000@artsequator.com
SUMMARY:Shadows of The Black Cat
DESCRIPTION:Shadows of The Black Cat \nA haunting dance theatre performance\, combining text\, movement\, and dance\, exploring themes of guilt\, madness\, and the subconscious. Presented by The Kaizen M.D. (Multidisciplinary) Collective. Supported by National Arts Council and Arts Fund. \nImmerse yourself in the dark and mysterious world of ‘Shadows of The Black Cat.’ Inspired by Edgar Allan Poe‘s chilling tale\, this mesmerizing dance theatre performance\, scripted by Adib Kosnan and directed by Norisham Osman\, blends text\, movement\, and dance forms. Guided by a haunting narrator\, two captivating dancers bring to life the tormented protagonist’s descent into madness. Explore themes of guilt\, madness\, and the power of the subconscious in this thought-provoking exploration of the human psyche. Prepare to be captivated as ‘Shadows of The Black Cat‘ blurs the lines between reality and the ethereal\, leaving an indelible impression long after the final bow.”
URL:https://artsequator.com/event/shadows-of-the-black-cat/
LOCATION:Goodman Arts Centre\, 90 Goodman Road\, Block O\, Singapore\, Singapore 439053\, Singapore
CATEGORIES:Theatre (Events)
ATTACH;FMTTYPE=image/jpeg:https://artsequator.s3.ap-southeast-1.amazonaws.com/2023/10/SOTBC-POSTER-4.jpg
ORGANIZER;CN="The%20Kaizen%20M.D.%20%28Multidisciplinary%29%20Collective":MAILTO:thekaizenmd@gmail.com
GEO:1.30444;103.885325
X-APPLE-STRUCTURED-LOCATION;VALUE=URI;X-ADDRESS=Goodman Arts Centre 90 Goodman Road Block O Singapore Singapore 439053 Singapore;X-APPLE-RADIUS=500;X-TITLE=90 Goodman Road\, Block O:geo:103.885325,1.30444
END:VEVENT
END:VCALENDAR