BEGIN:VCALENDAR
VERSION:2.0
PRODID:-//ArtsEquator - ECPv5.16.3.1//NONSGML v1.0//EN
CALSCALE:GREGORIAN
METHOD:PUBLISH
X-WR-CALNAME:ArtsEquator
X-ORIGINAL-URL:https://artsequator.com
X-WR-CALDESC:Events for ArtsEquator
REFRESH-INTERVAL;VALUE=DURATION:PT1H
X-Robots-Tag:noindex
X-PUBLISHED-TTL:PT1H
BEGIN:VTIMEZONE
TZID:Asia/Shanghai
BEGIN:STANDARD
TZOFFSETFROM:+0800
TZOFFSETTO:+0800
TZNAME:CST
DTSTART:20230101T000000
END:STANDARD
END:VTIMEZONE
BEGIN:VEVENT
DTSTART;TZID=Asia/Shanghai:20230527T100000
DTEND;TZID=Asia/Shanghai:20230805T140000
DTSTAMP:20260421T061840
CREATED:20230410T074359Z
LAST-MODIFIED:20230412T020128Z
UID:89794-1685181600-1691244000@artsequator.com
SUMMARY:Paper Monkey Theatre's Puppetry Masterclass
DESCRIPTION:Paper Monkey Theatre has been conducting puppetry Masterclass annually for practitioners\, in hopes to inspire and also create an entry point for more to take on the art form. \nThis year\, the focus will be on Object Puppetry.\nInterested applicants may send in your CV and letter of interest to us at admin@papermonkey.com.sg
URL:https://artsequator.com/event/paper-monkey-theatres-puppetry-masterclass/
LOCATION:Paper Monkey Theatre\, 90 Goodman Road\, Goodman Arts Centre\, Blk B\, #01-05\, Singapore\, Singapore\, S439053\, Singapore
CATEGORIES:Theatre (Events),Workshop & Talks (Events)
ATTACH;FMTTYPE=image/jpeg:https://artsequator.s3.ap-southeast-1.amazonaws.com/2023/04/PMT-MC-2023-IG-Story.jpg
ORGANIZER;CN="Paper%20Monkey%20Theatre":MAILTO:megan@papermonkey.com.sg
GEO:1.302993;103.8852073
X-APPLE-STRUCTURED-LOCATION;VALUE=URI;X-ADDRESS=Paper Monkey Theatre 90 Goodman Road Goodman Arts Centre Blk B #01-05 Singapore Singapore S439053 Singapore;X-APPLE-RADIUS=500;X-TITLE=90 Goodman Road\, Goodman Arts Centre\, Blk B\, #01-05:geo:103.8852073,1.302993
END:VEVENT
BEGIN:VEVENT
DTSTART;VALUE=DATE:20230630
DTEND;VALUE=DATE:20230703
DTSTAMP:20260421T061840
CREATED:20230419T092240Z
LAST-MODIFIED:20230419T093142Z
UID:89920-1688083200-1688342399@artsequator.com
SUMMARY:Theatre Arts Conference 2023 - Rooting Deep\, Branching Wide: Strengthening Practices and Expanding Possibilities
DESCRIPTION:Creatives\, by nature\, observe\, raise questions\, stimulate thought\, and develop agency. As we dig our roots deeper to find meaning in our current contexts\, practices\, and environments\, we branch wide to explore new ways of doing and ways of being in an increasingly complex world. Themed Rooting Deep\, Branching Wide – Strengthening Practices and Expanding Possibilities\, we aim to examine these current and evolving ways\, especially within the realms of education\, community\, and performance. \nArtists\, educators\, practitioners\, and researchers will be presenting a diverse range of presentations\, workshops\, keynotes\, and masterclasses through the lenses of Practices & Pedagogies\, Spaces & Places\, and Causes & Communities. \nTaking place from 30th June to 2nd July 2023\, the SDEA Theatre Arts Conference will be conducted both on and offline so you can join us whether you’re in Singapore or across the world. \nFor further enquiries\, please reach out to conference@sdea.org.sg
URL:https://artsequator.com/event/theatre-arts-conference-2023-rooting-deep-branching-wide-strengthening-practices-and-expanding-possibilities/
LOCATION:Nanyang Academy of Fine Arts Campus 3\, 151 Bencoolen Street Singapore 189656\, Singapore\, Singapore
CATEGORIES:Theatre (Events),Workshop & Talks (Events)
ATTACH;FMTTYPE=image/jpeg:https://artsequator.s3.ap-southeast-1.amazonaws.com/2023/04/SDEA-1920x1080px-4Apr.jpg
ORGANIZER;CN="Singapore%20Drama%20Educators%20Association":MAILTO:projects@sdea.org.sg
GEO:1.3012561;103.8517882
X-APPLE-STRUCTURED-LOCATION;VALUE=URI;X-ADDRESS=Nanyang Academy of Fine Arts Campus 3 151 Bencoolen Street Singapore 189656 Singapore Singapore;X-APPLE-RADIUS=500;X-TITLE=151 Bencoolen Street Singapore 189656:geo:103.8517882,1.3012561
END:VEVENT
BEGIN:VEVENT
DTSTART;TZID=Asia/Shanghai:20230701T160000
DTEND;TZID=Asia/Shanghai:20230701T230000
DTSTAMP:20260421T061840
CREATED:20230526T061525Z
LAST-MODIFIED:20230530T014202Z
UID:90659-1688227200-1688252400@artsequator.com
SUMMARY:Anything & Anyone
DESCRIPTION:Celebrate queer joy with us and join us for original drag\, theatre\, spoken word performances and more! \nAs queers\, society limits us to the margins: but we’re here to show you that you can be anything and anyone\, if only you dream it. Featuring gender as nasi padang\, a lifelong Aishwarya Rai stan\, stand-up in drag\, Nusantaran Punk\, and SO MUCH MORE 🌈 Dabble in dance\, thrive with theatre\, surrender to spoken word\, discover drag\, challenge comedy\, manifest with music: come one\, come all! This is your space to sculpt selves into being and living fully. \nPresenting: Dia Hakim\, Earth Na Khaa\, Rajkumar Thiagaras\, Polloycious\, Sharul Mohd\, Max Pasakorn\, Shh… Diam! \nAnything & Anyone is a celebration of queer\, brown joy. Spanning multiple disciplines (drag\, theatre\, music\, spoken word\, dance\, stand-up)\, our creative icons show us how art is necessary for joy\, and vice-versa. \ndink is an open-mic night that has been running since 2012. We are a space for artists across all mediums to experiment and fail (because you need to make mistakes and grow as an artist\, always!) You can find us on Instagram and on Facebook. In 2018\, we introduced special Pride editions: but you’ve never seen multicolour vomit like this!\n\ndink: Anything & Anyone is an Official Festival Partner for Pinkfest 2023.
URL:https://artsequator.com/event/anything-anyone/
LOCATION:The Projector Golden Mile\, 6001 Beach Rd\, #05-00 GOLDEN MILE TOWER\, Singapore\, 199589\, Singapore
CATEGORIES:Dance (Events),Literary Events/Talks (Events),Music (Events),Theatre (Events),Visual Arts (Events)
ATTACH;FMTTYPE=image/png:https://artsequator.s3.ap-southeast-1.amazonaws.com/2023/05/ANYTHING-ANYONE-BANNER.png
ORGANIZER;CN="dink%20collective":MAILTO:dinkcollective@gmail.com
GEO:1.3019921;103.8642024
X-APPLE-STRUCTURED-LOCATION;VALUE=URI;X-ADDRESS=The Projector Golden Mile 6001 Beach Rd #05-00 GOLDEN MILE TOWER Singapore 199589 Singapore;X-APPLE-RADIUS=500;X-TITLE=6001 Beach Rd\, #05-00 GOLDEN MILE TOWER:geo:103.8642024,1.3019921
END:VEVENT
END:VCALENDAR