BEGIN:VCALENDAR
VERSION:2.0
PRODID:-//ArtsEquator - ECPv5.16.3.1//NONSGML v1.0//EN
CALSCALE:GREGORIAN
METHOD:PUBLISH
X-ORIGINAL-URL:https://artsequator.com
X-WR-CALDESC:Events for ArtsEquator
REFRESH-INTERVAL;VALUE=DURATION:PT1H
X-Robots-Tag:noindex
X-PUBLISHED-TTL:PT1H
BEGIN:VTIMEZONE
TZID:Asia/Shanghai
BEGIN:STANDARD
TZOFFSETFROM:+0800
TZOFFSETTO:+0800
TZNAME:CST
DTSTART:20230101T000000
END:STANDARD
END:VTIMEZONE
BEGIN:VEVENT
DTSTART;TZID=Asia/Shanghai:20230519T190000
DTEND;TZID=Asia/Shanghai:20230527T210000
DTSTAMP:20260421T113537
CREATED:20230517T131203Z
LAST-MODIFIED:20230517T131203Z
UID:90517-1684522800-1685221200@artsequator.com
SUMMARY:Wind Up Mice
DESCRIPTION:From Khmer playwright and director\, Samithi Sok\, comes his sophomore play\, Wind Up Mice\, an original and independent theatre production coming to Java Creative Café\, Phnom Penh. Co-directed by Marika Els.\nWind Up Mice follows Reagan and Chang\, a couple for whom the end is not the end. Trapped in a never-ending loop\, the fated pair find their relationship played out again and again across the entirety of time. Deeply intimate\, at times profound\, at times horrifying\, and above-all unflinchingly honest\, Wind Up Mice is an examination of free will\, resentment and toxicity\, and the undying power of love.\n\nDates: 19\, 20\, 26 and 27 May at 7 pm\, with an additional matinee at 1 pm on 27 May\nVenue: Java Creative Cafe Toul Tom Poung.\nTickets are now available through the link below:\nhttps://forms.gle/THvi8FLsvE2pts6H9
URL:https://artsequator.com/event/wind-up-mice/2023-05-19/
LOCATION:Java Creative Cafe Toul Tom Poung\, 53 Street 468\, Phnom Penh\, Phnom Penh\, Cambodia
CATEGORIES:Theatre (Events)
ATTACH;FMTTYPE=image/jpeg:https://artsequator.s3.ap-southeast-1.amazonaws.com/2023/05/Untitled4.jpg
ORGANIZER;CN="Wind%20Up%20Mice":MAILTO:mariekmeraai@gmail.com
GEO:11.5372331;104.9141546
X-APPLE-STRUCTURED-LOCATION;VALUE=URI;X-ADDRESS=Java Creative Cafe Toul Tom Poung 53 Street 468 Phnom Penh Phnom Penh Cambodia;X-APPLE-RADIUS=500;X-TITLE=53 Street 468:geo:104.9141546,11.5372331
END:VEVENT
BEGIN:VEVENT
DTSTART;TZID=Asia/Shanghai:20230526T190000
DTEND;TZID=Asia/Shanghai:20230527T190000
DTSTAMP:20260421T113537
CREATED:20230522T032731Z
LAST-MODIFIED:20230522T032731Z
UID:90590-1685127600-1685214000@artsequator.com
SUMMARY:SIFA 2023: LOVE DIVINE
DESCRIPTION:Date: 26 May Friday & 27 May Saturday\nTime: 7pm \nDuration: Durational\, free & easy\nVenue: CÉ LA VI\nTickets: $58 \nMinimum admission age of 18 years \nCÉ LA VI\, Singapore’s iconic club space pinnacling Marina Bay Sands sets the stage for LOVE DIVINE\, a SIFA X performance spectacle plunging us into the creative recesses of Singapore’s Queen of Burlesque\, SUKKI (formerly known as Sukki Singapora)\, Creative Director of CHILDREN OF VENUS a burlesque and vaudeville feast choreographed\, curated and sprinkled with SUKKI’s divine touch\, and the astonishing Daniel Kok and Luke George whose mind-blowing performance-installation STILL LIVES (Marina Bay) miraculously turns rope art into statements of care and social commentary. \nImage Courtesy of Arts House Limited\, Artwork for CHILDREN OF VENUS by Karolina Skorek
URL:https://artsequator.com/event/sifa-2023-love-divine/
LOCATION:CÉ LA VI\, CÉ LA VI\, Singapore\, Singapore
CATEGORIES:Dance (Events),Festival (Events),Theatre (Events)
ATTACH;FMTTYPE=image/jpeg:https://artsequator.s3.ap-southeast-1.amazonaws.com/2023/05/SIFA-X-LOVE-DIVINE-Image-Courtesy-of-Arts-House-Limited-Artwork-for-CHILDREN-OF-VENUS-by-Karolina-Skorek-1.jpg
GEO:1.2846219;103.860936
X-APPLE-STRUCTURED-LOCATION;VALUE=URI;X-ADDRESS=CÉ LA VI CÉ LA VI Singapore Singapore;X-APPLE-RADIUS=500;X-TITLE=CÉ LA VI:geo:103.860936,1.2846219
END:VEVENT
END:VCALENDAR