BEGIN:VCALENDAR
VERSION:2.0
PRODID:-//ArtsEquator - ECPv5.16.3.1//NONSGML v1.0//EN
CALSCALE:GREGORIAN
METHOD:PUBLISH
X-ORIGINAL-URL:https://artsequator.com
X-WR-CALDESC:Events for ArtsEquator
REFRESH-INTERVAL;VALUE=DURATION:PT1H
X-Robots-Tag:noindex
X-PUBLISHED-TTL:PT1H
BEGIN:VTIMEZONE
TZID:Asia/Shanghai
BEGIN:STANDARD
TZOFFSETFROM:+0800
TZOFFSETTO:+0800
TZNAME:CST
DTSTART:20230101T000000
END:STANDARD
END:VTIMEZONE
BEGIN:VEVENT
DTSTART;TZID=Asia/Shanghai:20230323T200000
DTEND;TZID=Asia/Shanghai:20230402T163000
DTSTAMP:20260424T013735
CREATED:20230127T082517Z
LAST-MODIFIED:20230208T085912Z
UID:89235-1679601600-1680453000@artsequator.com
SUMMARY:Checkpoint Theatre presents Brown Boys Don’t Tell Jokes – A New Play by Myle Yan Tan
DESCRIPTION:The eve of an election. A politician\, a musician\, an activist\, an academic\, and a therapist reunite after several years. As the five friends catch up on the different paths their lives have taken\, they realise their rose-tinted memories might be the only thing holding them together. With secrets unravelling\, old conflicts reawakening\, and a threat looming\, the five are forced to confront the boys they once were\, and the men they want to become. \n  \nPlaywright Myle Yan Tay’s powerful and incisive play lays bare the tensions of male friendship with sharp humour and searching questions. As past mistakes lead to dire consequences\, should loyalty prevail over shifting values? What does it take to be a friend? \nHuzir Sulaiman’s deft direction illuminates the finely-crafted text\, interrogating what it means to be a brown boy in Singapore. With a stellar ensemble cast comprising Gosteloa Spancer\, Krish Natarajan\, Ebi Shankara\, Adib Kosnan\, and Shahid Nasheer\, Brown Boys Don’t Tell Jokes is a nuanced and unflinching examination of friendship\, race\, and masculinity in our country.
URL:https://artsequator.com/event/checkpoint-theatre-presents-brown-boys-dont-tell-jokes-a-new-play-by-myle-yan-tan/
LOCATION:Drama Centre Black Box\, Singapore\, Select a Country:
CATEGORIES:Theatre (Events)
ATTACH;FMTTYPE=image/jpeg:https://artsequator.s3.ap-southeast-1.amazonaws.com/2023/01/1920-x-1080.jpg
ORGANIZER;CN="Checkpoint%20Theatre":MAILTO:contact@checkpoint-theatre.org
GEO:1.2936759;103.8573371
END:VEVENT
BEGIN:VEVENT
DTSTART;TZID=Asia/Shanghai:20230330T200000
DTEND;TZID=Asia/Shanghai:20230416T220000
DTSTAMP:20260424T013735
CREATED:20230111T022252Z
LAST-MODIFIED:20230112T061955Z
UID:89031-1680206400-1681682400@artsequator.com
SUMMARY:The Soldier & His Virtuous Wife 《都是当兵惹的祸》
DESCRIPTION:A lot can happen after Happily Ever After… \nOne day of marriage. Ten years of separation.\nAnother suitor lurks in the wings.\nIs true love really worth the wait?\nWill the soldier ever be reunited with his virtuous wife?  \nThe pioneers of Singapore Mandarin musicals are BACK with a highly-anticipated restaging of Lo Pei-An’s (Taiwan) The Soldier & His Virtuous Wife.  \nInspired by the traditional Yuan opera Qiu Hu Flirts With His Wife\, this Mandarin musical comedy combines Chinese Opera aesthetics with campy humour and musical theatre flair\, deftly helmed by director Kuo Jian Hong (Lao Jiu: The Musical\, If There’re Seasons…\, Liao Zhai Rocks!).  \nStarring Joanna Dong\, MengFM’s Cavin Soh and Ric Liu\, and Sugie Phua\, this is one show that’ll have you walking down rolling in the aisles! \n*** \nTicketing prices & promotion details: \nCAT 1: $85 (Preview Show $70)\nCAT 2: $75 (Preview Show $60)\nCAT 3: $55 (Preview Show $40)\nCAT 4: $51 (Preview Show $40)\n*Not inclusive of $4 booking fee \nDiscounts applicable to CAT 1 and CAT 2 tickets only.\nDiscounts applicable to all shows (excluding preview) unless otherwise stated. \n15% Early Bird Discount (ends 31 January)\n– Applicable for shows between 31 March – 09 April \n20% Buddies Package Discount (ends 30 March)\n– Min. of 4 tickets per order \n15% Discount for PAssion Card and SAFRA members (ends 12 February) \n10% Discount For Students/ NSFs/ Senior Citizens (end 16 April) \nGroup Bookings available: Save up to 20%\, contact ticketing@practice.org.sg for more details.
URL:https://artsequator.com/event/the-soldier-his-virtuous-wife-%e3%80%8a%e9%83%bd%e6%98%af%e5%bd%93%e5%85%b5%e6%83%b9%e7%9a%84%e7%a5%b8%e3%80%8b/
LOCATION:Drama Centre Theatre\, National Library\, Victoria Street\, Singapore
CATEGORIES:Children/Family (Events),Theatre (Events)
ATTACH;FMTTYPE=image/jpeg:https://artsequator.s3.ap-southeast-1.amazonaws.com/2023/01/2023SOL_online-listing-Arts-Equator-1920x800px.jpeg
GEO:1.3005032;103.8558723
X-APPLE-STRUCTURED-LOCATION;VALUE=URI;X-ADDRESS=Drama Centre Theatre National Library Victoria Street Singapore;X-APPLE-RADIUS=500;X-TITLE=National Library\, Victoria Street:geo:103.8558723,1.3005032
END:VEVENT
BEGIN:VEVENT
DTSTART;TZID=Asia/Shanghai:20230401T200000
DTEND;TZID=Asia/Shanghai:20230401T213000
DTSTAMP:20260424T013735
CREATED:20230301T040407Z
LAST-MODIFIED:20230301T040407Z
UID:89309-1680379200-1680384600@artsequator.com
SUMMARY:TRIP 2023: No Particular Order
DESCRIPTION:A despot has come to power. The population is anxious\, submissive and scared. \n  \nBut beneath every violation of civil liberty\, there are real human beings; behind every act of resistance\, there is an individual willing to risk everything. And these people aren’t heroic or remarkable – they’re just like us. \n  \nThrough a series of vignettes involving the lives of bureaucrats\, soldiers\, artists and tour guides\, No Particular Order charts the fate of a society in turmoil to ask at every step of the way: is it empathy\, or power\, that endures? \n  \nJoel Tan’s No Particular Order  first debuted in May 2022 at London’s Theatre503. Described as “startling and apocalyptic”\, the play was shortlisted for the Theatre503 International Playwriting Award as well as the 2022 George Devine Award. This performance marks its Singapore premiere. \n  \nA programme of TRIP—a platform to showcase work by early-career directors. \n  \nDirector: Sim Yan Ying “YY” \nPlaywright: Joel Tan \nPerformers: Arielle Jasmine Van Zuijlen\, Karen Tan\, Pavan J Singh and Shrey Bhargava \nLighting Designer: James Tan \nSound Designer: Lee Yew Jin (Ctrl Fre@k) \nSet Designer: Hella Chan \nProduction Manager: Evelyn Chia (The Backstage Affair) \nStage Manager: Carolene Ruth Liew (The Backstage Affair) \nAssistant Stage Manager: Irish Alcantara (The Backstage Affair)
URL:https://artsequator.com/event/trip-2023-no-particular-order/2023-04-01/
LOCATION:Esplanade Theatre Studio\, 1 Esplanade Dr\, Singapore\, 038981\, Singapore
CATEGORIES:Other (Events),Theatre (Events)
ATTACH;FMTTYPE=image/png:https://artsequator.s3.ap-southeast-1.amazonaws.com/2023/02/No_particular_order.png
GEO:1.289857;103.8552799
X-APPLE-STRUCTURED-LOCATION;VALUE=URI;X-ADDRESS=Esplanade Theatre Studio 1 Esplanade Dr Singapore 038981 Singapore;X-APPLE-RADIUS=500;X-TITLE=1 Esplanade Dr:geo:103.8552799,1.289857
END:VEVENT
END:VCALENDAR