BEGIN:VCALENDAR
VERSION:2.0
PRODID:-//ArtsEquator - ECPv5.16.3.1//NONSGML v1.0//EN
CALSCALE:GREGORIAN
METHOD:PUBLISH
X-WR-CALNAME:ArtsEquator
X-ORIGINAL-URL:https://artsequator.com
X-WR-CALDESC:Events for ArtsEquator
REFRESH-INTERVAL;VALUE=DURATION:PT1H
X-Robots-Tag:noindex
X-PUBLISHED-TTL:PT1H
BEGIN:VTIMEZONE
TZID:Asia/Shanghai
BEGIN:STANDARD
TZOFFSETFROM:+0800
TZOFFSETTO:+0800
TZNAME:CST
DTSTART:20230101T000000
END:STANDARD
END:VTIMEZONE
BEGIN:VEVENT
DTSTART;TZID=Asia/Shanghai:20230308T200000
DTEND;TZID=Asia/Shanghai:20230312T200000
DTSTAMP:20260423T193250
CREATED:20230302T130606Z
LAST-MODIFIED:20230302T130606Z
UID:89462-1678305600-1678651200@artsequator.com
SUMMARY:Old Gaze
DESCRIPTION:For Faith (Hossan Leong) and Hope (Kumar)\, the New Year is just another day. But when an old friend shows up suddenly\, their lives are turned upside down. They find themselves embroiled with spies\, childhood trauma and GENDER PRONOUNS. \nIt’s been almost 20 years since the gang met up. Will they be able to let go of the ghosts from their past? Will they be able to identify as ELDERLY? What world is this where the GAYBOURS are banging\, the Health HOMOTION Board speaks the truth and MINISTRY OF NUCLEAR FAMILIES even exists? \nBrash\, audacious and just rollicking good fun\, Old Gaze is the third and final instalment following The Necessary Stage’s seminal LGBTQ plays Mardi Gras (2003) and Top or Bottom (2004). \nWritten and directed by Cultural Medallion recipient Haresh Sharma\, Old Gaze stars the absolutely fabulous Kumar\, Hossan Leong\, Rody Vera and Siti Khalijah Zainal\, alongside veteran actor Liow Shi Suen and newcomers Azura Farid and Medli Dorothea Loo.
URL:https://artsequator.com/event/old-gaze/
LOCATION:Victoria Theatre\, 9 Empress Pl\, 179556\, Singapore\, 179556\, Singapore
CATEGORIES:Theatre (Events)
ATTACH;FMTTYPE=image/jpeg:https://artsequator.s3.ap-southeast-1.amazonaws.com/2023/03/tns_oldgaze_fbeventcover_design_20221230.jpg
GEO:1.2883579;103.8512779
X-APPLE-STRUCTURED-LOCATION;VALUE=URI;X-ADDRESS=Victoria Theatre 9 Empress Pl 179556 Singapore 179556 Singapore;X-APPLE-RADIUS=500;X-TITLE=9 Empress Pl\, 179556:geo:103.8512779,1.2883579
END:VEVENT
END:VCALENDAR