BEGIN:VCALENDAR
VERSION:2.0
PRODID:-//ArtsEquator - ECPv5.16.3.1//NONSGML v1.0//EN
CALSCALE:GREGORIAN
METHOD:PUBLISH
X-ORIGINAL-URL:https://artsequator.com
X-WR-CALDESC:Events for ArtsEquator
REFRESH-INTERVAL;VALUE=DURATION:PT1H
X-Robots-Tag:noindex
X-PUBLISHED-TTL:PT1H
BEGIN:VTIMEZONE
TZID:Asia/Shanghai
BEGIN:STANDARD
TZOFFSETFROM:+0800
TZOFFSETTO:+0800
TZNAME:CST
DTSTART:20220101T000000
END:STANDARD
END:VTIMEZONE
BEGIN:VEVENT
DTSTART;TZID=Asia/Shanghai:20221231T230000
DTEND;TZID=Asia/Shanghai:20230120T220000
DTSTAMP:20260424T054701
CREATED:20221201T081314Z
LAST-MODIFIED:20221201T081314Z
UID:87945-1672527600-1674252000@artsequator.com
SUMMARY:#Metazomia
DESCRIPTION:#Metazomia is a 360-degree immersive cinematic experience created by award-winning artist Brian Gothong Tan. Famed for creating impressive multimedia experiences for the Singapore Bicentennial\, National Day Parade and the Singapore International Festival of Arts\, Tan’s latest production will not only be a visual feast but also an interactive one.\n\nCreated from artificial intelligence and inspired by the writings and ideas of James C. Scott’s ‘Zomia’ and Satoshi Nakamoto’s Bitcoin creation\, Tan’s cinematic experience looks into what the future could hold. Tan spins off illustrative genres such as cypherpunk\, solarpunk and desertpunk. He harnesses history\, literature\, popular culture\, film and digitality to playfully critique and comment on reality and the desires for alternatives. In doing so\, Tan creates a non-state reality that reflexively looks back at proposals of better futures. The result: an epic melding of generative art and motion graphics with interactivity that is fun\, thrilling\, and beautiful.\nExperience #Metazomia with tickets available at Peatix.\n\nDetails:\na) Gala Fundraising Event plus Countdown Party\n31 Dec 2022\, 11pm till 1 Jan 2023\, 1am\nTickets (by donation) at S$200*\nIncl. of champagne\, wine\, and light bites and a signed open edition #Metazomia digital print.\n(Tax deduction receipt available)\n\nb) 2 till 20 Jan 2023\n2pm – 10pm (2 Jan\, Fri till Sun)\n5pm – 10pm (Tue till Thu)\nClosed on 9 and 16 Jan\nTickets at S$23 and S$15 (students/NSF/senior concessions)\nGroup bookings available\, email ticketing.tworks@gmail.com for details
URL:https://artsequator.com/event/metazomia/
LOCATION:T:>Works\, 72-13 Mohamed Sultan Rd\, Singapore 239007\, Singapore\, Singapore\, 239007\, Singapore
CATEGORIES:Theatre (Events),Visual Arts (Events)
ATTACH;FMTTYPE=image/jpeg:https://artsequator.s3.ap-southeast-1.amazonaws.com/2022/11/TW_Metazomia_DigitalLandscape-16x9_Static-2.jpg
ORGANIZER;CN="T%3A%26gt%3BWorks":MAILTO:ticketing.tworks@gmail.com
GEO:1.2914028;103.8400333
X-APPLE-STRUCTURED-LOCATION;VALUE=URI;X-ADDRESS=T:>Works 72-13 Mohamed Sultan Rd Singapore 239007 Singapore Singapore 239007 Singapore;X-APPLE-RADIUS=500;X-TITLE=72-13 Mohamed Sultan Rd\, Singapore 239007:geo:103.8400333,1.2914028
END:VEVENT
BEGIN:VEVENT
DTSTART;VALUE=DATE:20230116
DTEND;VALUE=DATE:20230301
DTSTAMP:20260424T054701
CREATED:20230117T015022Z
LAST-MODIFIED:20230117T015022Z
UID:89103-1673827200-1677628799@artsequator.com
SUMMARY:The Backstage Affair Apprenticeship Programme (BAAP)
DESCRIPTION:Aspiring to be production or stage manager but not sure how to start? 2023 intake for Backstage Affair Apprenticeship Programme (BAAP) is now open! \nBAAP is BA’s flagship 12-month long training programme that bridges the gap between what has been learnt in school and professional industry practice. \nWith BAAP\, we hope to provide a safe and structured space for trainees to learn on the job and to reflect on your personal and professional growth under the mentorship of a more experienced practitioner. It will help you to build a strong network with fellow practitioners at the start of your career. \nBAAP is fully sponsored by BA with the support of the National Arts Council. \nBAAP is for any interested backstage practitioners interested to kickstart your backstage career. \nFor more details: https://bit.ly/BAAPbrochure
URL:https://artsequator.com/event/the-backstage-affair-apprenticeship-programme-baap/
CATEGORIES:Other (Events),Theatre (Events),Workshop & Talks (Events)
ATTACH;FMTTYPE=image/png:https://artsequator.s3.ap-southeast-1.amazonaws.com/2023/01/BAAP-Listing.png
ORGANIZER;CN="The%20Backstage%20Affair":MAILTO:hello@thebackstageaffair.com
END:VEVENT
END:VCALENDAR