BEGIN:VCALENDAR
VERSION:2.0
PRODID:-//ArtsEquator - ECPv5.16.3.1//NONSGML v1.0//EN
CALSCALE:GREGORIAN
METHOD:PUBLISH
X-WR-CALNAME:ArtsEquator
X-ORIGINAL-URL:https://artsequator.com
X-WR-CALDESC:Events for ArtsEquator
REFRESH-INTERVAL;VALUE=DURATION:PT1H
X-Robots-Tag:noindex
X-PUBLISHED-TTL:PT1H
BEGIN:VTIMEZONE
TZID:Asia/Shanghai
BEGIN:STANDARD
TZOFFSETFROM:+0800
TZOFFSETTO:+0800
TZNAME:CST
DTSTART:20220101T000000
END:STANDARD
END:VTIMEZONE
BEGIN:VEVENT
DTSTART;TZID=Asia/Shanghai:20221105T103000
DTEND;TZID=Asia/Shanghai:20221126T123000
DTSTAMP:20260424T073440
CREATED:20221020T032035Z
LAST-MODIFIED:20221020T032035Z
UID:86209-1667644200-1669465800@artsequator.com
SUMMARY:An Introduction to the Dramaturg's Work 2022
DESCRIPTION:An Introduction to the Dramaturg’s Work is a 4-session foundational course that will provide an introduction and grounding for performing arts practitioners who are curious about or want an insight into the dramaturg’s work. \nConducted by Dr Robin Loon\, this course aims to equip participants with an understanding of and familiarisation with: \n\nthe brief history and evolution of the dramaturg\nthe nature and scope of the dramaturg’s work\ndifferent kinds of dramaturgs\nbasic duties and responsibilities of dramaturgs\nstandards and competencies surrounding a professional dramaturg\n\nParticipants can expect to engage in discussions based on prescribed readings and undertake individual/group assignment(s) in mock-dramaturgy case projects. At the end of the four sessions\, participants should be able to: \n\nunderstand the work of a dramaturg and identify dramaturgical interventions;\nclarify if they need to engage dramaturgs and how to engage them in the creative process;\ndiscover their area of interest should they choose to pursue a practice in dramaturgy.\n\n\n\n\n\nThis is the third run of the popular Introduction to the Dramaturg’s Work course. Apply by 16 Oct at: bit.ly/IDW22course.
URL:https://artsequator.com/event/an-introduction-to-the-dramaturgs-work-2022/2022-11-05/
LOCATION:Rehearsal Studio\, 42 Waterloo Street\, 42 Waterloo Street\, Singapore\, 187951\, Singapore
CATEGORIES:Other (Events),Theatre (Events),Workshop & Talks (Events)
ATTACH;FMTTYPE=image/png:https://artsequator.s3.ap-southeast-1.amazonaws.com/2022/10/IntrotoDramaturgy-2022_FB-Banner.png
ORGANIZER;CN="Centre%2042":MAILTO:info@centre42.sg
GEO:1.2984662;103.8507241
X-APPLE-STRUCTURED-LOCATION;VALUE=URI;X-ADDRESS=Rehearsal Studio 42 Waterloo Street 42 Waterloo Street Singapore 187951 Singapore;X-APPLE-RADIUS=500;X-TITLE=42 Waterloo Street:geo:103.8507241,1.2984662
END:VEVENT
BEGIN:VEVENT
DTSTART;TZID=Asia/Shanghai:20221117T193000
DTEND;TZID=Asia/Shanghai:20221211T143000
DTSTAMP:20260424T073440
CREATED:20221117T113000Z
LAST-MODIFIED:20220823T054413Z
UID:83524-1668713400-1670769000@artsequator.com
SUMMARY:Pinocchio
DESCRIPTION:In this cheekily on-the-nose musical adaptation of the classic fairy tale\, Wild Rice brings one of the world’s most beloved characters to the Singapore stage. Meet Pinocchio\, a wooden puppet crafted with loving care by Geppetto – a kind\, humble carpenter who has always dreamt of becoming a father. \nWith a wish and a touch of fairy magic\, Pinocchio springs to life… but there are some strings attached! To become a real boy\, Pinocchio must first prove himself to be brave\, kind and true. It’s a challenge the little puppet is determined to overcome – until he is led astray by a pair of wily con artists\, and swept up in a madcap misadventure that takes him from the tempting promise of the circus to the deepest depths of the fathomless sea. \nDirected by Pam Oei\, Pinocchio is a brand-new\, original musical written by Thomas Lim\, with lyrics by Joel Tan and music by Julian Wong. Our fabulous cast includes Mae Elliessa as Pinocchio\, Ebi Shankara as Geppetto and Siti Khalijah Zainal as G-Hopper\, as well as the adorable First Stage Kids – making a welcome return to the stage after three long years! \nA hilarious and heartwarming celebration of family\, friendship and the importance of being true to yourself\, Pinocchio is the perfect holiday treat for you and your loved ones. Wood we lie to you? 🤥 \nStarring Mae Elliessa\, Ebi Shankara\, Siti Khalijah Zainal\, Dwayne Lau\, Michelle Ler\, Vester Ng\nDuration: Approximately 2 hours (with intermission)\nIMDA Rating: TBA
URL:https://artsequator.com/event/pinocchio/
LOCATION:The Ngee Ann Kongsi Theatre @ WILD RICE Funan\, 107 North Bridge Road\, Singapore\, Singapore\, 179105\, Singapore
CATEGORIES:Music (Events),Theatre (Events)
ATTACH;FMTTYPE=image/jpeg:https://artsequator.s3.ap-southeast-1.amazonaws.com/2022/07/P-1920x1080-FA%403x.jpg
END:VEVENT
BEGIN:VEVENT
DTSTART;TZID=Asia/Shanghai:20221126T193000
DTEND;TZID=Asia/Shanghai:20221126T213000
DTSTAMP:20260424T073440
CREATED:20221110T070852Z
LAST-MODIFIED:20221110T070852Z
UID:87076-1669491000-1669498200@artsequator.com
SUMMARY:《我的种种身份》 My Various Identities
DESCRIPTION:好久不见剧团呈现一人一故事剧场主题活动为《我的种种身份》 \n身份\n是… 长子\n是… 养家人\n是… 为人师长\n是… 外国人\n是… 爱人\n是… 享乐派\n是… 魔女\n等 \n我们在人生里不同的环境场合中扮演了不同的角色\n欢迎正在经历人生的你与我们共处\n一起体验《我的种种身份》 \n一人一故事剧场\n是社群剧场的一种形式\n即兴、真实、简单、亲密、交谈\n故事是说故事人亲身真事\n有人分享故事、我们演出故事、大伙儿感受故事 \n  \nLong Time No See Playback Theatre presents a playback theatre themed event on My Various Identities \nIdentity\nis… eldest child\nis… breadwinner\nis… mentor\nis… foreigner\nis… lover\nis… hedonist\nis… magi\netc \nIn life\, we play different roles under different environments\nWe welcome you with all your experiences of life to be in community with us\nTogether\, we experience My Various Identities \nPlayback theatre\nis a form of community theatre\nspontaneous\, truth\, simple\, intimate\, conversational\nstories are snippets of tellers’ lives\nsomeone shares a story\, we enact the story\, everyone feels the story
URL:https://artsequator.com/event/%e3%80%8a%e6%88%91%e7%9a%84%e7%a7%8d%e7%a7%8d%e8%ba%ab%e4%bb%bd%e3%80%8b-my-various-identities/2022-11-26/
LOCATION:P7:1SMA studio\, #03-01 Stamford Arts Centre\, 155 Waterloo St\, 187962\, Singapore
CATEGORIES:Theatre (Events)
ATTACH;FMTTYPE=image/png:https://artsequator.s3.ap-southeast-1.amazonaws.com/2022/11/My-Various-Identities-1080p.png
ORGANIZER;CN="Long%20Time%20No%20See%20Playback%20Theatre":MAILTO:ltns.playback@gmail.com
END:VEVENT
END:VCALENDAR