BEGIN:VCALENDAR
VERSION:2.0
PRODID:-//ArtsEquator - ECPv5.16.3.1//NONSGML v1.0//EN
CALSCALE:GREGORIAN
METHOD:PUBLISH
X-WR-CALNAME:ArtsEquator
X-ORIGINAL-URL:https://artsequator.com
X-WR-CALDESC:Events for ArtsEquator
REFRESH-INTERVAL;VALUE=DURATION:PT1H
X-Robots-Tag:noindex
X-PUBLISHED-TTL:PT1H
BEGIN:VTIMEZONE
TZID:Asia/Shanghai
BEGIN:STANDARD
TZOFFSETFROM:+0800
TZOFFSETTO:+0800
TZNAME:CST
DTSTART:20220101T000000
END:STANDARD
END:VTIMEZONE
BEGIN:VEVENT
DTSTART;TZID=Asia/Shanghai:20221104T070000
DTEND;TZID=Asia/Shanghai:20221113T210000
DTSTAMP:20260424T073442
CREATED:20221027T080133Z
LAST-MODIFIED:20221027T080133Z
UID:86566-1667545200-1668373200@artsequator.com
SUMMARY:Venus In Fur by David Ives
DESCRIPTION:“You want funny? You want sexy? Then you’ll want to see VENUS IN FUR.” \n  \nThomas\, a beleaguered playwright/director\, is desperate to find an actress to play Vanda\, the female lead in his adaptation of the classic sadomasochistic tale Venus in Fur. Into his empty audition room walks a vulgar and equally desperate actress—oddly enough\, named Vanda. Though utterly wrong for the sophisticated part\, Vanda exhibits a strange command of the material\, piquing Thomas’ interest with her seductive talents and secretive manner. As the two work through the script\, they blur the line between play and reality\, entering into an increasingly serious game of submission and domination that only one of them can win. A mysterious\, funny\, erotic drama that represents yet another departure for the multifaceted David Ives.
URL:https://artsequator.com/event/venus-in-fur-by-david-ives/
LOCATION:Location to be revealed to ticket holders
CATEGORIES:Theatre (Events)
ATTACH;FMTTYPE=image/png:https://artsequator.s3.ap-southeast-1.amazonaws.com/2022/10/158b98_d58f10322d354b5384e63c807515e213_mv2.png
ORGANIZER;CN="Bold%20Moment%20Theatre":MAILTO:contact@boldmomenttheatre.com
END:VEVENT
BEGIN:VEVENT
DTSTART;TZID=Asia/Shanghai:20221105T103000
DTEND;TZID=Asia/Shanghai:20221126T123000
DTSTAMP:20260424T073442
CREATED:20221020T032035Z
LAST-MODIFIED:20221020T032035Z
UID:86209-1667644200-1669465800@artsequator.com
SUMMARY:An Introduction to the Dramaturg's Work 2022
DESCRIPTION:An Introduction to the Dramaturg’s Work is a 4-session foundational course that will provide an introduction and grounding for performing arts practitioners who are curious about or want an insight into the dramaturg’s work. \nConducted by Dr Robin Loon\, this course aims to equip participants with an understanding of and familiarisation with: \n\nthe brief history and evolution of the dramaturg\nthe nature and scope of the dramaturg’s work\ndifferent kinds of dramaturgs\nbasic duties and responsibilities of dramaturgs\nstandards and competencies surrounding a professional dramaturg\n\nParticipants can expect to engage in discussions based on prescribed readings and undertake individual/group assignment(s) in mock-dramaturgy case projects. At the end of the four sessions\, participants should be able to: \n\nunderstand the work of a dramaturg and identify dramaturgical interventions;\nclarify if they need to engage dramaturgs and how to engage them in the creative process;\ndiscover their area of interest should they choose to pursue a practice in dramaturgy.\n\n\n\n\n\nThis is the third run of the popular Introduction to the Dramaturg’s Work course. Apply by 16 Oct at: bit.ly/IDW22course.
URL:https://artsequator.com/event/an-introduction-to-the-dramaturgs-work-2022/2022-11-05/
LOCATION:Rehearsal Studio\, 42 Waterloo Street\, 42 Waterloo Street\, Singapore\, 187951\, Singapore
CATEGORIES:Other (Events),Theatre (Events),Workshop & Talks (Events)
ATTACH;FMTTYPE=image/png:https://artsequator.s3.ap-southeast-1.amazonaws.com/2022/10/IntrotoDramaturgy-2022_FB-Banner.png
ORGANIZER;CN="Centre%2042":MAILTO:info@centre42.sg
GEO:1.2984662;103.8507241
X-APPLE-STRUCTURED-LOCATION;VALUE=URI;X-ADDRESS=Rehearsal Studio 42 Waterloo Street 42 Waterloo Street Singapore 187951 Singapore;X-APPLE-RADIUS=500;X-TITLE=42 Waterloo Street:geo:103.8507241,1.2984662
END:VEVENT
BEGIN:VEVENT
DTSTART;TZID=Asia/Shanghai:20221110T200000
DTEND;TZID=Asia/Shanghai:20221113T163000
DTSTAMP:20260424T073442
CREATED:20220922T120000Z
LAST-MODIFIED:20220906T085718Z
UID:83852-1668110400-1668357000@artsequator.com
SUMMARY:Extinction Feast《鮽宴》
DESCRIPTION:Jeff wants to do the right thing. So does his brother. And his mother. And his sister-in-law. So an important discussion over family dinner should go smoothly… right? \nInspired by Eating Chilli Crab in the Anthropocene\, Extinction Feast is a playful black comedy about Asian culture\, fish consumption and our pesky conscience.  \nDirector Ang Xiao Ting assembles an international team of collaborators to create a multidisciplinary theatrical feast combining performance\, multimedia and live foley. Blending storytelling and dining\, the production also features canapés by Ah Hua Kelong. \nExtinction Feast is a Practice Tuckshop production\, and was first staged to a sold-out run at Singapore Writers’ Festival 2021.  \nJeff 想要做正确的事，他的哥哥、妈妈，还有嫂嫂当然也是。所以在家庭聚餐上进行“这个”重要的讨论，应该会很顺利的⋯⋯吧？ \n《鮽宴》是一部有关亚洲文化、鱼类消费和我们那些恼人良知的黑色幽默喜剧，创作灵感源自一本社会科学专书——《Eating Chilli Crab in the Anthropocene》。 \n由导演洪小婷领军，集结来自世界各地的创作人才，共同打造一场结合戏剧表演、多媒体影像和现场拟音的剧场“飨宴”！延续实堂在故事中融入食物的特色，这次更邀请了“阿华奎笼”为演出特别构思一系列开胃小菜。 \n《鮽宴》为实堂制作，在2021年于新加坡作家节举行首演，并创下场场完售的佳绩。
URL:https://artsequator.com/event/extinction-feast%e3%80%8a%e9%ae%bd%e5%ae%b4%e3%80%8b/
LOCATION:Practice Space\, 54 Waterloo Street\, 187953\, Singapore
CATEGORIES:Theatre (Events)
ATTACH;FMTTYPE=image/jpeg:https://artsequator.s3.ap-southeast-1.amazonaws.com/2022/07/2022SEP_online-listing-Arts-Equator_EF.jpeg
GEO:1.2986009;103.85118
X-APPLE-STRUCTURED-LOCATION;VALUE=URI;X-ADDRESS=Practice Space 54 Waterloo Street 187953 Singapore;X-APPLE-RADIUS=500;X-TITLE=54 Waterloo Street:geo:103.85118,1.2986009
END:VEVENT
END:VCALENDAR