BEGIN:VCALENDAR
VERSION:2.0
PRODID:-//ArtsEquator - ECPv5.16.3.1//NONSGML v1.0//EN
CALSCALE:GREGORIAN
METHOD:PUBLISH
X-WR-CALNAME:ArtsEquator
X-ORIGINAL-URL:https://artsequator.com
X-WR-CALDESC:Events for ArtsEquator
REFRESH-INTERVAL;VALUE=DURATION:PT1H
X-Robots-Tag:noindex
X-PUBLISHED-TTL:PT1H
BEGIN:VTIMEZONE
TZID:Asia/Shanghai
BEGIN:STANDARD
TZOFFSETFROM:+0800
TZOFFSETTO:+0800
TZNAME:CST
DTSTART:20220101T000000
END:STANDARD
END:VTIMEZONE
BEGIN:VEVENT
DTSTART;VALUE=DATE:20220901
DTEND;VALUE=DATE:20220906
DTSTAMP:20260424T160608
CREATED:20220813T014428Z
LAST-MODIFIED:20220813T014428Z
UID:84243-1661990400-1662422399@artsequator.com
SUMMARY:Ransom
DESCRIPTION:A Mirage presents: \nRansom\nby Euginia Tan \nTICKET PRICES:\nStandard = $25\nConcessions = $20 \nTickets are free seating. Doors will open 20 minutes before showtime. \n*To purchase Concession tickets\, enter ‘CONCESSION’ as a promo code. \nAll sales are final. A Mirage does not facilitate exchanges or refunds of tickets.\nFor any further queries or help\, kindly contact Theo Chen at popup.pubtheatre@gmail.com \n————-\nAbout the play: \nA kidnapping goes wrong when nobody is willing to hand over the demanded ransom. \nIn a gripping two-hander performed by Dana Lam and Saifuddin Jumadi\, searing class and racial tensions collide. \nHow much is a person’s worth to another? Who remains a larger hostage? \nRansom was first developed under Jalan Besar Salon’s 2020 Radical Transparency open call. Find out more about that process here – https://www.jalanbesarsalon.space/euginia-tan \n————-\nAbout ‘A Mirage’: \nA Mirage is a pop-up theatre for artists to experiment & create\, away from financial or critical pressure. In partnership with The Projector X Riverside\, the platform runs on a revenue-share model and is focused on producing premieres and revivals of original Singaporean writing. \nFollow us on Instagram @a.mirage.sg \n————-\nRansom\nWritten by Euginia Tan\nDirected by Hazwan Norly\nPerformed by Dana Lam and Saifuddin Jumadi\nStage Managed by Bib Mockram\nProduced by Pearlyn Tay & Theo Chen \nImportant Information\nThe duration of this performance is approximately 50 minutes with no intermission. \nAccessibility: Please use the central lifts of Riverside Point (located just next to the official Taxi Stand D11). Take to level 4. Turn left when you exit the lifts. The Projector X Riverside is the first unit on the right after the glass doors. There are 2 sets of glass doors that need to be opened before you can enter our premise. If you require assistance opening the doors – please contact us as well so we can assist on the day of the show and provide you a contact point to call when you arrive. The performance space is wheelchair-accessible.
URL:https://artsequator.com/event/ransom/
LOCATION:The Projector X Riverside\, 30 Merchant Road\, #04-13\, Singapore\, 058282\, Singapore
CATEGORIES:Theatre (Events)
ATTACH;FMTTYPE=image/jpeg:https://artsequator.s3.ap-southeast-1.amazonaws.com/2022/08/WhatsApp-Image-2022-07-24-at-10.52.39-PM.jpeg
ORGANIZER;CN="A%20Mirage":MAILTO:popup.pubtheatre@gmail.com
GEO:1.28927;103.8442246
X-APPLE-STRUCTURED-LOCATION;VALUE=URI;X-ADDRESS=The Projector X Riverside 30 Merchant Road #04-13 Singapore 058282 Singapore;X-APPLE-RADIUS=500;X-TITLE=30 Merchant Road\, #04-13:geo:103.8442246,1.28927
END:VEVENT
END:VCALENDAR