BEGIN:VCALENDAR
VERSION:2.0
PRODID:-//ArtsEquator - ECPv5.16.3.1//NONSGML v1.0//EN
CALSCALE:GREGORIAN
METHOD:PUBLISH
X-WR-CALNAME:ArtsEquator
X-ORIGINAL-URL:https://artsequator.com
X-WR-CALDESC:Events for ArtsEquator
REFRESH-INTERVAL;VALUE=DURATION:PT1H
X-Robots-Tag:noindex
X-PUBLISHED-TTL:PT1H
BEGIN:VTIMEZONE
TZID:Asia/Shanghai
BEGIN:STANDARD
TZOFFSETFROM:+0800
TZOFFSETTO:+0800
TZNAME:CST
DTSTART:20220101T000000
END:STANDARD
END:VTIMEZONE
BEGIN:VEVENT
DTSTART;TZID=Asia/Shanghai:20220723T093000
DTEND;TZID=Asia/Shanghai:20220827T180000
DTSTAMP:20260424T104923
CREATED:20220622T032536Z
LAST-MODIFIED:20220622T032536Z
UID:83284-1658568600-1661623200@artsequator.com
SUMMARY:ITI Masterclasses by Guillermo Angelelli
DESCRIPTION:This July to August\, enhance your skills with masterclasses on theatre and clowning\, led by ITI faculty member\, actor and director Guillermo Angelelli! \nMasterclass on the Creative Process from Training to Composition\nFor professional artists and those training in theatre\, circus\, dance\, singing and performers in general. \nStructure \nThe Scribble\nPhysical training on three movement circuits\, application of basic principles of theatrical anthropology for the discovery and development of the implicit actions in the doodling\, as well as composition of sequences. \nThe Five Resonators\nBasic tips for the development of vocal training based on five body resonators and the action of saying. \nThe Marriage Between Word and Action\nOrganisation of a structure through listening and adaptation of various systems of meaning (including a score of actions and text). \nCreation and Exhibition\nHow to be present. \nRequirements:\n \n\nMinimum age of 17\nAttendance for all sessions\nComfortable clothing\nA memorised text of the participant’s choice with a length of 10–15 lines (preferably not song lyrics)\n\nDetails:\nDates: 23 Jul – 13 Aug (4 Saturdays)\nTime: 9:30 AM – 1:30 PM\nTotal duration: 16 hours\nFee: $480 \n—— \nClowning Masterclass\nThis intensive two-day workshop will train performers on awareness\, presence and complicity. \nBeyond a character\, the clown can be defined as a kind of spirit; a quality of energy that arises from the joy of celebrating the uniqueness of each moment with others. \nThis masterclass offers a repertoire of games and exercises played in complicity with the audience\, to test and train your ability to communicate using the most sensitive\, true\, passionate\, stripped\, ridiculous and funny parts of your personality. \n“In clowning\, what transcends is not what is said; there is something behind that\, which is the goal of training: to find that transparent body to connect with a type of presence which is already eloquent in itself.” – Guillermo Angelelli \nRequirements: \n\nMinimum age of 17\nAttendance for all sessions\n\nDetails:\nDates: 20\, 27 Aug (Saturdays)\nTime: 9 AM – 6 PM (includes a lunch break)\nTotal duration: 16 hours\nFee: $480 \n—— \n$80 OFF WHEN YOU SIGN UP FOR BOTH WORKSHOPS \n—— \nAbout the Instructor \nGuillermo Angelelli is a faculty member of Intercultural Theatre Institute. An actor\, director and teacher from Argentina\, he studied drama at the National School of Dramatic Arts in Buenos Aires and continued his training with teachers such as Carlos Gandolfo and Cristina Moreira. In 1984\, he co-founded the clown group El Clú del Claun\, one of the most celebrated groups in Buenos Aires known for their avant-garde works. In 1986\, he began to develop training and research work with Iben Nagel Rassmusen of Denmark’s Odin Teatret\, and is now a member of the Vindenes Bro Group (The Bridge of Winds) managed by Rassmusen. For over 35 years\, he has been teaching clowning\, physical and vocal training in Argentina and other parts of Latin America\, as well as Europe. He has also served as the director of the theatre group El Primogénito since 1993. \nGuillermo has won many awards for his work in theatre including the Harlequin Award for Best Actor and Director for Asterion (1992)\, GATEA Award and Maria Guerrero Award for Best Actor for The Threepenny Opera (2004) and Hamlet (2004)\, and Maria Guerrero Award for Best Actor for Woyzeck (2006).
URL:https://artsequator.com/event/iti-masterclasses-by-guillermo-angelelli/
LOCATION:Intercultural Theatre Institute\, 11 Upper Wilkie Road\, Singapore\, 228120\, Singapore
CATEGORIES:Theatre (Events),Workshop & Talks (Events)
ATTACH;FMTTYPE=image/jpeg:https://artsequator.s3.ap-southeast-1.amazonaws.com/2022/06/ITI-GuillermoMasterclass-AE.jpg
ORGANIZER;CN="Intercultural%20Theatre%20Institute":MAILTO:admin@iti.edu.sg
GEO:1.3030687;103.8483915
X-APPLE-STRUCTURED-LOCATION;VALUE=URI;X-ADDRESS=Intercultural Theatre Institute 11 Upper Wilkie Road Singapore 228120 Singapore;X-APPLE-RADIUS=500;X-TITLE=11 Upper Wilkie Road:geo:103.8483915,1.3030687
END:VEVENT
BEGIN:VEVENT
DTSTART;TZID=Asia/Shanghai:20220818T193000
DTEND;TZID=Asia/Shanghai:20220904T193000
DTSTAMP:20260424T104923
CREATED:20220706T102619Z
LAST-MODIFIED:20220706T102619Z
UID:83520-1660851000-1662319800@artsequator.com
SUMMARY:Animal Farm
DESCRIPTION:“All animals are equal. But some animals are more equal than others.“ \nSomething is going on at Manor Farm. The animals have overthrown Farmer Jones and\, with the pigs as their leaders\, have created a new state for themselves called Animal Farm. \nVowing to eliminate the terrible inequities in the system\, the pigs write a set of commandments as a guide for animal life. However\, cunning propaganda hides their true agenda\, as the ideals of the revolution are gradually subverted. \nAnimal Farm\, George Orwell’s most celebrated novel\, is a timely reminder that absolute power corrupts and that totalitarian regimes inevitably betray the trust of ordinary citizens. \nCombining physical theatre\, live and original music\, and innovative design\, Wild Rice’s 20th-anniversary production of Animal Farm is more than just a tale of barnyard betrayal. Vital\, sexy and wickedly funny\, it invigorates a world classic with humour\, integrity and clarity – proving that Orwell’s dark fairy tale is as relevant today as it was 80 years ago. \nProduction History\nWild Rice’s groundbreaking production of Animal Farm first opened to rave reviews at Singapore’s Jubilee Hall in 2002\, garnering three DBS Life! Theatre Awards for Best Director\, Best Ensemble Acting and Best Music. \nSome of the finest actors in Singapore and the region have gotten down on all fours to breathe life into Animal Farm’s menagerie of characters\, including Abdul Gani Karim\, Lim Kay Siu\, Lim Yu-Beng\, Pam Oei\, Tan Kheng Hua\, Selena Tan\, Yeo Yann Yann and more. \nAnimal Farm has since proudly flown Singapore’s flag overseas\, playing to rapturous full houses and standing ovations in New Zealand (2004)\, Hong Kong (2010) and Australia (2011). \nThis 20th Anniversary production marks the first time Wild Rice has staged Animal Farm in over a decade\, and features a brand-new ensemble cast of the country’s most promising young actors. \nStarring Erwin Shah Ismail\, Tia Andrea Guttensohn\, Dwayne Lau\, Audrey Luo\, Vester Ng\, Suhaili Safari\nDuration: Approximately 1 hour 30 minutes (with no interval)\nIMDA Rating: TBA
URL:https://artsequator.com/event/animal-farm/
LOCATION:The Ngee Ann Kongsi Theatre @ WILD RICE Funan\, 107 North Bridge Road\, Singapore\, Singapore\, 179105\, Singapore
CATEGORIES:Theatre (Events)
ATTACH;FMTTYPE=image/jpeg:https://artsequator.s3.ap-southeast-1.amazonaws.com/2022/07/AF-1920x1080%403x.jpg
END:VEVENT
BEGIN:VEVENT
DTSTART;VALUE=DATE:20220824
DTEND;VALUE=DATE:20220829
DTSTAMP:20260424T104923
CREATED:20220813T014444Z
LAST-MODIFIED:20220813T014444Z
UID:84241-1661299200-1661731199@artsequator.com
SUMMARY:Audition
DESCRIPTION:A Mirage presents: \nAudition\nby Amitha Pagolu \nTICKET PRICES:\nStandard = $25\nConcessions = $20 \nTickets are free seating. Doors will open 20 minutes before showtime.  \n*To purchase Concession tickets\, enter ‘CONCESSION’ as a promo code. \nAll sales are final. A Mirage does not facilitate exchanges or refunds of tickets.\nFor any further queries or help\, kindly contact Theo Chen at popup.pubtheatre@gmail.com \n————-\nAbout the play: \nOn the cusp of leaving school\, Divya must choose between following her passion for theatre and pleasing her family. As tension clouds the atmosphere at home\, she escapes into her imagination to search for answers. But when tragedy strikes\, her choice becomes more complicated than she could imagine. \nMoving between reality and dreams\, Audition shows us the intersection of warmth\, love\, and struggle at the heart of this special family. \nAudition has been developed under the Playwrights Commune’s long-term writers group\, and was originally written for a workshop conducted by Haresh Sharma and The Necessary Stage.\n————-\nAbout ‘A Mirage’: \nA Mirage is a pop-up theatre for artists to experiment & create\, away from financial or critical pressure. In partnership with The Projector X Riverside\, the platform runs on a revenue-share model and is focused on producing premieres and revivals of original Singaporean writing. \nFollow us on Instagram @a.mirage.sg \n————-\nAudition\nby Amitha Pagolu\nDirected by Indumathi Tamilselvan\nStarring Aiswarya Nair\, Periyachi Roshini\, and Ahamed Ali Khan\nStage Managed by Nicole Tandjung\nProduced by Pearlyn Tay & Theo Chen \nImportant Information\nThe duration of this performance is approximately 1 hour 30 minutes\, with no intermission. \nAccessibility: Please use the central lifts of Riverside Point (located just next to the official Taxi Stand D11). Take to level 4. Turn left when you exit the lifts. The Projector X Riverside is the first unit on the right after the glass doors. There are 2 sets of glass doors that need to be opened before you can enter our premise. If you require assistance opening the doors – please contact us as well so we can assist on the day of the show and provide you a contact point to call when you arrive. The performance space is wheelchair-accessible.
URL:https://artsequator.com/event/audition/
LOCATION:The Projector X Riverside\, 30 Merchant Road\, #04-13\, Singapore\, 058282\, Singapore
CATEGORIES:Theatre (Events)
ATTACH;FMTTYPE=image/png:https://artsequator.s3.ap-southeast-1.amazonaws.com/2022/08/AUDITION.png
ORGANIZER;CN="A%20Mirage":MAILTO:popup.pubtheatre@gmail.com
GEO:1.28927;103.8442246
X-APPLE-STRUCTURED-LOCATION;VALUE=URI;X-ADDRESS=The Projector X Riverside 30 Merchant Road #04-13 Singapore 058282 Singapore;X-APPLE-RADIUS=500;X-TITLE=30 Merchant Road\, #04-13:geo:103.8442246,1.28927
END:VEVENT
END:VCALENDAR