BEGIN:VCALENDAR
VERSION:2.0
PRODID:-//ArtsEquator - ECPv5.16.3.1//NONSGML v1.0//EN
CALSCALE:GREGORIAN
METHOD:PUBLISH
X-ORIGINAL-URL:https://artsequator.com
X-WR-CALDESC:Events for ArtsEquator
REFRESH-INTERVAL;VALUE=DURATION:PT1H
X-Robots-Tag:noindex
X-PUBLISHED-TTL:PT1H
BEGIN:VTIMEZONE
TZID:Asia/Shanghai
BEGIN:STANDARD
TZOFFSETFROM:+0800
TZOFFSETTO:+0800
TZNAME:CST
DTSTART:20220101T000000
END:STANDARD
END:VTIMEZONE
BEGIN:VEVENT
DTSTART;TZID=Asia/Shanghai:20220722T193000
DTEND;TZID=Asia/Shanghai:20220807T220000
DTSTAMP:20260424T154401
CREATED:20220620T052511Z
LAST-MODIFIED:20220620T052511Z
UID:83191-1658518200-1659909600@artsequator.com
SUMMARY:Musical Theatre Fringe Fest (MTFF) Produced by Sing'theatre
DESCRIPTION:Musical Theatre Fringe Festival (MTFF) produced by Sing’theatre\, is Singapore’s first and only arts festival dedicated to celebrating Musical Theatre that will run from 22nd July to 7th August 2022. With 16 shows\, 7 workshops and 10 talks & events\, this ambitious new festival has something for everyone. The festival shines a spotlight on local musicals\, and fantastic local & international performers and brings together audiences to WATCH\, LEARN and ENGAGE in Musical Theatre like never before. \n  \nAre you a musical theatre fan? An aspiring performer? Or someone who has no clue about musicals? With MTFF’s extensive array of programs\, no one will be left out and in fact\, we guarantee that you will be spoilt for choice! Witness the incubation of original and local works with Tissue Aunty The Musical by CariCapture Theatre\, Jack The Musical Read by Dwayne Tan\, The Hidden Singapore Musical by Karen Lim and many more. Level up your performing skills through international workshops held by Natalie Weiss (USA) and Luka Anthony (UK) along with specialised Song and Dance workshops by the local 7/8 Musical Collective. Have a relaxing evening with family and friends at The Projector watching musical theatre movies and surround yourselves with the Musical Theatre Community at our Open Mic sessions. \n  \nTo top it all off\, our headline shows will be two showstopping Broadway fringe shows: [title of show] and In Pieces\, starring award winning performers including Mina Kaye\, Benjamin Chow\, Seong Hui Xuan\, and the next generation of Singapore talents!  \n  \nFestival Artistic Director TJ Taylor shares his vision of festival: “Singapore has a thriving Musical Theatre scene but genre has never been solely celebrated with a festival of its own. So\, through this festival I wanted to shine a fabulous spotlight and provide a platform for performers of all backgrounds to share their works\, develop their skills and increase the exposure of Musical Theatre to audiences in Singapore.”
URL:https://artsequator.com/event/musical-theatre-fringe-fest-mtff-produced-by-singtheatre/
LOCATION:multiple locations
CATEGORIES:Festival (Events),Music (Events),Theatre (Events),Workshop & Talks (Events)
ATTACH;FMTTYPE=image/jpeg:https://artsequator.s3.ap-southeast-1.amazonaws.com/2022/06/Black-MTFF-Logo.jpg
ORGANIZER;CN="Sing%27theatre":MAILTO:info@singtheatre.com
END:VEVENT
END:VCALENDAR