BEGIN:VCALENDAR
VERSION:2.0
PRODID:-//ArtsEquator - ECPv5.16.3.1//NONSGML v1.0//EN
CALSCALE:GREGORIAN
METHOD:PUBLISH
X-WR-CALNAME:ArtsEquator
X-ORIGINAL-URL:https://artsequator.com
X-WR-CALDESC:Events for ArtsEquator
REFRESH-INTERVAL;VALUE=DURATION:PT1H
X-Robots-Tag:noindex
X-PUBLISHED-TTL:PT1H
BEGIN:VTIMEZONE
TZID:Asia/Shanghai
BEGIN:STANDARD
TZOFFSETFROM:+0800
TZOFFSETTO:+0800
TZNAME:CST
DTSTART:20240101T000000
END:STANDARD
END:VTIMEZONE
BEGIN:VEVENT
DTSTART;VALUE=DATE:20240112
DTEND;VALUE=DATE:20240129
DTSTAMP:20260420T161650
CREATED:20231206T055326Z
LAST-MODIFIED:20231206T055326Z
UID:92981-1705017600-1706486399@artsequator.com
SUMMARY:comma 2024: *SCAPE Creative Arts Festival Returns
DESCRIPTION:*SCAPE’s comma Festival\, from 12 to 28 January 2024\, is a celebration of youth creativity and community spirit. Embracing the theme “Disruption\,” the festival presents a rich tapestry of arts\, including dance\, music\, and visual arts. \nHighlights include the Community Arts Residency with Jamela Law\, exploring digital technologies in art\, MOV:MENT Lab’s four avant-garde dance films\, Experimentation Ground’s innovative performances\, and the *SCAPE Dance Residency’s contemporary choreography. Music Day Out features top acts like Blush\, showcasing Singapore’s musical talent. As a key program of the Somerset Belt\, the festival fosters youth development\, mentorship\, and cross-disciplinary collaboration. \nMost events offer free admission\, inviting all to partake in this artistic journey. For a full lineup and more information\, visit https://www.scape.sg/comma/. \n\n\n\nArtist \nTitle of Work\nSchedule\nSynopsis\n\n\n\n\nMusic Day Out!\n\n\n1.     Leipzig (ID) \n2.     No Good (MY) \n3.     Fuse \n4.     Blush \n5.     Golden Mammoth (MY) \n6.     Woes \n7.     Gabba (PH) \n8.     Naedr \n9.     Bellied Star \n10.  Intermission \n11.  Regina Song \n12.  Impulse – ITE Battle of the Bands Winner \n13.  Guest Programmers\nMusic Day Out! \n \n13 – 14 January 2024 \nTime: 5PM – 11PM \nVenue: *SCAPE\, The Ground Theatre \n  \nSharing Session: What’s Tour Life Like?\n14 January 2024\n1PM – 1:45PM \nVenue: Gallery\nTouring always seems like so much fun but join us as artists share their best practices and pitfalls to avoid.\n·       Tickets are on sale from 4 December 2023 at https://bit.ly/MDO2024 \n·       Early Bird Specials \n(until 1 January 2024\, 11:59PM) \n  \n\n\n\n\nDay 1 or 2\n2-Day Bundle\n\n\nEarly Bird Specials\n$25.00\n$30.00\n\n\nGeneral Admission\n$30.00\n$40.00\n\n\n\n  \n \n\n\nCommunity Arts Residency\n\n\nJamela Law\nScars\, Skins and Styles: Phygital Transfigurations\n13 – 28 January 2024 \n11AM – 8PM \nVenue: *SCAPE\, #02-07/08\nThis community art project aims to bring to light invisible battles fought\, celebrate those of us who have emerged from life changing experiences and to foster dialogue on Mental Health. \nDigital Technologies and Fashion Co-Designing are explored as experimental Art Therapy tools to harness the power of Enclothed Cognition\, and for mediation\, introspection\, and reinvention in Virtual Reality. \n  \nCustom hyper-realistic digital avatars are constructed with the help of 3D scanning technologies and generative systems. The artist (Jamela Law\, she/ they) aims to create warm-hearted\, celebratory\, and inclusive networks that promote healing and bridge interpersonal distances\, one metamorphosis at a time.\n\n\nMOV:MENT Lab\n\n\nGrace Song\nBody Missing Body\n MOV:MENT Lab Dance Film Premiere Screening \n13 January 2024\n1PM – 4PM\nVenue: Projector @ Cineleisure \n(By invite only) \n  \nMOV:MENT Lab Exhibition \n13 – 28 January 2024 \n2PM – 8:30PM \nVenue: *SCAPE Level 3\n(#03-07/08/09)\nPost-war Japanese avant-garde dance form exploring separation and memory.\n\n\nSonia Kwek & Elsa Tan\nhard boil\, soft centre\nFilm inspired by feminine archetypes across cultures.\n\n\nAmanda Tan & Jonit On\nFR:AGILITY\nFilm exploring abstract human form and movement.\n\n\nJeremy Ho & Liz Sgt Tan\nI Summon You\nDance reflecting artist’s journey and mother’s influence.\n\n\nExperimentation Ground\n\n\nAfiszan Amat\n‘;W[qw-u9 “TAPPING”\nThe Ground Theatre \n20 January 2024 \n  \n‘;W[qw-u9 “TAPPING” \nFirst Show:\n2PM – 3PM\n(with post-show talk) \nSecond Show:\n7:30PM – 8:15PM \nILL BEHAVIOUR \nFirst Show:\n3:30PM – 4:30PM\n(with post-show talk) \nSecond Show:\n8:30PM – 9:30PM\nPerformance challenging the ritualistic use of smartphones.\n\n\nHee Suhui\nILL BEHAVIOUR\nTapping: Performance challenging the ritualistic use of smartphones. \nIll Behaviour: mixes sound art\, performance art and physical storytelling\, offering a raw\, humorous take on personal and collective experiences. \nRegistration: https://www.eventbrite.sg/e/experimentation-ground-showcase-tickets-768290005087 \n  \n  \n \n\n\nHOMEGROUND – Street Dance Production & Bloc Party\n\n\n \n \n27 January 2024 \n7:30PM – 11:30PM \nVenue: *SCAPE The Ground Theatre\nA street-dance production and bloc party that serves as the ultimate gathering of local talents and a celebration of the community spirit. \n  \nRegistration: https://www.eventbrite.sg/e/homeground-2024-tickets-765176281857\n\n\nShean Buligis\nPaper Trails\n27 January 2024 \n7:30PM – 11:30PM \nVenue: *SCAPE The Ground Theatre\nExploration of movement inspired by chaos.\n\n\nPriscilla\nEnneagram 2\nDance delving into self-love and emotional complexity.\n\n\nAisyah Hanafi\nProvidence\nExploring the interconnection of individual and collective existence.\n\n\n*SCAPE Dance Residency Showcase\n\n\nJeremy Loh\nManufactured Nature\n19 January 2024 \n8:15PM – 8:45PM \n  \n20 January 2024 \n3:45PM – 4:15PM \n8:15PM – 8:45PM \nVenue: *SCAPE Outdoor Area\nReflects on humanity’s alienation from nature.\n\n\nIgnatius\nall-seeing\n19 January 2024 \n7:30PM – 8PM \n  \n20 January 2024 \n3PM – 3:30PM \n7:30PM – 8PM \n  \nVenue: *SCAPE #02-05/06\nExamines the parallels between CCTVs and human behaviour.\n\n\nKimberly Sim\nLook At Me\n19 January 2024 \n7:30PM – 8PM \n  \n20 January 2024 \n3PM – 3:30PM \n7:30PM – 8PM \n  \nVenue: *SCAPE #02-05/06\nA dance about self-expression beyond societal judgment.\n\n\nShanna\nHitoiki\n19 January 2024 \n8:15PM – 8:45PM \n  \n20 January 2024 \n3:45PM – 4:15PM \n8:15PM – 8:45PM \n  \nVenue: *SCAPE Outdoor Area\nDance symbolising the breath of life through various forms.\n\n\nStreet Dance Intensives with Sue from Chibi Unity (Japan) and Tank Bautista (Philippines)\n\n\nTank Bautista (Philippines)\n25 January 2024\n7:30PM – 9:30PMVenue: *SCAPE The Ground Theatre\nTickets at $35. On sale from 4 Dec: https://www.eventbrite.sg/e/street-dance-intensives-with-sue-from-chibi-unity-and-tank-bautista-tickets-768307617767\n\n\nSue from Chibi Unity (Japan)\n26 Jan 2024\n7:30PM – 9:30PMVenue: *SCAPE The Ground Theatre\n\n\nThe Uncontained Collective: The Out-of-Box Zone \n\n\nRoar City Grounds\nKrump Exhibition\n19-21\, 26-28 Jan 2024 \n5PM – 10PM\nVenue: Container @ *SCAPE Playspace \n \nA film and interactive exhibition on Krumping presented by *SCAPE’s resident interest group.\n\n\n*SCAPE Budding Game Developers\nGame Demos \n \n12-14\, 19-21\, 26-28 Jan \n5PM – 10PM \nVenue: Container @ *SCAPE \nPlayspace \n \nGame Developers from *SCAPE’s very own Up Your Game and Rookie Game Jam showcase their unique and innovative games! \n \n\n\nCreative Fellowship\nGame-Changing Pitches\nYoung Entrepreneurs from the Creative Fellowship programme display their innovative or disruptive business ideas.\n\n\nOTHER ACTIVITIES\n\n\nWorld Supremacy Battlegrounds\n\n\n–\n–\n26\, 27\, 28 January 2024 \n12PM – 7PM \nVenue: *SCAPE The Ground Theatre\nWSB ASIA International Championship brings together the best dancers from diverse backgrounds\, fostering cultural exchange and unity through the universal language of dance.\n\n\nKDO – K-pop Random Play Dance\n\n\n\n\n12 January 2024 \n7PM – 10PM \nVenue: *SCAPE The Treetop\nGathering of K-pop enthusiasts\, grooving to the latest K-Pop tunes.
URL:https://artsequator.com/event/comma-2024-scape-creative-arts-festival-returns/
LOCATION:*SCAPE\, 2 Orchard Link #02-14\, Singapore\, Singapore\, 237978\, Singapore
CATEGORIES:Artist Opportunities,Children/Family (Events),Dance (Events),Festival (Events),Film Screening (Events),Music (Events),Residencies & Fellowships,Theatre (Events),Visual Arts (Events)
ATTACH;FMTTYPE=image/jpeg:https://artsequator.s3.ap-southeast-1.amazonaws.com/2023/12/SCAPE-comma-KV-RGB.jpg
ORGANIZER;CN="%2ASCAPE":MAILTO:nyfa@scape.sg
GEO:1.3010543;103.835846
X-APPLE-STRUCTURED-LOCATION;VALUE=URI;X-ADDRESS=*SCAPE 2 Orchard Link #02-14 Singapore Singapore 237978 Singapore;X-APPLE-RADIUS=500;X-TITLE=2 Orchard Link #02-14:geo:103.835846,1.3010543
END:VEVENT
BEGIN:VEVENT
DTSTART;TZID=Asia/Shanghai:20240118T200000
DTEND;TZID=Asia/Shanghai:20240118T223000
DTSTAMP:20260420T161650
CREATED:20240109T053548Z
LAST-MODIFIED:20240109T053548Z
UID:93172-1705608000-1705617000@artsequator.com
SUMMARY:Siao Char Bors Presents Robyn Perkins
DESCRIPTION:SIAO CHAR BORS Comedy\, your favourite women & queer-friendly comedy open mic night presents ROBYN PERKINS (US/UK) in her comedy special about bisexuality\, science and misinformation\, MILLION DOLLAR MAYBE! Also featuring an open mic and drag performances by visiting Latvian drag king BILL LAGOON and rising star of local drag EARTH NAKHA! \nABOUT ROBYN PERKINS \nAmerican-born Robyn Perkins has taken the global comedy scene by storm\, with rave reviews and awards\, including winning the Sydney Fringe Comedy Award in 2019 with her debut hour 10\,000 Decisions. Combining real-life stories\, her background in biology and her affable charm\, Robyn takes audiences through hilarious tales and can scientifically prove how ridiculous they are as well. \nMILLION DOLLAR MAYBE\n\n“a smashing success” – ★ ★ ★ ★ ½ Out in Perth  \nCan you prove anything? Maybe with science\, spreadsheets and storytelling. MILLION DOLLAR MAYBE is an honest and heartfelt show that takes love and identity head-on with laugh-out-loud comedy and Tinder statistics. Expect family drama\, science\, personality and most of all “comedic gold” ★★★★ (XPressMag.com.au). Don’t miss multi-award-winning comedian Robyn Perkins as she takes on bivisibility\, the dating life of penguins\, and a sexual orientation scientist.  \n“not your usual comedy show: instead it is so much better” – ★ ★ ★ ★ ½ GlamAdelaide \nBest Comedy Act\, Shaftesbury Fringe\, 2023 \nBest in Comedy Award Winner\, Sydney Fringe 2019 \nWeekly Comedy Award Winner\, Perth FRINGE WORLD 2020 \n\n 
URL:https://artsequator.com/event/siao-char-bors-presents-robyn-perkins/
LOCATION:The Projector Golden Mile\, 6001 Beach Rd\, #05-00 GOLDEN MILE TOWER\, Singapore\, 199589\, Singapore
CATEGORIES:Dance (Events),Event of the Day,Other (Events),Theatre (Events)
ATTACH;FMTTYPE=image/png:https://artsequator.s3.ap-southeast-1.amazonaws.com/2024/01/SCB-JAN-1920-1080.png
ORGANIZER;CN="Siao%20Char%20Bors%20Comedy":MAILTO:redrabbit1987@gmail.com
GEO:1.3019921;103.8642024
X-APPLE-STRUCTURED-LOCATION;VALUE=URI;X-ADDRESS=The Projector Golden Mile 6001 Beach Rd #05-00 GOLDEN MILE TOWER Singapore 199589 Singapore;X-APPLE-RADIUS=500;X-TITLE=6001 Beach Rd\, #05-00 GOLDEN MILE TOWER:geo:103.8642024,1.3019921
END:VEVENT
BEGIN:VEVENT
DTSTART;TZID=Asia/Shanghai:20240118T200000
DTEND;TZID=Asia/Shanghai:20240120T210000
DTSTAMP:20260420T161650
CREATED:20231121T072445Z
LAST-MODIFIED:20231121T072445Z
UID:92803-1705608000-1705784400@artsequator.com
SUMMARY:M1 Singapore Fringe Festival presents Motherland by Very Shy Gurl by fendy (Singapore)
DESCRIPTION:Accessibility features: open captions in English for all shows \nIn a tight embrace above the very line that divides the land\, two unknown soldiers deeply in love and with different loyalties contemplate the inevitable as the night sky above Motherland starts to burn red. When Motherland eventually bleeds and pleads for vengeance\, how should the soldier love? \n  \nFirst presented as a work-in-progress at Headlines Act / SIFA-X 2023 Edition by Centre 42 and Singapore International Festival of Arts (SIFA)\, Motherland examines notions of love as framed between the extremes of loyalty and betrayal responding to the remembered\, forgotten\, neglected\, and celebrated violent conflicts all around the world that continue to develop\, evolve\, and erupt to this day. \n  \nPost-show dialogue on 19 January 2024\, with speech to text interpretation available upon request. Please email your request to info@singaporefringe.com before 15 December 2023. \n 
URL:https://artsequator.com/event/m1-singapore-fringe-festival-presents-motherland-by-very-shy-gurl-by-fendy-singapore/
LOCATION:The Theatre Practice\, 54 Waterloo Street\, Singapore\, 187953
CATEGORIES:Festival (Events),Theatre (Events)
ATTACH;FMTTYPE=image/png:https://artsequator.s3.ap-southeast-1.amazonaws.com/2023/11/M1FF%E2%80%93LinkedIn%E2%80%93Motherland.png
ORGANIZER;CN="M1%20Singapore%20Fringe%20Festival":MAILTO:info@singaporefringe.com
GEO:1.2986009;103.85118
X-APPLE-STRUCTURED-LOCATION;VALUE=URI;X-ADDRESS=The Theatre Practice 54 Waterloo Street Singapore 187953;X-APPLE-RADIUS=500;X-TITLE=54 Waterloo Street:geo:103.85118,1.2986009
END:VEVENT
BEGIN:VEVENT
DTSTART;TZID=Asia/Shanghai:20240118T200000
DTEND;TZID=Asia/Shanghai:20240121T213000
DTSTAMP:20260420T161650
CREATED:20231121T072332Z
LAST-MODIFIED:20231121T072332Z
UID:92805-1705608000-1705872600@artsequator.com
SUMMARY:M1 Singapore Fringe Festival presents THOM PAIN (based on nothing) by Edith Podesta\, Yarra Ileto & Nanyang Academy of Fine Arts (Australia & Singapore)
DESCRIPTION:“Thom Pain is at bottom a surreal meditation on the empty promises life makes\, the way experience never lives up to the weird and awesome fact of being. But it is also\, in its odd\, bewitching beauty\, an affirmation of life’s worth.” \n—The New York Times \n  \nThom Pain is trying to save his life to save your life\, in that order. \nFilled with biting humour\, desire\, and lost innocence\, the Pulitzer Prize-nominated show THOM PAIN (based on nothing) is one ordinary man’s extraordinary search through the wreckage of his life. \n  \nHailed as “astonishing …a small masterpiece” by The New York Times\, this insightful\, at times surreal\, production catalogues the eternal agonies of the human condition in wit and one last-ditch plea for empathy and enlightenment. \n  \nDirected by Edith Podesta and choreographed by Yarra Ileto\, THOM PAIN (based on nothing) is performed by students from the BA (Hons) in Performance Making programme at the Nanyang Academy of Fine Arts. \n  \nPost-show dialogue on 19 January 2024\, with speech to text interpretation available upon request. Please email your request to info@singaporefringe.com before 15 December 2023.
URL:https://artsequator.com/event/m1-singapore-fringe-festival-presents-thom-pain-based-on-nothing-by-edith-podesta-yarra-ileto-nanyang-academy-of-fine-arts-australia-singapore/
LOCATION:NAFA Studio Theatre\, 151 Bencoolen Street\, 189656\, Singapore
CATEGORIES:Festival (Events),Theatre (Events)
ATTACH;FMTTYPE=image/png:https://artsequator.s3.ap-southeast-1.amazonaws.com/2023/11/M1FF%E2%80%93LinkedIn%E2%80%93THOM-PAIN.png
ORGANIZER;CN="M1%20Singapore%20Fringe%20Festival":MAILTO:info@singaporefringe.com
GEO:1.3012565;103.8517878
X-APPLE-STRUCTURED-LOCATION;VALUE=URI;X-ADDRESS=NAFA Studio Theatre 151 Bencoolen Street 189656 Singapore;X-APPLE-RADIUS=500;X-TITLE=151 Bencoolen Street:geo:103.8517878,1.3012565
END:VEVENT
BEGIN:VEVENT
DTSTART;VALUE=DATE:20240119
DTEND;VALUE=DATE:20250101
DTSTAMP:20260420T161650
CREATED:20240221T073213Z
LAST-MODIFIED:20240221T073213Z
UID:93652-1705622400-1735689599@artsequator.com
SUMMARY:Sound Plot: True/South\, A Collection of Audio Plays
DESCRIPTION:𝗦𝗼𝘂𝗻𝗱 𝗣𝗹𝗼𝘁: 𝗧𝗿𝘂𝗲/𝗦𝗼𝘂𝘁𝗵 is a collection of audio plays responding to the geographical area of Tanjong Pagar/Pasir Panjang where the Singapore Art Museum currently resides. With audio design by Artwave Studio\, the plays first premiered as part of Singapore Art Week\, each with an audio spot installation at the museum and now available online as well. \nThe three short audio plays (of which the latter 2 were selected through our Open Call) are: \nSea Song  \nAdvisory: Contains some coarse language \nLaurie and Scott settle into their new expatriate lives at Sentosa Cove only to discover that not all is as it seems. Beneath the ostentatious luxuries of modern Singapore lie the sea and the land seething in their grief; and as Laurie’s connection to them grows she discovers that this loss is collective and communal. \nPlaywright: Joel Tan\nDirector: Cherilyn Woo\nActors: Julie Wee\, Daniel Jenkins\, Ching Shu Yi\, Serene Chen\, Tysha Khan\, Irsyad Dawood\, Joel Tan \nGhazal of the Banana Tree’s Heart \n\n\nA solitary banana tree remains on the shore\, the sole survivor amongst its compatriots\, lost to the need for the space they occupied; a lone banana tree that is the last repository of the stories of those shores – of fishermen\, turtles and the sea itself. Alone it sings the same refrain – but who listens? \nPlaywright: Danial Matin\nDirector: Grace Kalaiselvi\nActors: Suhaili Safari & Shahid Nasheer \nFragments of a Singaporean Hainanese \nAt the opening of a new exhibition on the Hainanese community in Singapore\, memories are excavated through the stories of three Hainanese immigrants of different generations\, their connections to an island they left for another\, and the sea that connects them. \nPlaywright: Wang Liansheng\nDirector: Lim Shien Hian\nActors: Jalyn Han\, Hang Qian Chou\, Rino Junior John\, Mitchell Fang
URL:https://artsequator.com/event/sound-plot-true-south-a-collection-of-audio-plays/
LOCATION:Singapore Art Museum\, 39 Keppel Rd\, #01-02 Tanjong Pagar Distripark\, Singapore 089065\, Singapore\, Singapore\, 089065\, Singapore
CATEGORIES:Children/Family (Events),Other (Events),Theatre (Events)
ATTACH;FMTTYPE=image/jpeg:https://artsequator.s3.ap-southeast-1.amazonaws.com/2024/02/Batch-2-V2-1.jpg
ORGANIZER;CN="Centre%2042":MAILTO:info@centre42.sg
GEO:1.2719533;103.836752
X-APPLE-STRUCTURED-LOCATION;VALUE=URI;X-ADDRESS=Singapore Art Museum 39 Keppel Rd #01-02 Tanjong Pagar Distripark Singapore 089065 Singapore Singapore 089065 Singapore;X-APPLE-RADIUS=500;X-TITLE=39 Keppel Rd\, #01-02 Tanjong Pagar Distripark\, Singapore 089065:geo:103.836752,1.2719533
END:VEVENT
BEGIN:VEVENT
DTSTART;TZID=Asia/Shanghai:20240125T200000
DTEND;TZID=Asia/Shanghai:20240128T163000
DTSTAMP:20260420T161650
CREATED:20231121T072803Z
LAST-MODIFIED:20231121T072845Z
UID:92802-1706212800-1706459400@artsequator.com
SUMMARY:M1 Singapore Fringe Festival presents Oo-Woo by The Necessary Stage (Singapore)
DESCRIPTION:In English and Bahasa Melayu \nAccessibility features: open captions in English for all shows \n  \nThrough tender storytelling\, Oo-woo unravels the intricate web of caring for an elderly family member with dementia. As the story unfolds\, deep secrets and hidden desires come to light\, casting doubt on the strength of familial bonds. When their cherished family bird mysteriously disappears\, a journey of unsettling discoveries begins\, challenging the characters’ understanding of duty and love. \n  \nWritten by Raimi Safari\, directed by Mohd Fared Jainal\, and starring Dalifah Shahril\, Farah Lola\, Isabella Chiam and Yazid Jalil\, Oo-woo delves into the haunting realm of dementia\, blurring the lines between reality and illusion. A single bird brings into question the sacrifices and choices we make when faced with the unknown. \n  \nOo-Woo was developed at The Necessary Stage’s Playwrights’ Cove 2022 under the mentorship of Resident Playwright Haresh Sharma. \n  \nPost-show dialogue on 25 January 2024\, with speech to text interpretation available upon request. Please email your request to info@singaporefringe.com before 15 December 2023.
URL:https://artsequator.com/event/m1-singapore-fringe-festival-presents-oo-woo-by-the-necessary-stage-singapore/
LOCATION:Esplanade Theatre Studio\, 1 Esplanade Dr\, Singapore\, 038981\, Singapore
CATEGORIES:Festival (Events),Theatre (Events)
ORGANIZER;CN="M1%20Singapore%20Fringe%20Festival":MAILTO:info@singaporefringe.com
GEO:1.289857;103.8552799
X-APPLE-STRUCTURED-LOCATION;VALUE=URI;X-ADDRESS=Esplanade Theatre Studio 1 Esplanade Dr Singapore 038981 Singapore;X-APPLE-RADIUS=500;X-TITLE=1 Esplanade Dr:geo:103.8552799,1.289857
END:VEVENT
BEGIN:VEVENT
DTSTART;VALUE=DATE:20240126
DTEND;VALUE=DATE:20240205
DTSTAMP:20260420T161650
CREATED:20231221T071859Z
LAST-MODIFIED:20231221T071859Z
UID:93090-1706227200-1707091199@artsequator.com
SUMMARY:Stick Figures
DESCRIPTION:‘Stick Figures’ (90 min.) / 26 Jan to 4 Feb 2024 \nAll shows will be performed in Thai with English subtitles. \nStick Figures was written by Josh Ginsburg. It premiered at The Carnegie Mellon University School of Drama where he did his MFA in Dramatic Writing Program in 2013. In 2016\, the play was produced and performed at Thonglor Art Space and became the talk of the town after 34 successful shows\, winning BEST DIRECTION and BEST PERFORMANCE BY FEMALE ARTIST at The IATC Thailand Dance and Theatre Awards. \nIn 2024\, Stick Figures will be restaged and premiered at River City Bangkok before touring across the country. \nReservation your early bird tickets (limited to the first 100 tickets) fill in a form: https://forms.gle/nwKPkDT2ux4N5LJG6 Or contact us\, You can call 095 524 4555. send us a message at Thong Lor Art Space Bangkok \nDate & Showtime: \n26 January 2024\, 19:00 \n27 January 2024\, 19:00 \n28 January 2024\, 14:00 \n2 February 2024\, 19:00 \n3 February 2024\, 19:00 \n4 February 2024\, 14:00 \nTicket Price: \nRegular 750 THB \nEarlybird 650 THB (Limited to the first 100 tickets.) \nVenue: \nRCB Forum\, 2nd floor\, River City Bangkok
URL:https://artsequator.com/event/stick-figures/
LOCATION:River City Bangkok\, 23 Charoen Krung Soi 24 Talard Noi\, Sampantawong\, Bangkok\, 10100\, Thailand
CATEGORIES:Theatre (Events)
ATTACH;FMTTYPE=image/jpeg:https://artsequator.s3.ap-southeast-1.amazonaws.com/2023/12/Untitled02.jpg
ORGANIZER;CN="River%20City%20Bangkok":MAILTO:rcbexhibition@rivercity.co.th
GEO:13.7345611;100.513591
X-APPLE-STRUCTURED-LOCATION;VALUE=URI;X-ADDRESS=River City Bangkok 23 Charoen Krung Soi 24 Talard Noi Sampantawong Bangkok 10100 Thailand;X-APPLE-RADIUS=500;X-TITLE=23 Charoen Krung Soi 24 Talard Noi\, Sampantawong:geo:100.513591,13.7345611
END:VEVENT
BEGIN:VEVENT
DTSTART;TZID=Asia/Shanghai:20240126T190000
DTEND;TZID=Asia/Shanghai:20240126T200000
DTSTAMP:20260420T161650
CREATED:20240206T092459Z
LAST-MODIFIED:20240206T092459Z
UID:93445-1706295600-1706299200@artsequator.com
SUMMARY:Making Queer Work across Stage & Screen
DESCRIPTION:Come listen to James Ley’s practice and process of writing some of the most celebrated queer plays in Scotland. He will share about how his works speak to the preservation and promotion of queer spaces\, as well as how he creates iconic and original queer characters who survive\, thrive and sidestep stereotypes. With two of his plays now in development as screenplays\, you’ll find out James’ approach to translating his work from stage to screen too. Stay for a Q&A facilitated by Ahmad Musta’ain\, playwright\, educator and a dear friend of James! \nABOUT JAMES LEY \nJames Ley is a playwright and screenwriter living in Glasgow. His recent plays include WILF (Traverse Theatre)\, ODE TO JOY (Stories Untold\, Summerhall) and LOVE SONG TO LAVENDER MENACE (Royal Lyceum Theatre Edinburgh\, Summerhall\, SoHo Playhouse\, New York). \nJames’ play ODE TO JOY which he wrote and directed won a Fringe First at the Edinburgh Festival 2022. His feature adaptation of Love Song to Lavender Menace is currently in development\, produced by John McKay/Compact Pictures\, funded by the Scottish Film Talent Network.
URL:https://artsequator.com/event/making-queer-work-across-stage-screen/
LOCATION:TBC\, TBC\, Singapore\, Singapore
CATEGORIES:Event of the Day,Literary Events/Talks (Events),Theatre (Events),Workshop & Talks (Events)
ATTACH;FMTTYPE=image/png:https://artsequator.s3.ap-southeast-1.amazonaws.com/2024/01/Sharing-Making-Queer-Work-across-Stage-Screen.png
ORGANIZER;CN="Centre%2042":MAILTO:info@centre42.sg
GEO:1.3779842;103.8753721
X-APPLE-STRUCTURED-LOCATION;VALUE=URI;X-ADDRESS=TBC TBC Singapore Singapore;X-APPLE-RADIUS=500;X-TITLE=TBC:geo:103.8753721,1.3779842
END:VEVENT
BEGIN:VEVENT
DTSTART;TZID=Asia/Shanghai:20240127T140000
DTEND;TZID=Asia/Shanghai:20240127T160000
DTSTAMP:20260420T161650
CREATED:20240207T065446Z
LAST-MODIFIED:20240207T065446Z
UID:93447-1706364000-1706371200@artsequator.com
SUMMARY:Workshop: Writing Queer Joy
DESCRIPTION:With a focus on queer characters and queer stories\, this workshop is an introduction to developing character-driven queer drama for stage and screen. Join award-winning Scottish playwright and screenwriter James Ley\, as he facilitates his favourite creative-thinking and playwriting exercises to help you harness queer joy in your writing. \nThis workshop will accept participants who fulfil the following pre-requisites: \n\nEmerging writers who have written at least one full-length play\nWriters interested in telling queer stories\n\nThe workshop will accept a maximum of 12 participants. \nABOUT JAMES LEY \nJames Ley is a playwright and screenwriter living in Glasgow. His recent plays include WILF (Traverse Theatre)\, ODE TO JOY (Stories Untold\, Summerhall) and LOVE SONG TO LAVENDER MENACE (Royal Lyceum Theatre Edinburgh\, Summerhall\, SoHo Playhouse\, New York). \nJames’ play ODE TO JOY which he wrote and directed won a Fringe First at the Edinburgh Festival 2022. His feature adaptation of Love Song to Lavender Menace is currently in development\, produced by John McKay/Compact Pictures\, funded by the Scottish Film Talent Network.
URL:https://artsequator.com/event/workshop-writing-queer-joy/
LOCATION:Centre 42 Office\, 42 Waterloo Street\, 42 Waterloo Street\, 187951\, Singapore
CATEGORIES:Artist Opportunities,Literary Events/Talks (Events),Theatre (Events),Workshop & Talks (Events)
ATTACH;FMTTYPE=image/png:https://artsequator.s3.ap-southeast-1.amazonaws.com/2024/01/Workshop-Writing-Queer-Joy.png
ORGANIZER;CN="Centre%2042":MAILTO:info@centre42.sg
GEO:1.2982455;103.8509506
X-APPLE-STRUCTURED-LOCATION;VALUE=URI;X-ADDRESS=Centre 42 Office 42 Waterloo Street 42 Waterloo Street 187951 Singapore;X-APPLE-RADIUS=500;X-TITLE=42 Waterloo Street:geo:103.8509506,1.2982455
END:VEVENT
END:VCALENDAR