BEGIN:VCALENDAR
VERSION:2.0
PRODID:-//ArtsEquator - ECPv5.16.3.1//NONSGML v1.0//EN
CALSCALE:GREGORIAN
METHOD:PUBLISH
X-ORIGINAL-URL:https://artsequator.com
X-WR-CALDESC:Events for ArtsEquator
REFRESH-INTERVAL;VALUE=DURATION:PT1H
X-Robots-Tag:noindex
X-PUBLISHED-TTL:PT1H
BEGIN:VTIMEZONE
TZID:Asia/Shanghai
BEGIN:STANDARD
TZOFFSETFROM:+0800
TZOFFSETTO:+0800
TZNAME:CST
DTSTART:20230101T000000
END:STANDARD
END:VTIMEZONE
BEGIN:VEVENT
DTSTART;VALUE=DATE:20230116
DTEND;VALUE=DATE:20230301
DTSTAMP:20260423T193147
CREATED:20230117T015022Z
LAST-MODIFIED:20230117T015022Z
UID:89103-1673827200-1677628799@artsequator.com
SUMMARY:The Backstage Affair Apprenticeship Programme (BAAP)
DESCRIPTION:Aspiring to be production or stage manager but not sure how to start? 2023 intake for Backstage Affair Apprenticeship Programme (BAAP) is now open! \nBAAP is BA’s flagship 12-month long training programme that bridges the gap between what has been learnt in school and professional industry practice. \nWith BAAP\, we hope to provide a safe and structured space for trainees to learn on the job and to reflect on your personal and professional growth under the mentorship of a more experienced practitioner. It will help you to build a strong network with fellow practitioners at the start of your career. \nBAAP is fully sponsored by BA with the support of the National Arts Council. \nBAAP is for any interested backstage practitioners interested to kickstart your backstage career. \nFor more details: https://bit.ly/BAAPbrochure
URL:https://artsequator.com/event/the-backstage-affair-apprenticeship-programme-baap/
CATEGORIES:Other (Events),Theatre (Events),Workshop & Talks (Events)
ATTACH;FMTTYPE=image/png:https://artsequator.s3.ap-southeast-1.amazonaws.com/2023/01/BAAP-Listing.png
ORGANIZER;CN="The%20Backstage%20Affair":MAILTO:hello@thebackstageaffair.com
END:VEVENT
BEGIN:VEVENT
DTSTART;TZID=Asia/Shanghai:20230222T080000
DTEND;TZID=Asia/Shanghai:20230226T170000
DTSTAMP:20260423T193147
CREATED:20230110T054302Z
LAST-MODIFIED:20230112T062327Z
UID:89025-1677052800-1677430800@artsequator.com
SUMMARY:The Puppets Are Alright by The Finger Players
DESCRIPTION:The Puppets Are Alright is a celebration of all things puppetry. Featuring a triple bill of puppetry-led works\, The Puppets Are Alright marks the final production of Ellison Tan and Myra Loke’s 2019-2023 stint as The Finger Players’ Co-Artistic Directors. \nThe show is a culmination of The Maker’s Lab from 2020 to 2023\, an initiative by TFP to nurture and grow builders and designers of puppets and objects. \n  \nTHE BENCH \nPlaywright: Ellison Tan\nDirector: Myra Loke\nTML Maker / Puppet Designer & Maker: Marilyn Ang\nPerformers / Puppeteers: Ian Tan\, T. Sasitharan \nOn a bench\, Paul and his father tell each other stories\, disregard their unhappiness with reckless abandon\, and allowed their souls to be healed by each other. \n  \nPARTING \nPlaywright & Director: Oliver Chong\nPuppet Designer & Maker: Loo An Ni\nPerformers / Puppeteers: Alvin Chiam\, Angelina Chandra\, Jo Kwek\, Rachel Nip \nA relationship has run its course and a man sits at his desk to finalize a separation. \n  \nMY FATHER THE A.I MACHINE \nPlaywright: Chong Tze Chien\nDirector: Liew Jia Yi\nPuppet Designer & Maker: Sim Xin Feng\nPerformers / Puppeteers: Doreen Toh\, Neo Hai Bin \nShe clings on to her dead husband’s memories\, lovingly preserved in an electronic shell of him in her house. He lives on in a fictional world that she tenderly and tirelessly recreates\, while their son is caught in between\, unable to move on.
URL:https://artsequator.com/event/the-puppets-are-alright-by-the-finger-players/
LOCATION:Drama Centre Black Box\, Singapore\, Select a Country:
CATEGORIES:Theatre (Events)
ATTACH;FMTTYPE=image/png:https://artsequator.s3.ap-southeast-1.amazonaws.com/2023/01/TPAR-FB-banner.png
ORGANIZER;CN="The%20Finger%20Players":MAILTO:admin@fingerplayers.com
GEO:1.2936759;103.8573371
END:VEVENT
BEGIN:VEVENT
DTSTART;TZID=Asia/Shanghai:20230223T193000
DTEND;TZID=Asia/Shanghai:20230223T213000
DTSTAMP:20260423T193147
CREATED:20230208T064227Z
LAST-MODIFIED:20230208T085729Z
UID:89294-1677180600-1677187800@artsequator.com
SUMMARY:Residency Sharing: Playwrights and their F*ck You Plays
DESCRIPTION:Join our resident playwrights in a sharing from their exploration of plays that say “F*CK YOU” to systems\, conventions and injustice.\n \nThe four residents of Centre 42’s Playwright’s Professional Development Residency have spent the past six months reading and discussing plays that turn back the gaze\, plays that dream about systems unraveling\, plays that ask hard and pungent questions\, plays that stare fear and proscription in the face. In short\, they’ve been reading plays that say “F*CK YOU” in some form or another and turning these provocations and insights on their own practices. \nThis evening will be an intimate sharing of their discoveries\, uncertainties\, and ambitions for the future. Come listen to what they’ve got to share and stay for a casual chat with the artists at the end.
URL:https://artsequator.com/event/residency-sharing-playwrights-and-their-fck-you-plays/
LOCATION:Black Box\, 42 Waterloo Street\, 42 Waterloo Street\, Singapore\, 187951\, Singapore
CATEGORIES:Other (Events),Theatre (Events),Workshop & Talks (Events)
ATTACH;FMTTYPE=image/png:https://artsequator.s3.ap-southeast-1.amazonaws.com/2023/02/c42_nwp_facebookcover_PPDRsharing-04.png
ORGANIZER;CN="Centre%2042":MAILTO:info@centre42.sg
GEO:1.2982455;103.8509506
X-APPLE-STRUCTURED-LOCATION;VALUE=URI;X-ADDRESS=Black Box 42 Waterloo Street 42 Waterloo Street Singapore 187951 Singapore;X-APPLE-RADIUS=500;X-TITLE=42 Waterloo Street:geo:103.8509506,1.2982455
END:VEVENT
END:VCALENDAR