BEGIN:VCALENDAR
VERSION:2.0
PRODID:-//ArtsEquator - ECPv5.16.3.1//NONSGML v1.0//EN
CALSCALE:GREGORIAN
METHOD:PUBLISH
X-WR-CALNAME:ArtsEquator
X-ORIGINAL-URL:https://artsequator.com
X-WR-CALDESC:Events for ArtsEquator
REFRESH-INTERVAL;VALUE=DURATION:PT1H
X-Robots-Tag:noindex
X-PUBLISHED-TTL:PT1H
BEGIN:VTIMEZONE
TZID:Asia/Shanghai
BEGIN:STANDARD
TZOFFSETFROM:+0800
TZOFFSETTO:+0800
TZNAME:CST
DTSTART:20220101T000000
END:STANDARD
END:VTIMEZONE
BEGIN:VEVENT
DTSTART;TZID=Asia/Shanghai:20220915T193000
DTEND;TZID=Asia/Shanghai:20221002T143000
DTSTAMP:20260424T041416
CREATED:20220706T102720Z
LAST-MODIFIED:20220706T102720Z
UID:83522-1663270200-1664721000@artsequator.com
SUMMARY:Pulau Ujong / Island at the End
DESCRIPTION:Pulau Ujong\, or “Island at the End”\, is one of the oldest recorded names for Singapore. But what was it like at the beginning\, before humans started transforming the landscape? What lifeforms once filled its rainforests and rivers\, and which ones are now extinct? With temperatures soaring twice as fast as the rest of the world\, what will this island’s future look like? \nWritten with heartfelt insight by award-winning playwright Alfian Sa’at\, Pulau Ujong is a riveting piece of documentary theatre featuring interviews with climate scientists\, botanists\, zoologists\, environmental historians and activists. Their words\, wishes and worries for the world take centre stage alongside the more-than-human voices we all need to hear – from zoo mascot Ah Meng to Singapore’s last tiger. \nBrought to thrilling\, kaleidoscopic heights by director Edith Podesta and a brilliant ensemble cast\, Pulau Ujong is both an elegy and a cry of hope. At a time when we can no longer afford to turn a blind eye to climate change as it ravages the entire planet\, Pulau Ujong invites audiences to re-acquaint themselves with the miracles and mysteries of the natural world. \nStarring Al-Matin Yatim\, Ryan Ang\, Koh Wan Ching\, Krish Natarajan\, Siti Khalijah Zainal\nDuration: approximately 1 hour 30 minutes (with no interval)\nIMDA Rating: TBA
URL:https://artsequator.com/event/pulau-ujong-island-at-the-end/
LOCATION:The Ngee Ann Kongsi Theatre @ WILD RICE Funan\, 107 North Bridge Road\, Singapore\, Singapore\, 179105\, Singapore
CATEGORIES:Theatre (Events)
ATTACH;FMTTYPE=image/jpeg:https://artsequator.s3.ap-southeast-1.amazonaws.com/2022/07/PU-1920x1080%403x.jpg
END:VEVENT
BEGIN:VEVENT
DTSTART;VALUE=DATE:20221015
DTEND;VALUE=DATE:20221016
DTSTAMP:20260424T041416
CREATED:20221005T044140Z
LAST-MODIFIED:20221005T055824Z
UID:86086-1665792000-1665878399@artsequator.com
SUMMARY:ART:DIS Open House 2022
DESCRIPTION:A tentative stroke step sketch or song can blossom at ART:DIS. Your child can experience what it’s like to learn in an inclusive and safe space at our Open House. Conducted by instructors with years of experience in teaching students with differentiated learning needs children can participate in workshops or make art with friends. We welcome one and all to share in our joy of the arts. \nARTDIS (Singapore) Ltd formerly known as Very Special Arts Singapore is a leading charity dedicated to creating learning and livelihood opportunities for persons with disabilities in the arts. \nStarted in 1993 by Ambassador-at-Large Professor Tommy Koh ART:DIS organises programmes workshops projects collaborations exhibitions and performances for persons with disabilities to reach for excellence and be relevant for the future.
URL:https://artsequator.com/event/artdis-open-house-2022-3/
LOCATION:ART:DIS Bukit Merah\, 3779 Jalan Bukit Merah\, #03-02 Community Hub\, Singapore 159462.\, Singapore\, 159462.\, Singapore
CATEGORIES:Children/Family (Events),Dance (Events),Music (Events),Other (Events),Theatre (Events),Visual Arts (Events),Workshop & Talks (Events)
ATTACH;FMTTYPE=image/jpeg:https://artsequator.s3.ap-southeast-1.amazonaws.com/2022/10/OH_Whatsapp_1-1.jpg
GEO:1.2842004;103.8155582
X-APPLE-STRUCTURED-LOCATION;VALUE=URI;X-ADDRESS=ART:DIS Bukit Merah 3779 Jalan Bukit Merah #03-02 Community Hub Singapore 159462. Singapore 159462. Singapore;X-APPLE-RADIUS=500;X-TITLE=3779 Jalan Bukit Merah\, #03-02 Community Hub\, Singapore 159462.:geo:103.8155582,1.2842004
END:VEVENT
BEGIN:VEVENT
DTSTART;VALUE=DATE:20221015
DTEND;VALUE=DATE:20221016
DTSTAMP:20260424T041417
CREATED:20221005T044155Z
LAST-MODIFIED:20221005T055809Z
UID:86088-1665792000-1665878399@artsequator.com
SUMMARY:ART:DIS Open House 2022
DESCRIPTION:A tentative stroke step sketch or song can blossom at ART:DIS. Your child can experience what it’s like to learn in an inclusive and safe space at our Open House. Conducted by instructors with years of experience in teaching students with differentiated learning needs children can participate in workshops or make art with friends. We welcome one and all to share in our joy of the arts. \nARTDIS (Singapore) Ltd formerly known as Very Special Arts Singapore is a leading charity dedicated to creating learning and livelihood opportunities for persons with disabilities in the arts. \nStarted in 1993 by Ambassador-at-Large Professor Tommy Koh ART:DIS organises programmes workshops projects collaborations exhibitions and performances for persons with disabilities to reach for excellence and be relevant for the future.
URL:https://artsequator.com/event/artdis-open-house-2022-2/
LOCATION:ART:DIS Bukit Merah\, 3779 Jalan Bukit Merah\, #03-02 Community Hub\, Singapore 159462.\, Singapore\, 159462.\, Singapore
CATEGORIES:Children/Family (Events),Dance (Events),Music (Events),Other (Events),Theatre (Events),Visual Arts (Events),Workshop & Talks (Events)
GEO:1.2842004;103.8155582
X-APPLE-STRUCTURED-LOCATION;VALUE=URI;X-ADDRESS=ART:DIS Bukit Merah 3779 Jalan Bukit Merah #03-02 Community Hub Singapore 159462. Singapore 159462. Singapore;X-APPLE-RADIUS=500;X-TITLE=3779 Jalan Bukit Merah\, #03-02 Community Hub\, Singapore 159462.:geo:103.8155582,1.2842004
END:VEVENT
BEGIN:VEVENT
DTSTART;VALUE=DATE:20221015
DTEND;VALUE=DATE:20221016
DTSTAMP:20260424T041417
CREATED:20221005T055515Z
LAST-MODIFIED:20221005T055515Z
UID:86083-1665792000-1665878399@artsequator.com
SUMMARY:ART:DIS Open House 2022
DESCRIPTION:A tentative stroke step sketch or song can blossom at ART:DIS. Your child can experience what it’s like to learn in an inclusive and safe space at our Open House. Conducted by instructors with years of experience in teaching students with differentiated learning needs children can participate in workshops or make art with friends. We welcome one and all to share in our joy of the arts. \nARTDIS (Singapore) Ltd formerly known as Very Special Arts Singapore is a leading charity dedicated to creating learning and livelihood opportunities for persons with disabilities in the arts. \nStarted in 1993 by Ambassador-at-Large Professor Tommy Koh ART:DIS organises programmes workshops projects collaborations exhibitions and performances for persons with disabilities to reach for excellence and be relevant for the future.
URL:https://artsequator.com/event/artdis-open-house-2022/
LOCATION:ART:DIS Bukit Merah\, 3779 Jalan Bukit Merah\, #03-02 Community Hub\, Singapore 159462.\, Singapore\, 159462.\, Singapore
CATEGORIES:Children/Family (Events),Dance (Events),Music (Events),Other (Events),Theatre (Events),Visual Arts (Events),Workshop & Talks (Events)
ATTACH;FMTTYPE=image/jpeg:https://artsequator.s3.ap-southeast-1.amazonaws.com/2022/10/OH_Whatsapp_1.jpg
GEO:1.2842004;103.8155582
X-APPLE-STRUCTURED-LOCATION;VALUE=URI;X-ADDRESS=ART:DIS Bukit Merah 3779 Jalan Bukit Merah #03-02 Community Hub Singapore 159462. Singapore 159462. Singapore;X-APPLE-RADIUS=500;X-TITLE=3779 Jalan Bukit Merah\, #03-02 Community Hub\, Singapore 159462.:geo:103.8155582,1.2842004
END:VEVENT
BEGIN:VEVENT
DTSTART;TZID=Asia/Shanghai:20221028T200000
DTEND;TZID=Asia/Shanghai:20221030T200000
DTSTAMP:20260424T041417
CREATED:20221020T025820Z
LAST-MODIFIED:20221020T025820Z
UID:86384-1666987200-1667160000@artsequator.com
SUMMARY:MAKE HANTUS GREAT AGAIN
DESCRIPTION:Make Hantus Great Again is a satirical\, supernatural\, and political comedy. It follows the General Elections of the Convention of Metaphysical Entities (COME)\, the national administrative body (and support group) for Singapore’s population of hantus (ghosts)\, pontianaks\, vampires\, jiang shis\, and other supernatural beings. Each race sends forth a candidate\, each with their own crazed agenda. Will the vampires bring an orgy of anarchy? Will the jinn impose their own brand of magical dictatorship? Or will the ghosts… make hantus great again? That’s for the audience to decide as their vote will determine the result of the most important elections of their lives… and afterlives. \nMake Hantus Great Again marks the theatrical debut of best-selling author\, Suffian Hakim (of Harris Bin Potter and the Stoned Philosopher fame). Directed by Rizman Putra\, Make Hantus Great Again stars Hafidz Rahman\, Munah Bagharib\, Azizul ‘Izzy’ Mahathir\, Farah Lola\, Jamil Schulze\, Neo Hai Bin\, and Norisham Osman.
URL:https://artsequator.com/event/make-hantus-great-again/
LOCATION:The Ngee Ann Kongsi Theatre @ WILD RICE Funan\, 107 North Bridge Road\, Singapore\, Singapore\, 179105\, Singapore
CATEGORIES:Theatre (Events)
ATTACH;FMTTYPE=image/jpeg:https://artsequator.s3.ap-southeast-1.amazonaws.com/2022/10/photo_2022-10-20-10.26.04.jpeg
ORGANIZER;CN="Teater%20Ekamatra":MAILTO:erny.melissa@ekamatra.org.sg
END:VEVENT
END:VCALENDAR