BEGIN:VCALENDAR
VERSION:2.0
PRODID:-//ArtsEquator - ECPv5.16.3.1//NONSGML v1.0//EN
CALSCALE:GREGORIAN
METHOD:PUBLISH
X-WR-CALNAME:ArtsEquator
X-ORIGINAL-URL:https://artsequator.com
X-WR-CALDESC:Events for ArtsEquator
REFRESH-INTERVAL;VALUE=DURATION:PT1H
X-Robots-Tag:noindex
X-PUBLISHED-TTL:PT1H
BEGIN:VTIMEZONE
TZID:Asia/Shanghai
BEGIN:STANDARD
TZOFFSETFROM:+0800
TZOFFSETTO:+0800
TZNAME:CST
DTSTART:20240101T000000
END:STANDARD
END:VTIMEZONE
BEGIN:VEVENT
DTSTART;VALUE=DATE:20240201
DTEND;VALUE=DATE:20240321
DTSTAMP:20260420T151128
CREATED:20240207T064927Z
LAST-MODIFIED:20240207T064927Z
UID:93548-1706745600-1710979199@artsequator.com
SUMMARY:Open Call: Playwright's Professional Development Residency
DESCRIPTION:After a joyous pilot run of the 𝗣𝗹𝗮𝘆𝘄𝗿𝗶𝗴𝗵𝘁’𝘀 𝗣𝗿𝗼𝗳𝗲𝘀𝘀𝗶𝗼𝗻𝗮𝗹 𝗗𝗲𝘃𝗲𝗹𝗼𝗽𝗺𝗲𝗻𝘁 𝗥𝗲𝘀𝗶𝗱𝗲𝗻𝗰𝘆\, we are thrilled to now invite applications for the next edition commencing May 2024! \nThis 2-year residency programme is for up to 4 early-career playwrights who are serious about focusing on their creative development\, and who could benefit from the rigour and challenge of this residency. These writers should also see themselves thriving in a writer’s group dynamic. \nCo-leads Joel Tan and Jean Tay will design and run the studio programme\, which aims to:\n⭐ Provide a space for residents to rigorously interrogate and develop their practice\n⭐ Provide numerous opportunities to write and build up a small portfolio of residency-specific work\n⭐ Provide multiple public presentation opportunities\n⭐ Directly connect the residents with theatre professionals through workshops\, talks\, and immersion opportunities
URL:https://artsequator.com/event/open-call-playwrights-professional-development-residency/
LOCATION:42 Waterloo St\, 42 Waterloo St\, 187951\, Singapore
CATEGORIES:Artist Opportunities,Residencies & Fellowships,Theatre (Events)
ATTACH;FMTTYPE=image/png:https://artsequator.s3.ap-southeast-1.amazonaws.com/2024/02/c42_ppdr_websitemasthead_24-26-resized.png
ORGANIZER;CN="Centre%2042":MAILTO:info@centre42.sg
GEO:1.2984662;103.8507241
X-APPLE-STRUCTURED-LOCATION;VALUE=URI;X-ADDRESS=42 Waterloo St 42 Waterloo St 187951 Singapore;X-APPLE-RADIUS=500;X-TITLE=42 Waterloo St:geo:103.8507241,1.2984662
END:VEVENT
END:VCALENDAR