BEGIN:VCALENDAR
VERSION:2.0
PRODID:-//ArtsEquator - ECPv5.16.3.1//NONSGML v1.0//EN
CALSCALE:GREGORIAN
METHOD:PUBLISH
X-WR-CALNAME:ArtsEquator
X-ORIGINAL-URL:https://artsequator.com
X-WR-CALDESC:Events for ArtsEquator
REFRESH-INTERVAL;VALUE=DURATION:PT1H
X-Robots-Tag:noindex
X-PUBLISHED-TTL:PT1H
BEGIN:VTIMEZONE
TZID:Asia/Shanghai
BEGIN:STANDARD
TZOFFSETFROM:+0800
TZOFFSETTO:+0800
TZNAME:CST
DTSTART:20250101T000000
END:STANDARD
END:VTIMEZONE
BEGIN:VEVENT
DTSTART;VALUE=DATE:20250327
DTEND;VALUE=DATE:20250331
DTSTAMP:20260420T151842
CREATED:20250227T041149Z
LAST-MODIFIED:20250227T041149Z
UID:96346-1743033600-1743379199@artsequator.com
SUMMARY:SAM Access Showcase 2025: common languages
DESCRIPTION:Join Singapore Art Museum (SAM) for its inaugural Access Showcase that celebrates diversity and inclusivity\, where art is a language of care and empowerment! Organised by the SAM Access team\, this showcase explores how art can break social barriers\, fostering understanding\, connection and participation for people of all abilities.  \nThe theme ‘common languages’ highlights the many ways we can communicate and connect\, emphasising the power of art as a shared language in bridging differences. Over four days\, join SAM as you get to experience thought-provoking talks\, interactive workshops\, immersive performances\, and a hands-on hackathon – all designed to spark new ways of engaging with art. \nBe part of this meaningful movement towards a more inclusive art scene and discover how art can create shared experiences.
URL:https://artsequator.com/event/sam-access-showcase-2025-common-languages/
LOCATION:Singapore Art Museum\, 39 Keppel Rd\, #01-02 Tanjong Pagar Distripark\, Singapore 089065\, Singapore\, Singapore\, 089065\, Singapore
CATEGORIES:Other (Events),Visual Arts (Events),Workshop & Talks (Events)
ATTACH;FMTTYPE=image/jpeg:https://artsequator.s3.ap-southeast-1.amazonaws.com/2025/02/WebSAMCL1920x768.jpg
ORGANIZER;CN="Singapore%20Art%20Museum":MAILTO:enquiries@singaporeartmuseum.sg
GEO:1.2719533;103.836752
X-APPLE-STRUCTURED-LOCATION;VALUE=URI;X-ADDRESS=Singapore Art Museum 39 Keppel Rd #01-02 Tanjong Pagar Distripark Singapore 089065 Singapore Singapore 089065 Singapore;X-APPLE-RADIUS=500;X-TITLE=39 Keppel Rd\, #01-02 Tanjong Pagar Distripark\, Singapore 089065:geo:103.836752,1.2719533
END:VEVENT
END:VCALENDAR