BEGIN:VCALENDAR
VERSION:2.0
PRODID:-//ArtsEquator - ECPv5.16.3.1//NONSGML v1.0//EN
CALSCALE:GREGORIAN
METHOD:PUBLISH
X-WR-CALNAME:ArtsEquator
X-ORIGINAL-URL:https://artsequator.com
X-WR-CALDESC:Events for ArtsEquator
REFRESH-INTERVAL;VALUE=DURATION:PT1H
X-Robots-Tag:noindex
X-PUBLISHED-TTL:PT1H
BEGIN:VTIMEZONE
TZID:Asia/Shanghai
BEGIN:STANDARD
TZOFFSETFROM:+0800
TZOFFSETTO:+0800
TZNAME:CST
DTSTART:20250101T000000
END:STANDARD
END:VTIMEZONE
BEGIN:VEVENT
DTSTART;TZID=Asia/Shanghai:20250323T150000
DTEND;TZID=Asia/Shanghai:20250323T170000
DTSTAMP:20260420T164522
CREATED:20250401T105323Z
LAST-MODIFIED:20250401T105323Z
UID:96506-1742742000-1742749200@artsequator.com
SUMMARY:Book Reading - Our Home\, Our Stories
DESCRIPTION:📖 Book Reading! 📖 \nJoin us for a special reading session of our book ‘Our Home\, Our Stories: Voices of Migrant Domestic Workers in Singapore’ on 23 March\, Sunday\, 3PM at Book Bar! \n‘Our Home\, Our Stories’ offers a look through the eyes of domestic workers as they share real-life stories\, from childhoods in mountain villages to rogue agents and difficult employers\, and that one thing they all suffer from the most: homesickness\, and the pain of leaving their families behind – in Indonesia\, the Philippines\, Myanmar and India. \nOur contributors\, Jo Ann Dumlao\, Kina Hidayah Kastari\, Novia Arluma\, and Miriam Escander will be reading their stories at the event. The session will be moderated by the book’s editor Karien van Ditzhuijzen\, a long-time HOME volunteer who conducts writing workshops at HOME’s shelter. \nBooks will be available for sale at $20 each!
URL:https://artsequator.com/event/book-reading-our-home-our-stories/
LOCATION:Book Bar\, 57 Duxton Road Singapore 089521\, Singapore\, 089521\, Singapore
CATEGORIES:Literary Events/Talks (Events),Other (Events),Workshop & Talks (Events)
ATTACH;FMTTYPE=image/png:https://artsequator.s3.ap-southeast-1.amazonaws.com/2025/03/Our-Home-Our-Stories-book-event-2025-2160-x-1080-px.png
ORGANIZER;CN="HOME%20%28Humanitarian%20Organization%20for%20Migration%20Economics%29":MAILTO:contact@home.org.sg
GEO:1.2780322;103.8431777
X-APPLE-STRUCTURED-LOCATION;VALUE=URI;X-ADDRESS=Book Bar 57 Duxton Road Singapore 089521 Singapore 089521 Singapore;X-APPLE-RADIUS=500;X-TITLE=57 Duxton Road Singapore 089521:geo:103.8431777,1.2780322
END:VEVENT
END:VCALENDAR