BEGIN:VCALENDAR
VERSION:2.0
PRODID:-//ArtsEquator - ECPv5.16.3.1//NONSGML v1.0//EN
CALSCALE:GREGORIAN
METHOD:PUBLISH
X-ORIGINAL-URL:https://artsequator.com
X-WR-CALDESC:Events for ArtsEquator
REFRESH-INTERVAL;VALUE=DURATION:PT1H
X-Robots-Tag:noindex
X-PUBLISHED-TTL:PT1H
BEGIN:VTIMEZONE
TZID:Asia/Shanghai
BEGIN:STANDARD
TZOFFSETFROM:+0800
TZOFFSETTO:+0800
TZNAME:CST
DTSTART:20250101T000000
END:STANDARD
END:VTIMEZONE
BEGIN:VEVENT
DTSTART;TZID=Asia/Shanghai:20250307T190000
DTEND;TZID=Asia/Shanghai:20250309T190000
DTSTAMP:20260420T141042
CREATED:20250401T105618Z
LAST-MODIFIED:20250401T105618Z
UID:96491-1741374000-1741546800@artsequator.com
SUMMARY:Crossing Cultures at ACM: Storytelling Through Time
DESCRIPTION:This March at ACM\, explore Asian storytelling through a showcase of ancient traditions and modern forms. Performances\, workshops\, and tours bring oral traditions\, the power of the written word\, and digital narratives to life. \nGet free popcorn and a frozen drink*! Collect your redemption tickets from the Foyer\, Level 2.  \n*Limited to one redemption per person. While supplies last.
URL:https://artsequator.com/event/crossing-cultures-at-acm-storytelling-through-time/
LOCATION:Asian Civilisations Museum\, 1 Empress Pl\,\, Singapore\, 179555\, Singapore
CATEGORIES:Other (Events)
ATTACH;FMTTYPE=image/png:https://artsequator.s3.ap-southeast-1.amazonaws.com/2025/03/crossingcultures_mar2025_FA_landscape-min.png
GEO:1.2880208;103.8510592
X-APPLE-STRUCTURED-LOCATION;VALUE=URI;X-ADDRESS=Asian Civilisations Museum 1 Empress Pl Singapore 179555 Singapore;X-APPLE-RADIUS=500;X-TITLE=1 Empress Pl\,:geo:103.8510592,1.2880208
END:VEVENT
END:VCALENDAR