BEGIN:VCALENDAR
VERSION:2.0
PRODID:-//ArtsEquator - ECPv5.16.3.1//NONSGML v1.0//EN
CALSCALE:GREGORIAN
METHOD:PUBLISH
X-WR-CALNAME:ArtsEquator
X-ORIGINAL-URL:https://artsequator.com
X-WR-CALDESC:Events for ArtsEquator
REFRESH-INTERVAL;VALUE=DURATION:PT1H
X-Robots-Tag:noindex
X-PUBLISHED-TTL:PT1H
BEGIN:VTIMEZONE
TZID:Asia/Shanghai
BEGIN:STANDARD
TZOFFSETFROM:+0800
TZOFFSETTO:+0800
TZNAME:CST
DTSTART:20250101T000000
END:STANDARD
END:VTIMEZONE
BEGIN:VEVENT
DTSTART;TZID=Asia/Shanghai:20250306T170000
DTEND;TZID=Asia/Shanghai:20250306T180000
DTSTAMP:20260420T151815
CREATED:20250305T013056Z
LAST-MODIFIED:20250305T013056Z
UID:96465-1741280400-1741284000@artsequator.com
SUMMARY:Hope you are keeping well! | In Dialogue with Hu Rui and Huijun Lu
DESCRIPTION:Hope you are keeping well! | In Dialogue with Hu Rui and Huijun Lu\nThursday 6 March 2025\, 5pm to 6pm\nHeld online via Zoom\nRegister here \nHu Rui and Huijun Lu explore the implications of emergent technologies\, raising ethical and environmental concerns. In the fast-paced capitalism-driven AI development\, might we ever predict and prevent financial crises? How can we balance technological progress with environmental care? Join Rui and Huijun in this online conversation\, as they share their creative processes\, recent reflections\, and explore the roles and responsibilities of artists in navigating these complex issues. \nThis conversation will be moderated by curator Lenette Lua. \n*Please note that conversation will be hosted in English. \nPart of Curator Open Call\nPresented by Objectifs\nSupported by Cultural Matching Fund \nGraphic Identity: Studio Vanessa Ban \nAbout Hu Rui\nHu Rui works with videos\, installations\, and computer simulation. His practice engages with issues around temporality from a multitude of variables\, including causality\, prediction\, choice\, and language. He is the recipient of the Best Experimental Animation Award at the 60th Ann Arbor Film Festival and a Jury Special Mention at the 25FPS Festival Croatia. He is an Assistant Professor in Computation and Design at Duke Kunshan University. \nAbout Huijun Lu\nHuijun Lu works at the intersections of art\, music\, engineering and computing. Lu’s practice culminates in kinetic installations\, sculptures\, moving images and soundscapes. Consistent in the works are mechanisms and circuits that examine the function of objects\, observations about the unnoticed in our environments\, and technology’s role in mediating relationships with our surroundings. \nAbout the curator \nLenette Lua is a practice-led researcher and curator whose interests delve into reconciling the contested intersections of political\, economic\, and socio-cultural spheres through her curatorial work. While at the Royal College of Art in London\, she initiated the long-term curatorial project ‘Fungi Initiative\,’ exploring institutional collaborations via participatory artist-led workshops. She was the recipient of the Objectifs Curator Open Call 2024 Award.
URL:https://artsequator.com/event/hope-you-are-keeping-well-in-dialogue-with-hu-rui-and-huijun-lu/
CATEGORIES:Other (Events),Visual Arts (Events),Workshop & Talks (Events)
ATTACH;FMTTYPE=image/jpeg:https://artsequator.s3.ap-southeast-1.amazonaws.com/2025/02/arts-equator.jpg
END:VEVENT
END:VCALENDAR