BEGIN:VCALENDAR
VERSION:2.0
PRODID:-//ArtsEquator - ECPv5.16.3.1//NONSGML v1.0//EN
CALSCALE:GREGORIAN
METHOD:PUBLISH
X-ORIGINAL-URL:https://artsequator.com
X-WR-CALDESC:Events for ArtsEquator
REFRESH-INTERVAL;VALUE=DURATION:PT1H
X-Robots-Tag:noindex
X-PUBLISHED-TTL:PT1H
BEGIN:VTIMEZONE
TZID:Asia/Shanghai
BEGIN:STANDARD
TZOFFSETFROM:+0800
TZOFFSETTO:+0800
TZNAME:CST
DTSTART:20230101T000000
END:STANDARD
END:VTIMEZONE
BEGIN:VEVENT
DTSTART;TZID=Asia/Shanghai:20230324T100000
DTEND;TZID=Asia/Shanghai:20250124T210000
DTSTAMP:20260424T041126
CREATED:20230419T074810Z
LAST-MODIFIED:20230419T074810Z
UID:89683-1679652000-1737752400@artsequator.com
SUMMARY:Textile Masters to the World: The global desire for Indian cloth
DESCRIPTION:From 24 March 2023 \nDaily\, 10am – 7pm | Fridays\, 10am – 9pm \nAsian Civilisations Museum\, Level 3\, Fashion and Textiles Gallery \n  \nThe Asian Civilisations Museum presents Textile Masters to the World: The global desire for Indian cloth with a selection of exquisite garments and textiles at its Fashion and Textiles Gallery. Featuring 27 pieces from the National Collection and loans\, the exhibition spotlights the historic global impact of textile production in India\, and its role as evidence of trade and cultural exchange between India and regions such as the Middle East\, Southeast Asia\, and Europe from the fourteenth to nineteenth century. From fashion and furnishing\, to gift exchange and heirlooms\, visitors can marvel at the artistry and craftsmanship of early textile masters\, and discover how Indian textiles influenced local designs\, materials and fashions wherever they were traded. 
URL:https://artsequator.com/event/textile-masters-to-the-world-the-global-desire-for-indian-cloth-2/
LOCATION:Asian Civilisations Museum\, 1 Empress Pl\,\, Singapore\, 179555\, Singapore
CATEGORIES:Children/Family (Events),Literary Events/Talks (Events),Other (Events),Visual Arts (Events)
ATTACH;FMTTYPE=image/jpeg:https://artsequator.s3.ap-southeast-1.amazonaws.com/2023/03/Textile-Masters-to-the-World_-The-global-desire-for-Indian-cloth-at-Asian-Civilisations-Museums-Fashion-and-Textiles-Gallery..jpg
GEO:1.2880208;103.8510592
X-APPLE-STRUCTURED-LOCATION;VALUE=URI;X-ADDRESS=Asian Civilisations Museum 1 Empress Pl Singapore 179555 Singapore;X-APPLE-RADIUS=500;X-TITLE=1 Empress Pl\,:geo:103.8510592,1.2880208
END:VEVENT
BEGIN:VEVENT
DTSTART;TZID=Asia/Shanghai:20231125T100000
DTEND;TZID=Asia/Shanghai:20240915T180000
DTSTAMP:20260424T041126
CREATED:20240207T055848Z
LAST-MODIFIED:20240207T055848Z
UID:93571-1700906400-1726423200@artsequator.com
SUMMARY:Ente Veedu\, My Home: Malayalees in Singapore
DESCRIPTION:Embark on a captivating voyage to discover the heritage and culture of the Malayalee community in Singapore with the Indian Heritage Centre’s third community co-curated exhibition\, Ente Veedu\, My Home: Malayalees in Singapore.  \nCo-curated with the Malayalee community in Singapore\, the exhibition features a remarkable collection of over 200 artefacts – ranging from an ornate elephant caparison to a beautifully crafted ivory writing box from the late 18th century. Visitors will get to delve deeper into the second largest sub-group within Singapore’s Indian population\, tracing their journey from the early days of settlement in Singapore to their evolving concept of home and identity in contemporary Singapore.
URL:https://artsequator.com/event/ente-veedu-my-home-malayalees-in-singapore/
LOCATION:Indian Heritage Centre\, 5 Campbell Lane\, Singapore\, Singapore\, 209924\, Singapore
CATEGORIES:Children/Family (Events),Other (Events)
ATTACH;FMTTYPE=image/png:https://artsequator.s3.ap-southeast-1.amazonaws.com/2024/02/Ente-Veedu-My-Home-Malayalees-in-Singapore_resized.png
GEO:1.3056801;103.8522867
X-APPLE-STRUCTURED-LOCATION;VALUE=URI;X-ADDRESS=Indian Heritage Centre 5 Campbell Lane Singapore Singapore 209924 Singapore;X-APPLE-RADIUS=500;X-TITLE=5 Campbell Lane:geo:103.8522867,1.3056801
END:VEVENT
BEGIN:VEVENT
DTSTART;VALUE=DATE:20240119
DTEND;VALUE=DATE:20250101
DTSTAMP:20260424T041126
CREATED:20240221T073213Z
LAST-MODIFIED:20240221T073213Z
UID:93652-1705622400-1735689599@artsequator.com
SUMMARY:Sound Plot: True/South\, A Collection of Audio Plays
DESCRIPTION:𝗦𝗼𝘂𝗻𝗱 𝗣𝗹𝗼𝘁: 𝗧𝗿𝘂𝗲/𝗦𝗼𝘂𝘁𝗵 is a collection of audio plays responding to the geographical area of Tanjong Pagar/Pasir Panjang where the Singapore Art Museum currently resides. With audio design by Artwave Studio\, the plays first premiered as part of Singapore Art Week\, each with an audio spot installation at the museum and now available online as well. \nThe three short audio plays (of which the latter 2 were selected through our Open Call) are: \nSea Song  \nAdvisory: Contains some coarse language \nLaurie and Scott settle into their new expatriate lives at Sentosa Cove only to discover that not all is as it seems. Beneath the ostentatious luxuries of modern Singapore lie the sea and the land seething in their grief; and as Laurie’s connection to them grows she discovers that this loss is collective and communal. \nPlaywright: Joel Tan\nDirector: Cherilyn Woo\nActors: Julie Wee\, Daniel Jenkins\, Ching Shu Yi\, Serene Chen\, Tysha Khan\, Irsyad Dawood\, Joel Tan \nGhazal of the Banana Tree’s Heart \n\n\nA solitary banana tree remains on the shore\, the sole survivor amongst its compatriots\, lost to the need for the space they occupied; a lone banana tree that is the last repository of the stories of those shores – of fishermen\, turtles and the sea itself. Alone it sings the same refrain – but who listens? \nPlaywright: Danial Matin\nDirector: Grace Kalaiselvi\nActors: Suhaili Safari & Shahid Nasheer \nFragments of a Singaporean Hainanese \nAt the opening of a new exhibition on the Hainanese community in Singapore\, memories are excavated through the stories of three Hainanese immigrants of different generations\, their connections to an island they left for another\, and the sea that connects them. \nPlaywright: Wang Liansheng\nDirector: Lim Shien Hian\nActors: Jalyn Han\, Hang Qian Chou\, Rino Junior John\, Mitchell Fang
URL:https://artsequator.com/event/sound-plot-true-south-a-collection-of-audio-plays/
LOCATION:Singapore Art Museum\, 39 Keppel Rd\, #01-02 Tanjong Pagar Distripark\, Singapore 089065\, Singapore\, Singapore\, 089065\, Singapore
CATEGORIES:Children/Family (Events),Other (Events),Theatre (Events)
ATTACH;FMTTYPE=image/jpeg:https://artsequator.s3.ap-southeast-1.amazonaws.com/2024/02/Batch-2-V2-1.jpg
ORGANIZER;CN="Centre%2042":MAILTO:info@centre42.sg
GEO:1.2719533;103.836752
X-APPLE-STRUCTURED-LOCATION;VALUE=URI;X-ADDRESS=Singapore Art Museum 39 Keppel Rd #01-02 Tanjong Pagar Distripark Singapore 089065 Singapore Singapore 089065 Singapore;X-APPLE-RADIUS=500;X-TITLE=39 Keppel Rd\, #01-02 Tanjong Pagar Distripark\, Singapore 089065:geo:103.836752,1.2719533
END:VEVENT
BEGIN:VEVENT
DTSTART;TZID=Asia/Shanghai:20240226T080000
DTEND;TZID=Asia/Shanghai:20240317T180000
DTSTAMP:20260424T041126
CREATED:20240313T090032Z
LAST-MODIFIED:20240313T090032Z
UID:93887-1708934400-1710698400@artsequator.com
SUMMARY:The World Press Photo Exhibition
DESCRIPTION:The World Press Photo Exhibition\, a showcase of award-winning photography that sparks important discussions about press freedom\, current events\, and documentation\, will be in Manila from February 26 to March 17. The exhibition includes works from Filipino winners Kimberly dela Cruz and Hannah Reyes Morales.  \nA roundtable discussion on the Future of Journalism is scheduled for February 27\, 1:00 – 5:00pm at the 12th Floor Auditorium\, Design and Arts Campus\, De La Salle – College of Saint Benilde. Forum is open to the public. Registration is required: bit.ly/WPPRoundtableDiscussion. 
URL:https://artsequator.com/event/the-world-press-photo-exhibition/
LOCATION:Design and Arts Campus\, College of St Benilde\, Manila\, 950 P.Ocampo St.\, Malate\, Manila\, Metro Manila\, 1004\, Philippines
CATEGORIES:Other (Events),Visual Arts (Events),Workshop & Talks (Events)
GEO:14.5633041;120.9970916
X-APPLE-STRUCTURED-LOCATION;VALUE=URI;X-ADDRESS=Design and Arts Campus College of St Benilde Manila 950 P.Ocampo St. Malate Manila Metro Manila 1004 Philippines;X-APPLE-RADIUS=500;X-TITLE=950 P.Ocampo St.\, Malate:geo:120.9970916,14.5633041
END:VEVENT
BEGIN:VEVENT
DTSTART;VALUE=DATE:20240309
DTEND;VALUE=DATE:20240321
DTSTAMP:20260424T041126
CREATED:20240207T061621Z
LAST-MODIFIED:20240207T061621Z
UID:93558-1709942400-1710979199@artsequator.com
SUMMARY:tides 潮: Community Exhibition & Programmes
DESCRIPTION:Standing in the waves of time\, gazing at the horizon between life and death\, one turns to another and breaks the silence: “How do you prepare to leave this world?”\n\nBoth Sides\, Now 2024 returns this March with the community exhibition tides 潮! A band of 8 brave elders invites you to reflect and respond to what it means to live well\, and leave well. With an arts and asset-based community development approach\, we are excavating the taboos of death\, end-of-life conversations and choices. In the ocean of this shared endeavour\, the waves carry us toward places of light and dark\, sorrow and joy.\n\nJoin us in the Yishun community to intimately contemplate and celebrate lives\, legacies\, and transitions with an exhibition of artworks and programmes\, including conversations with and tours by senior collaborators. Presented by ArtsWok Collaborative\, in collaboration with Wellness Kampung and Yishun Health\, the exhibition will be held in English and Mandarin.\n\nFind out more at bit.ly/bsntides
URL:https://artsequator.com/event/tides-%e6%bd%ae-community-exhibition-programmes/
LOCATION:Wellness Kampung @ 765 Nee Soon Central\, Blk 765\, Yishun Street 72\, Singapore\, Singapore\, 760765\, Singapore
CATEGORIES:Children/Family (Events),Other (Events),Workshop & Talks (Events)
ATTACH;FMTTYPE=image/jpeg:https://artsequator.s3.ap-southeast-1.amazonaws.com/2024/02/Both-Sides-Now-2024_Arts-Equator-Banner.jpg
ORGANIZER;CN="ArtsWok%20Collaborative":MAILTO:connect@artswok.org
GEO:1.424993;103.8342688
X-APPLE-STRUCTURED-LOCATION;VALUE=URI;X-ADDRESS=Wellness Kampung @ 765 Nee Soon Central Blk 765 Yishun Street 72 Singapore Singapore 760765 Singapore;X-APPLE-RADIUS=500;X-TITLE=Blk 765\, Yishun Street 72:geo:103.8342688,1.424993
END:VEVENT
BEGIN:VEVENT
DTSTART;TZID=Asia/Shanghai:20240309T100000
DTEND;TZID=Asia/Shanghai:20240310T170000
DTSTAMP:20260424T041126
CREATED:20240220T110620Z
LAST-MODIFIED:20240220T110620Z
UID:93800-1709978400-1710090000@artsequator.com
SUMMARY:Manila Galleon International Conference
DESCRIPTION:Join us for a two-day conference that examines the significance of the Manila galleon trade\, which connected Asia to the Americas and Europe for centuries. Leading scholars will present new research and insights into how the galleons influenced the cultural\, economic\, political\, and social landscapes of the Philippines\, Mexico\, Spain\, and other countries from the 16th to 19th century.
URL:https://artsequator.com/event/manila-galleon-international-conference/
LOCATION:Asian Civilisations Museum\, 1 Empress Pl\,\, Singapore\, 179555\, Singapore
CATEGORIES:Event of the Day,Other (Events)
ATTACH;FMTTYPE=image/jpeg:https://artsequator.s3.ap-southeast-1.amazonaws.com/2024/02/Manila-Galleon-International-Conference.-Image-Courtesy-of-Asian-Civilisations-Museum.jpg
GEO:1.2880208;103.8510592
X-APPLE-STRUCTURED-LOCATION;VALUE=URI;X-ADDRESS=Asian Civilisations Museum 1 Empress Pl Singapore 179555 Singapore;X-APPLE-RADIUS=500;X-TITLE=1 Empress Pl\,:geo:103.8510592,1.2880208
END:VEVENT
END:VCALENDAR