BEGIN:VCALENDAR
VERSION:2.0
PRODID:-//ArtsEquator - ECPv5.16.3.1//NONSGML v1.0//EN
CALSCALE:GREGORIAN
METHOD:PUBLISH
X-ORIGINAL-URL:https://artsequator.com
X-WR-CALDESC:Events for ArtsEquator
REFRESH-INTERVAL;VALUE=DURATION:PT1H
X-Robots-Tag:noindex
X-PUBLISHED-TTL:PT1H
BEGIN:VTIMEZONE
TZID:Asia/Shanghai
BEGIN:STANDARD
TZOFFSETFROM:+0800
TZOFFSETTO:+0800
TZNAME:CST
DTSTART:20230101T000000
END:STANDARD
END:VTIMEZONE
BEGIN:VEVENT
DTSTART;TZID=Asia/Shanghai:20230324T100000
DTEND;TZID=Asia/Shanghai:20250124T210000
DTSTAMP:20260424T224604
CREATED:20230419T074810Z
LAST-MODIFIED:20230419T074810Z
UID:89683-1679652000-1737752400@artsequator.com
SUMMARY:Textile Masters to the World: The global desire for Indian cloth
DESCRIPTION:From 24 March 2023 \nDaily\, 10am – 7pm | Fridays\, 10am – 9pm \nAsian Civilisations Museum\, Level 3\, Fashion and Textiles Gallery \n  \nThe Asian Civilisations Museum presents Textile Masters to the World: The global desire for Indian cloth with a selection of exquisite garments and textiles at its Fashion and Textiles Gallery. Featuring 27 pieces from the National Collection and loans\, the exhibition spotlights the historic global impact of textile production in India\, and its role as evidence of trade and cultural exchange between India and regions such as the Middle East\, Southeast Asia\, and Europe from the fourteenth to nineteenth century. From fashion and furnishing\, to gift exchange and heirlooms\, visitors can marvel at the artistry and craftsmanship of early textile masters\, and discover how Indian textiles influenced local designs\, materials and fashions wherever they were traded. 
URL:https://artsequator.com/event/textile-masters-to-the-world-the-global-desire-for-indian-cloth-2/
LOCATION:Asian Civilisations Museum\, 1 Empress Pl\,\, Singapore\, 179555\, Singapore
CATEGORIES:Children/Family (Events),Literary Events/Talks (Events),Other (Events),Visual Arts (Events)
ATTACH;FMTTYPE=image/jpeg:https://artsequator.s3.ap-southeast-1.amazonaws.com/2023/03/Textile-Masters-to-the-World_-The-global-desire-for-Indian-cloth-at-Asian-Civilisations-Museums-Fashion-and-Textiles-Gallery..jpg
GEO:1.2880208;103.8510592
X-APPLE-STRUCTURED-LOCATION;VALUE=URI;X-ADDRESS=Asian Civilisations Museum 1 Empress Pl Singapore 179555 Singapore;X-APPLE-RADIUS=500;X-TITLE=1 Empress Pl\,:geo:103.8510592,1.2880208
END:VEVENT
BEGIN:VEVENT
DTSTART;TZID=Asia/Shanghai:20230525T080000
DTEND;TZID=Asia/Shanghai:20231015T170000
DTSTAMP:20260424T224604
CREATED:20230525T004653Z
LAST-MODIFIED:20230530T012844Z
UID:90656-1685001600-1697389200@artsequator.com
SUMMARY:Call for Papers:  Southeast Asian Performance and Ecology
DESCRIPTION:A new volume edited by Kirstin Pauka\, Dennis Gupa\, and Catherine Diamond will address the particular\ncontributions made by Southeast Asian live performances of theatre\, dance\, puppetry\, and performance\nart to further a healthy engagement with nature. \nSoutheast Asian ecology and people’s relations to it are distinctly different from those in secular\, modern\,\nscientifically-driven post-Cartesian Europe and America. We wish to see how SE Asian contemporary\nperformance deals with environmental challenges conceptually\, aesthetically\, and pedagogically and whether it\noffers a unique perspective to the global discussion. \nWe invite papers in English from 5\,000-7\,000 words\, and specially encourage scholars and artists from\nthe Southeast Asian region to contribute. Please see the CFP announcement for complete details.  \n1. Performance as Environmental Advocacy\, Community Activism\, and Protest\n2. Interrelationships between Indigenous views and Modern performance\n3. The potential of Ritual in new Ecological Performances\n4. How Gender informs relations with Nature and how Nature informs the understanding of\nGender\n5. Performance as Effective Pedagogy for eliciting behavioral change toward the natural\nenvironment\n6. Intercultural Collaborations between local\, international\, and cross-border artists\n7. Collaborations with foreign and local Environmental NGOs\n8. Configurations of Science and Culture in ecological performance\n9. Digital performance and the natural world\n10. The Impact of Climate Change on Performance
URL:https://artsequator.com/event/call-for-papers-southeast-asian-performance-and-ecology/
CATEGORIES:Other (Events)
ATTACH;FMTTYPE=image/jpeg:https://artsequator.s3.ap-southeast-1.amazonaws.com/2023/05/IMG_3726.jpg
END:VEVENT
BEGIN:VEVENT
DTSTART;TZID=Asia/Shanghai:20230527T100000
DTEND;TZID=Asia/Shanghai:20231119T190000
DTSTAMP:20260424T224604
CREATED:20230502T054907Z
LAST-MODIFIED:20230502T054907Z
UID:89979-1685181600-1700420400@artsequator.com
SUMMARY:Now Boarding: Experiencing Singapore through Travel\, 1800 - 2000s
DESCRIPTION:Hop aboard the National Museum of Singapore’s ‘flight’ to discover Singapore with Now Boarding: Experiencing Singapore through Travel\, 1800s-2000s\, a travel-themed exhibition that traces the evolution of Singapore’s identity as a popular travel destination\, through the eyes of those who arrived at our shores from the past to the present. \nSet against the backdrop of Singapore’s colonial past and its post-independence decades up to the present\, Now Boarding presents itself as a travel guide and visual exploration of Destination Singapore. Through four thematic sections aligned to the themes of transport\, accommodation\, food and beverage\, sights and shopping; the exhibition showcases a specially curated selection of ubiquitous material and artefacts evoking powerful memories of travel to and from Singapore. This includes the iconic analogue flip board previously located at Changi Airport\, to a set of the history-making Singapore Airlines’ A380 prestigious Suites Cabin seat.  \nAs part of Now Boarding\, there will also be a series of themed pop-up experiences that will happen throughout the year\, including NMS’ very own disco room\, and other complementary programming for everyone. Check in to this exhibition to discover our little red dot anew\, and contemplate on our identities as Singaporeans in an increasingly globalised world. 
URL:https://artsequator.com/event/now-boarding-experiencing-singapore-through-travel-1800-2000s/
LOCATION:National Museum of Singapore\, 93 Stamford Road\, Singapore\, 178897\, Singapore
CATEGORIES:Other (Events)
ATTACH;FMTTYPE=image/png:https://artsequator.s3.ap-southeast-1.amazonaws.com/2023/05/New-KV.png
GEO:1.2967773;103.8486632
X-APPLE-STRUCTURED-LOCATION;VALUE=URI;X-ADDRESS=National Museum of Singapore 93 Stamford Road Singapore 178897 Singapore;X-APPLE-RADIUS=500;X-TITLE=93 Stamford Road:geo:103.8486632,1.2967773
END:VEVENT
BEGIN:VEVENT
DTSTART;TZID=Asia/Shanghai:20230711T120000
DTEND;TZID=Asia/Shanghai:20230806T190000
DTSTAMP:20260424T224604
CREATED:20230719T045550Z
LAST-MODIFIED:20230719T045550Z
UID:91173-1689076800-1691348400@artsequator.com
SUMMARY:Being with Water
DESCRIPTION:Being with Water By Ng Hui Hsien \n11 Jul – 6 Aug 2023\nLower Gallery\, Objectifs\nFree admission \nBeing with Water is a photographic work that explores the interconnectedness between our interior worlds and the elemental. It features unique silver gelatin prints suggestive of landscapes\, dusk\, and dawn\, visually alluding to renewal and transformation\, beginnings and endings\, hope and loss – universal experiences as we navigate life. \nTo create these prints\, the artist bypasses the camera and works directly and primarily with water\, light\, and photographic materials. For her\, this hands-on analogue process is her attempt to better understand – and learn from – the characteristics of natural elements\, especially water. In a way hence\, Being with Water also invites us to see ourselves and draw lessons from the natural world around us. \nRelated events:\nAs Water Dances Through Us: Soundscape Meditation by Jean Reiki\nSession 1: Fri 21 Jul\, 7.30pm – 8.30pm / Session 2: Sat 22 Jul\, 3.30pm – 4.30pm\nVenue: Lower Gallery\, Objectifs / Admission: $15\nPlease register here \nA Conversation with Ng Hui Hsien and Marc Glöde\nFri 28 Jul\, 7.30pm – 8.30pm \nWorkshop Space\, Objectifs / Free admission\nPlease register here \nLumen Printing Workshop with Ng Hui Hsien\nSat 29 Jul\, 2.30pm – 4.30pm\nVenue: Workshop Space\, Objectifs\nWorkshop Fee: $90\nPlease register here \n\n  \n\nAbout the artist \nNg Hui Hsien uses photography as a medium to explore themes such as (im)materiality and interconnectivity. She seeks to create work that holds the possibility of connection and clarity. Or a quiet counterbalance against dominating logics of instrumental rationality\, incessant productivity\, and linear\, clockwork time. \nIn recent years\, Hui Hsien has been concerned with depicting nature and interior states through alternative processes. Her work has been internationally exhibited in institutions\, including Reykjavík Museum of Photography (Iceland). She graduated from the University of West of England (UWE) with a MA in Photography (Distinction). \n\nSupported by:\nNational Arts Council\nObjectifs – Centre for Photography & Film
URL:https://artsequator.com/event/being-with-water/
LOCATION:Objectifs Centre for Photography and Film\, 155 Middle Road\, Singapore\, 188977\, Singapore
CATEGORIES:Other (Events),Visual Arts (Events),Workshop & Talks (Events)
ATTACH;FMTTYPE=image/jpeg:https://artsequator.s3.ap-southeast-1.amazonaws.com/2023/07/artsequator-beingwithwaterbanner.jpg
GEO:1.2998589;103.8522229
X-APPLE-STRUCTURED-LOCATION;VALUE=URI;X-ADDRESS=Objectifs Centre for Photography and Film 155 Middle Road Singapore 188977 Singapore;X-APPLE-RADIUS=500;X-TITLE=155 Middle Road:geo:103.8522229,1.2998589
END:VEVENT
BEGIN:VEVENT
DTSTART;TZID=Asia/Shanghai:20230803T140000
DTEND;TZID=Asia/Shanghai:20230804T180000
DTSTAMP:20260424T224604
CREATED:20230704T071121Z
LAST-MODIFIED:20230704T071121Z
UID:90882-1691071200-1691172000@artsequator.com
SUMMARY:Southeast Asian Arts Forum 2023
DESCRIPTION:Southeast Asian Arts Forum 2023\nSUSTAINABILITY 2.0: CODING THE WORLD THAT WILL REMAKE ITSELF \n3-4 August 2023 \nHosted by Institute of Southeast Asian Arts\nNanyang Academy of Fine Arts\n80 Bencoolen street\,Singapore 189655 \nThe majority of our activity revolves around a cycle of consumption and production\, and this cycle is especially relevant to us operating in the arts and creative sector. Oftentimes\, as primary inhabitants of this earth we feel a sense of entitlement based on the assumption that resources around us are infinite in nature. \nIn rethinking our capacities as creatives for visualizing a process of how one’s thoughts change and adjust; some questions may arise. How can our creative practices help others visualize the transformation process of their thinking? How can we firstly identify\, understand\, interpret\, and predict consumer behaviors which are shaping society? \nThe Southeast Asian Arts Forum 2023 aims to explore this narrative surrounding the cycle of creation and destruction. It aims to look back into our past and find multitudes of possibilities in how we push the boundaries of our practices. We seek creative practices which represent not only the thrive to survive\, but also one which seeks to attain harmony between humans and our surrounding ecology. \nRegister now and be a part of the conversation:\nhttps://seaartforum.nafa.edu.sg/registration \nFollow us on Instagram: @ISEAA_AG_NAFA
URL:https://artsequator.com/event/southeast-asian-arts-forum-2023/
LOCATION:NAFA Ngee Ann Kongsi Galleries\, 80 Bencoolen Street\, NAFA Campus 1\, 90 Bencoolen St\, Singapore 189655\, Bencoolen\, Singapore 189655
CATEGORIES:Other (Events),Visual Arts (Events),Workshop & Talks (Events)
ATTACH;FMTTYPE=image/jpeg:https://artsequator.s3.ap-southeast-1.amazonaws.com/2023/06/SEA23_ArtsEquator2.jpg
GEO:1.300098;103.8516553
X-APPLE-STRUCTURED-LOCATION;VALUE=URI;X-ADDRESS=NAFA Ngee Ann Kongsi Galleries 80 Bencoolen Street NAFA Campus 1 90 Bencoolen St Singapore 189655 Bencoolen Singapore 189655;X-APPLE-RADIUS=500;X-TITLE=80 Bencoolen Street\, NAFA Campus 1\, 90 Bencoolen St\, Singapore 189655:geo:103.8516553,1.300098
END:VEVENT
BEGIN:VEVENT
DTSTART;TZID=Asia/Shanghai:20230803T200000
DTEND;TZID=Asia/Shanghai:20230803T220000
DTSTAMP:20260424T224604
CREATED:20230710T153643Z
LAST-MODIFIED:20230710T153643Z
UID:91098-1691092800-1691100000@artsequator.com
SUMMARY:LADYBO$$ Comedy Night
DESCRIPTION:Come for a night of knee-slapping fun and awesome craft beers at the American Taproom\, Waterloo St! \nHosted by the terrific Steph Chan\, LADYBO$$ COMEDY is an open mic that spotlights rising women and queer comics in Singapore. We have an amazing lineup of talented comics performing – and for our first-ever edition on 3 August\, we are honored to feature the super hilarious Nebulous Niang as our headliner! \nSteph Chan has been performing stand up since 2015 and is the host of Siao Char Bors Comedy\, a monthly show which highlights women & queer comedians from around the world. They were the first runner-up in Singapore’s first-ever roast tournament in 2019 and has been described as ‘anecdotal and raunchy’ (Bakchormee Boy) and ‘please try not to embarrass us’ (younger sister). Steph’s eight years in stand up have seen them perform everywhere from Bangkok to New Orleans\, and from ice cream parlours to the National Gallery.
URL:https://artsequator.com/event/ladybo-comedy-night/
LOCATION:American Taproom\, Waterloo St\, 261 Waterloo St\, #01-23 Waterloo Centre\, Singapore 180261\, Singapore\, 180261\, Singapore
CATEGORIES:Other (Events)
ATTACH;FMTTYPE=image/png:https://artsequator.s3.ap-southeast-1.amazonaws.com/2023/07/EVENTSFRAME-HEADER_3.png
ORGANIZER;CN="LADYBO%24%24%20COMEDY":MAILTO:write.nicoleng@gmail.com
GEO:1.2983373;103.8520581
X-APPLE-STRUCTURED-LOCATION;VALUE=URI;X-ADDRESS=American Taproom Waterloo St 261 Waterloo St #01-23 Waterloo Centre Singapore 180261 Singapore 180261 Singapore;X-APPLE-RADIUS=500;X-TITLE=261 Waterloo St\, #01-23 Waterloo Centre\, Singapore 180261:geo:103.8520581,1.2983373
END:VEVENT
BEGIN:VEVENT
DTSTART;TZID=Asia/Shanghai:20230811T180000
DTEND;TZID=Asia/Shanghai:20230811T190000
DTSTAMP:20260424T224604
CREATED:20230719T060110Z
LAST-MODIFIED:20230719T060110Z
UID:91129-1691776800-1691780400@artsequator.com
SUMMARY:STPI Evening Tours: In Praise of Silence
DESCRIPTION:STPI is thrilled to present “In Praise of Silence 寂靜在說話”\, a solo exhibition by Jane Lee\, curated by Tan Siuli. \nExplore our exhibition and gain insight into the artworks through our guided tours\, led by STPI staff and docents. Our guided tours also offer an exclusive look into our Creative Workshop and Papermill. Guided Tours at STPI are free of charge. \n11 August 2023\, Friday\n6.00PM – 7.00PM \nFree admission. \nRegister your interest in the link. Drop-in guests are welcome. \nhttps://bit.ly/JLGuidedTours-Listing
URL:https://artsequator.com/event/stpi-evening-tours-in-praise-of-silence/
LOCATION:STPI Creative Workshop & Gallery\, 41 Robertson Quay\, Singapore\, Singapore\, 238236\, Singapore
CATEGORIES:Other (Events),Visual Arts (Events)
ATTACH;FMTTYPE=image/png:https://artsequator.s3.ap-southeast-1.amazonaws.com/2023/07/Screenshot-2023-07-11-at-10.13.56-AM.png
ORGANIZER;CN="STPI%20Creative%20Workshop%20%26amp%3B%20Gallery":MAILTO:communications@stpi.com.sg
GEO:1.2911018;103.8402617
X-APPLE-STRUCTURED-LOCATION;VALUE=URI;X-ADDRESS=STPI Creative Workshop & Gallery 41 Robertson Quay Singapore Singapore 238236 Singapore;X-APPLE-RADIUS=500;X-TITLE=41 Robertson Quay:geo:103.8402617,1.2911018
END:VEVENT
BEGIN:VEVENT
DTSTART;TZID=Asia/Shanghai:20230822T190000
DTEND;TZID=Asia/Shanghai:20230822T210000
DTSTAMP:20260424T224604
CREATED:20230803T111621Z
LAST-MODIFIED:20230803T111621Z
UID:91342-1692730800-1692738000@artsequator.com
SUMMARY:What's Next\, ADN?
DESCRIPTION:Venue: Esplanade Studio 219 (located at Esplanade Mall Level 2\, entrance next to Straits Chinese Signatures Restaurant) \nWe invite you to join us as we celebrate the launch of (Asian) Dramaturgs’ Network:  Sensing\, Complexity\, Tracing and Doing\, a publication that brings together a range of ideas\, reflections and conversations about dramaturgy and dramaturgs in the region. \nThe publication draws material from varied events hosted and organised by the Asian Dramaturgs’ Network (ADN) since 2016 and includes new writing on what is involved in the work of dramaturgs and dramaturgical thinkers. The contributors include dramaturgs\, practitioners\, academics and researchers from varied parts of the Asia-Pacific who have been involved variously in ADN. This work is co-edited by Charlene Rajendran\, Peter Eckersall\, Daniel Teo\, Chong Gua Khee\, Nah Dominic and Ugoran Prasad\, and published by Centre 42\, with support from the National Arts Council. \nAt the event we will also introduce the new Director of ADN\, Corrie Tan\, and discuss some of her plans for the future. Corrie will host a conversation about the book with the co-editors\, contributors and all present who wish to participate. \nThis is an in-person event with a livestream component via the ADN Facebook Page. If you are currently residing in Singapore\, join us at the launch over light bites and drinks. Limited physical copies of the books will also be on sale at the venue.
URL:https://artsequator.com/event/whats-next-adn/
LOCATION:Esplanade – Theatres on the Bay\, 1 Esplanade Dr\, 038981\, Singapore
CATEGORIES:Dance (Events),Other (Events),Theatre (Events),Workshop & Talks (Events)
ATTACH;FMTTYPE=image/jpeg:https://artsequator.s3.ap-southeast-1.amazonaws.com/2023/07/Web.jpg
ORGANIZER;CN="Centre%2042":MAILTO:info@centre42.sg
GEO:1.289857;103.8552799
X-APPLE-STRUCTURED-LOCATION;VALUE=URI;X-ADDRESS=Esplanade – Theatres on the Bay 1 Esplanade Dr 038981 Singapore;X-APPLE-RADIUS=500;X-TITLE=1 Esplanade Dr:geo:103.8552799,1.289857
END:VEVENT
BEGIN:VEVENT
DTSTART;TZID=Asia/Shanghai:20230825T203000
DTEND;TZID=Asia/Shanghai:20230825T213000
DTSTAMP:20260424T224604
CREATED:20230719T043103Z
LAST-MODIFIED:20230719T043103Z
UID:91213-1692995400-1692999000@artsequator.com
SUMMARY:The Fruit Basket: Get Well Soon
DESCRIPTION:THE FRUIT BASKET IS BACK\, FULLY VACCINATED! Singapore’s only drag incubation programme is back\, with a brand-new offering of drag queens\, kings and burlesque things. \nWe’re ready to spoil you rotten with some of the season’s finest new fruit. THE FRUIT BASKET: GET WELL SOON is the juiciest cabaret in town\, featuring the reintroduction of some of your fav baby queens and kings born in the time of Covid… \nACYD RAYNE — Hold onto your umbrellas\, because Acyd Rayne isn’t just a face beat for the gods! Don’t miss your chance to witness this force of nature in action. \nDIQ ENVY — She may have started out as a singing queen\, but this show she’ll be doing something very different with her mouth. Come see the faces she makes! \nDREW PICTURES — Set to be Singapore’s most dramatic drag king\, Drew Pictures is everything the drag scene has been waiting for. And by that\, we mean he’s a twink who tops! \nFeaturing appearances by stunning local showgirls KAK NINA BOO\, LYCHEE BYE and REI REI… and performances by The Fruit Basket alumni! \nThe Projector Golden Mile: Blue Room . 25 August (8.30pm) & 26 August (3.00pm) . $30 . M18
URL:https://artsequator.com/event/the-fruit-basket-get-well-soon/2023-08-25/
LOCATION:The Projector Golden Mile\, 6001 Beach Rd\, #05-00 GOLDEN MILE TOWER\, Singapore\, 199589\, Singapore
CATEGORIES:Other (Events)
ATTACH;FMTTYPE=image/png:https://artsequator.s3.ap-southeast-1.amazonaws.com/2023/07/Screenshot-2023-07-17-at-6.27.31-PM.png
ORGANIZER;CN="Lychee%20Bye":MAILTO:lycheebyework@gmail.com
GEO:1.3019921;103.8642024
X-APPLE-STRUCTURED-LOCATION;VALUE=URI;X-ADDRESS=The Projector Golden Mile 6001 Beach Rd #05-00 GOLDEN MILE TOWER Singapore 199589 Singapore;X-APPLE-RADIUS=500;X-TITLE=6001 Beach Rd\, #05-00 GOLDEN MILE TOWER:geo:103.8642024,1.3019921
END:VEVENT
BEGIN:VEVENT
DTSTART;TZID=Asia/Shanghai:20230829T193000
DTEND;TZID=Asia/Shanghai:20230829T213000
DTSTAMP:20260424T224604
CREATED:20230815T110046Z
LAST-MODIFIED:20230815T110046Z
UID:91518-1693337400-1693344600@artsequator.com
SUMMARY:T'ang Quartet - Chamber of Heroes
DESCRIPTION:The renowned T’ang Quartet is thrilled to announce a mesmerising concert experience at Victoria Concert Hall on August 29\, where they will celebrate the brilliance of chamber music’s finest composers. Set against the backdrop of their mission to honour classical era legends while embracing the contributions of contemporary composers\, the ensemble will present an enchanting evening featuring the exceptional works of Joseph Haydn\, Caroline Shaw\, and Ludwig van Beethoven. \nThe T’ang Quartet has long established itself as a leading exponent of chamber music\, showcasing its unwavering commitment to reviving and reinterpreting the masterpieces that have shaped the genre. With a passion for historical significance and modern innovation\, the quartet consistently bridges the gap between past and present\, offering audiences a unique and diverse musical experience. \nThe upcoming show promises to be a sublime celebration of three extraordinary composers who have left an indelible mark on the world of chamber music: \nJoseph Haydn – Revered as the “Father of the String Quartet\,” Haydn’s compositions laid the foundation for the development of chamber music. His intricate and melodious compositions continue to captivate listeners\, showcasing his unparalleled craftsmanship and creativity. \nLudwig van Beethoven – A true titan of classical music\, Beethoven’s chamber music compositions are a testament to his genius and everlasting influence. His ability to convey raw emotion through music has solidified his place as one of the most iconic composers of all time. \nCaroline Shaw – A contemporary genius\, Shaw’s works bring a breath of fresh air to the chamber music scene. With her innovative approach and distinct musical voice\, Shaw’s compositions effortlessly weave together tradition and innovation\, making her a perfect fit for T’ang Quartet’s dedication to both the classical and modern realms of chamber music. The quartet will play her string quartet\, Plan & Elevation – a work which was commissioned by Dumbarton Oaks\, a historic estate in the Georgetown neighbourhood of Washington\, D.C. \n\n\nThe concert will transport the audience on a musical journey that seamlessly connects the past and the present. By performing these diverse works\, the quartet pays homage to the rich legacy of chamber music while embracing the innovations that continue to shape the genre. \nJoin the T’ang Quartet for an unforgettable evening that captures the essence of chamber music’s finest creators. This concert is not just a performance; it’s a celebration of the harmonious blend of tradition and innovation that defines the T’ang Quartet’s artistic vision.
URL:https://artsequator.com/event/tang-quartet-chamber-of-heroes/
LOCATION:Victoria Concert Hall\, Singapore Symphonia Company Limited 11 Empress Place #01-02 Victoria Concert Hall\, Singapore\, 179558\, Singapore
CATEGORIES:Event of the Day,Music (Events),Other (Events)
ATTACH;FMTTYPE=image/png:https://artsequator.s3.ap-southeast-1.amazonaws.com/2023/08/COH-FB-cover-2.png
ORGANIZER;CN="T%27ang%20Quartet":MAILTO:cara@infected.studio
GEO:1.288621;103.851462
X-APPLE-STRUCTURED-LOCATION;VALUE=URI;X-ADDRESS=Victoria Concert Hall Singapore Symphonia Company Limited 11 Empress Place #01-02 Victoria Concert Hall Singapore 179558 Singapore;X-APPLE-RADIUS=500;X-TITLE=Singapore Symphonia Company Limited 11 Empress Place #01-02 Victoria Concert Hall:geo:103.851462,1.288621
END:VEVENT
END:VCALENDAR