BEGIN:VCALENDAR
VERSION:2.0
PRODID:-//ArtsEquator - ECPv5.16.3.1//NONSGML v1.0//EN
CALSCALE:GREGORIAN
METHOD:PUBLISH
X-ORIGINAL-URL:https://artsequator.com
X-WR-CALDESC:Events for ArtsEquator
REFRESH-INTERVAL;VALUE=DURATION:PT1H
X-Robots-Tag:noindex
X-PUBLISHED-TTL:PT1H
BEGIN:VTIMEZONE
TZID:Asia/Shanghai
BEGIN:STANDARD
TZOFFSETFROM:+0800
TZOFFSETTO:+0800
TZNAME:CST
DTSTART:20230101T000000
END:STANDARD
END:VTIMEZONE
BEGIN:VEVENT
DTSTART;TZID=Asia/Shanghai:20230324T100000
DTEND;TZID=Asia/Shanghai:20250124T210000
DTSTAMP:20260421T071744
CREATED:20230419T074810Z
LAST-MODIFIED:20230419T074810Z
UID:89683-1679652000-1737752400@artsequator.com
SUMMARY:Textile Masters to the World: The global desire for Indian cloth
DESCRIPTION:From 24 March 2023 \nDaily\, 10am – 7pm | Fridays\, 10am – 9pm \nAsian Civilisations Museum\, Level 3\, Fashion and Textiles Gallery \n  \nThe Asian Civilisations Museum presents Textile Masters to the World: The global desire for Indian cloth with a selection of exquisite garments and textiles at its Fashion and Textiles Gallery. Featuring 27 pieces from the National Collection and loans\, the exhibition spotlights the historic global impact of textile production in India\, and its role as evidence of trade and cultural exchange between India and regions such as the Middle East\, Southeast Asia\, and Europe from the fourteenth to nineteenth century. From fashion and furnishing\, to gift exchange and heirlooms\, visitors can marvel at the artistry and craftsmanship of early textile masters\, and discover how Indian textiles influenced local designs\, materials and fashions wherever they were traded. 
URL:https://artsequator.com/event/textile-masters-to-the-world-the-global-desire-for-indian-cloth-2/
LOCATION:Asian Civilisations Museum\, 1 Empress Pl\,\, Singapore\, 179555\, Singapore
CATEGORIES:Children/Family (Events),Literary Events/Talks (Events),Other (Events),Visual Arts (Events)
ATTACH;FMTTYPE=image/jpeg:https://artsequator.s3.ap-southeast-1.amazonaws.com/2023/03/Textile-Masters-to-the-World_-The-global-desire-for-Indian-cloth-at-Asian-Civilisations-Museums-Fashion-and-Textiles-Gallery..jpg
GEO:1.2880208;103.8510592
X-APPLE-STRUCTURED-LOCATION;VALUE=URI;X-ADDRESS=Asian Civilisations Museum 1 Empress Pl Singapore 179555 Singapore;X-APPLE-RADIUS=500;X-TITLE=1 Empress Pl\,:geo:103.8510592,1.2880208
END:VEVENT
BEGIN:VEVENT
DTSTART;TZID=Asia/Shanghai:20240315T090000
DTEND;TZID=Asia/Shanghai:20240329T170000
DTSTAMP:20260421T071744
CREATED:20240313T093300Z
LAST-MODIFIED:20240313T093300Z
UID:93845-1710493200-1711731600@artsequator.com
SUMMARY:POP-UP: Get Booked and Hustle
DESCRIPTION:‘For You Page’\, a Singapore Literature (Sing Lit) campaign led by final year students from NTU Wee Kim Wee School of Communication and Information (WKWSCI)\, is launching “Get Booked’’ – a series of book pop-up events at three well-known cafes from 29 January 2024 to 29 March 2024. During limited periods at Brawn and Brains Coffee\, Creme by LÉLE Bakery and The Social Space\, patrons can enjoy browsing through free books. \nMade for patrons seeking a coffee fix\, hangout spot and workspace respectively\, “Get Booked” consists of three pop-up events with varying opening hours. \n\n\nGet Booked with Brews at Brawn and Brains Coffee (Hamilton Road) from 29 January 2024 to 9 February 2024 – featuring an inviting space for coffee lovers to relax and catch up over books; \n\n\nGet Booked to Chill at Creme by LÉLE Bakery from 13 February 2024 to 27 February 2024 – presenting a cozy hangout and reading spot with their specialty Nian Gao Rice Cake Waffles and ice-cream for Chinese New Year\, open past midnight; and \n\n\nGet Booked and Hustle at The Social Space (Kreta Ayer) from 15 March 2024 to 29 March 2024 – offering a conducive space for work and breaks with Wi-Fi connection\, food\, drinks\, books and retail space for productivity-seekers. \n\n\nAt each event\, visitors can expect a curated selection of English books including fiction\, non-fiction\, novels\, poetry\, plays and more. The booth features interactive zines with activities patrons can participate in to enter giveaways and win attractive vouchers from establishments such as Bob The Baker Boy and Book Bar. There\, patrons can help themselves to complimentary stickers and bookmarks as keepsakes from the event.
URL:https://artsequator.com/event/pop-up-get-booked-and-hustle/
LOCATION:The Social Space\, 333 Kreta Ayer Road\, Singapore\, Singapore\, 080333\, Singapore
CATEGORIES:Literary Events/Talks (Events)
ATTACH;FMTTYPE=image/jpeg:https://artsequator.s3.ap-southeast-1.amazonaws.com/2024/02/Untitled4.jpg
GEO:1.2805458;103.8425682
X-APPLE-STRUCTURED-LOCATION;VALUE=URI;X-ADDRESS=The Social Space 333 Kreta Ayer Road Singapore Singapore 080333 Singapore;X-APPLE-RADIUS=500;X-TITLE=333 Kreta Ayer Road:geo:103.8425682,1.2805458
END:VEVENT
BEGIN:VEVENT
DTSTART;TZID=Asia/Shanghai:20240323T100000
DTEND;TZID=Asia/Shanghai:20240330T130000
DTSTAMP:20260421T071744
CREATED:20240109T055454Z
LAST-MODIFIED:20240109T055454Z
UID:93128-1711188000-1711803600@artsequator.com
SUMMARY:Polish: The Art of Self-Editing for Fiction Writers
DESCRIPTION:Promotions\n\n40% concession* rates for students and seniors\n20% off past participants of SBC Academy**\n20% off buddy tickets*\n10% off for Kinokuniya Privilege Card members**\n\n* Discount is automatic (for concession\, participants will have to present their student pass or senior citizen card on the day of the talk for verification purposes). \n** Request promo code via email to programmes@bookcouncil.sg \n\n\n\n\nOff set the course fee using your SkillsFuture Credits! Refer here.\nT o submit claim for this SkillsFuture course: \n\nRegister and request for invoice\nLog in on MySkillsFuture with Singpass and go to ‘E-Services’\nClick on ‘Check and Claim SkillsFuture Credit’\nClick on ‘Proceed to Submit a Claim’.\nSearch for this course.\nThe page will show your course details and the course run or course start date. Scroll down to key in payment details and upload supporting documents (invoice).\nCheck the ‘Terms & Conditions’ checkbox.\nClick ‘Submit’.\n\n\n\nSynopsis\nOnce you have completed a story\, you must relook your fiction with a keen editor’s eye if you are to identify aspects to rework and improve on. If you are unsure of how to troubleshoot and polish your work before you market it\, this is the workshop for you. \nFirst session (3 hours) 23 March 2023 \n\nHow to be dispassionate when assessing and revising one’s own work\nThe different types/stages of editing: structural editing\, copy/line editing\, proofreading\nHow to identify and solve macro/structural problems (e.g. issues of concept\, plot\, character development\, pacing\, setting\, themes\, writing style)\nHow to identify copy/line issues (e.g. minor factual errors\, consistency\, grammar\, spelling\, punctuation\, clarity\, expression\, formatting)\nHow to give constructive and supportive feedback to other writers\n\nAt the end of this session\, all participants will be broken up into small groups. Each group member will be given hard copies of the group’s sample texts to edit as homework. \nSecond session (4-hours) 30 March 2023 \n\nDuring this session\, participants will gather in their allocated small groups to give mutual feedback on the texts they have edited.\nWhile this small group critique process goes on\, the facilitator will talk with individuals one at a time to give her feedback on their texts.\n\nThe session will end with a review of what participants have applied and gained through the entire workshop process. \nLearning Outcomes:\n\nUnderstand the process of editing fiction\nApply an editing mindset\, when necessary\, to your personal writing\nEnhance how you give feedback to others about their writing\n\nRequirements:\nIn order to participate in this workshop\, you will first need to submit a max-2000-word sample of your writing upon registration. (Each piece will undergo a review process by the facilitator and other participants such that you will learn how to critique text from an editor’s perspective and you will also receive comprehensive feedback on your work.) SBC will get in touch upon full payment of the course to get your sample\, latest a week before the workshop. Please contact programmes@bookcouncil.sg for any questions. \n\n\n\n\nFirst Session:\nDate: 23 March 2023\, Saturday\nTime: 10.00 am – 1.00 pm\nVenue: SBC Training Room\, Goodman Arts Centre\,\nBlk E\, #03-32 (Directions below at FAQ section)\nSecond Session:\nDate: 30 March 2023\, Saturday\nTime: 10.00 am – 2.00 pm\nVenue: SBC Training Room\, Goodman Arts Centre\,\nBlk E\, #03-32 (Directions below at FAQ section)\n\n\n\n\nAbout trainer:\nVerena Tay (www.verenatay.com) is a Singapore-based writer\, editor\, storyteller\, theatre practitioner and arts educator. She has published two collections of short stories and four volumes of plays\, as well as edited twelve story anthologies (including the bestselling BALIK KAMPUNG series published by Math Paper Press). An Honorary Fellow at the International Writing Program\, University of Iowa (Aug–Nov 2007)\, she was a Writer-in-Residence at Nanyang Technological University (Aug–Nov 2018). She has just completed a PhD in Creative Writing with Swansea University through which she wrote her first novel about three generations of Singaporean Chinese women with a mythological intervention. \n\n\n\n\nCancellation:\nThe programme can be cancelled or postponed two weeks before the programme date if the minimum number of participants is not met. Participants will be fully refunded for workshops cancelled by us. \nParticipants who are unable to attend a workshop they have registered for are to inform us of the reason two weeks before the workshop date. They will be fully refunded in the event of extenuating and mitigating circumstances (E.g. illness\, bereavement\, accidents) . Those who inform us up to 5 working days before the workshop date will receive a 50% refund. Those who did not turn up at the workshop will not receive a refund. \nUpon registration\, you are deemed to have read and understood the cancellation and withdrawal policy and accept the terms contained therein. \n\nFrequently asked questions\n\n\n\n\n\nWhere is the venue?\n\nSingapore Book Council is located at 90 Goodman Road\, Blk E #03-32*\, Goodman Arts Centre\, S(439053). The Writer’s Lounge\, SBC Training Room\, and office are located here.\n\nHow do I get to the venue by bus? \n\nBy Bus: Bus Stop 91099 (along Mountbatten Road) – 12\, 14\, 30\, 30E\, 158\, 196\, 401 Bus Stop 91091 (Bef Kg Kayu Rd) – 12\, 14\, 14A\, 30\, 30E\, 158\, 196 | This stop is opposite of Goodman Arts Centre\, please use the overhead bridge to cross over.\n\nHow do I get to the venue by train? \n\nBy MRT: Mountbatten MRT Station (Circle Line) Exit B | Turn left upon exit\, follow sheltered walkway (crossing Geylang River) all the way to Goodman Arts Centre. After the gate\, turn left\, passing Block H towards Block E. Take the first staircase to level 3.\n\nHow do I get to the venue by car/taxi? \n\nDrop-offs can be done at Carpark A nearest to Blk E during office hours. Drop-offs and parking is located at Carpark B near Blk O.\n\n\nIs there a lift access to the venue? \n\nThere is no lift access at the building.\n\n\n 
URL:https://artsequator.com/event/polish-the-art-of-self-editing-for-fiction-writers/
LOCATION:Singapore Book Council\, Training Room\, Goodman Arts Centre\, 90 Goodman Road\, Block E\, #03-32\, Singapore\, Singapore\, 439053\, Singapore
CATEGORIES:Literary Events/Talks (Events),Workshop & Talks (Events)
ATTACH;FMTTYPE=image/png:https://artsequator.s3.ap-southeast-1.amazonaws.com/2024/01/Banner-Arts-Equator-1920-x-1080-px.png
ORGANIZER;CN="Singapore%20Book%20Council":MAILTO:info@bookcouncil.sg
GEO:1.3032947;103.8851792
X-APPLE-STRUCTURED-LOCATION;VALUE=URI;X-ADDRESS=Singapore Book Council Training Room Goodman Arts Centre 90 Goodman Road Block E #03-32 Singapore Singapore 439053 Singapore;X-APPLE-RADIUS=500;X-TITLE=Goodman Arts Centre\, 90 Goodman Road\, Block E\, #03-32:geo:103.8851792,1.3032947
END:VEVENT
END:VCALENDAR