BEGIN:VCALENDAR
VERSION:2.0
PRODID:-//ArtsEquator - ECPv5.16.3.1//NONSGML v1.0//EN
CALSCALE:GREGORIAN
METHOD:PUBLISH
X-WR-CALNAME:ArtsEquator
X-ORIGINAL-URL:https://artsequator.com
X-WR-CALDESC:Events for ArtsEquator
REFRESH-INTERVAL;VALUE=DURATION:PT1H
X-Robots-Tag:noindex
X-PUBLISHED-TTL:PT1H
BEGIN:VTIMEZONE
TZID:Asia/Shanghai
BEGIN:STANDARD
TZOFFSETFROM:+0800
TZOFFSETTO:+0800
TZNAME:CST
DTSTART:20230101T000000
END:STANDARD
END:VTIMEZONE
BEGIN:VEVENT
DTSTART;TZID=Asia/Shanghai:20230324T100000
DTEND;TZID=Asia/Shanghai:20250124T210000
DTSTAMP:20260423T141752
CREATED:20230419T074810Z
LAST-MODIFIED:20230419T074810Z
UID:89683-1679652000-1737752400@artsequator.com
SUMMARY:Textile Masters to the World: The global desire for Indian cloth
DESCRIPTION:From 24 March 2023 \nDaily\, 10am – 7pm | Fridays\, 10am – 9pm \nAsian Civilisations Museum\, Level 3\, Fashion and Textiles Gallery \n  \nThe Asian Civilisations Museum presents Textile Masters to the World: The global desire for Indian cloth with a selection of exquisite garments and textiles at its Fashion and Textiles Gallery. Featuring 27 pieces from the National Collection and loans\, the exhibition spotlights the historic global impact of textile production in India\, and its role as evidence of trade and cultural exchange between India and regions such as the Middle East\, Southeast Asia\, and Europe from the fourteenth to nineteenth century. From fashion and furnishing\, to gift exchange and heirlooms\, visitors can marvel at the artistry and craftsmanship of early textile masters\, and discover how Indian textiles influenced local designs\, materials and fashions wherever they were traded. 
URL:https://artsequator.com/event/textile-masters-to-the-world-the-global-desire-for-indian-cloth-2/
LOCATION:Asian Civilisations Museum\, 1 Empress Pl\,\, Singapore\, 179555\, Singapore
CATEGORIES:Children/Family (Events),Literary Events/Talks (Events),Other (Events),Visual Arts (Events)
ATTACH;FMTTYPE=image/jpeg:https://artsequator.s3.ap-southeast-1.amazonaws.com/2023/03/Textile-Masters-to-the-World_-The-global-desire-for-Indian-cloth-at-Asian-Civilisations-Museums-Fashion-and-Textiles-Gallery..jpg
GEO:1.2880208;103.8510592
X-APPLE-STRUCTURED-LOCATION;VALUE=URI;X-ADDRESS=Asian Civilisations Museum 1 Empress Pl Singapore 179555 Singapore;X-APPLE-RADIUS=500;X-TITLE=1 Empress Pl\,:geo:103.8510592,1.2880208
END:VEVENT
BEGIN:VEVENT
DTSTART;VALUE=DATE:20231102
DTEND;VALUE=DATE:20231211
DTSTAMP:20260423T141752
CREATED:20231107T050346Z
LAST-MODIFIED:20231107T050346Z
UID:92675-1698883200-1702252799@artsequator.com
SUMMARY:Rhythmic Resonance: A Collaboration Beyond Boundaries By Andy Yang & Ian de Souza
DESCRIPTION:The Private Museum (TPM) Singapore is pleased to present Rhythmic Resonance: A Collaboration Beyond Boundaries By Andy Yang & Ian de Souza\, a duo exhibition showcasing works from Australian-based artist Ian de Souza and Singaporean artist Andy Yang.  \nExploring themes of collaboration\, cultural exchange and artistic cross-pollination through a combination of de Souza and Yang’s respective practices\, this showcase will also feature a series of novel collaborative artworks painted by both artists in unison. Immerse in the ways meaningful exchanges can transform artistic practice\, and be inspired by de Souza and Yang’s journey of collaboration\, partnership and growth.
URL:https://artsequator.com/event/rhythmic-resonance-a-collaboration-beyond-boundaries-by-andy-yang-ian-de-souza/
LOCATION:The Private Museum\, 11 Upper Wilkie Rd\, Singapore\, Singapore\, Singapore 228120\, Singapore
CATEGORIES:Literary Events/Talks (Events),Visual Arts (Events)
ATTACH;FMTTYPE=image/jpeg:https://artsequator.s3.ap-southeast-1.amazonaws.com/2023/10/TPM23-EX2-Web-Banner-Visual.jpg
GEO:1.3030687;103.8483915
X-APPLE-STRUCTURED-LOCATION;VALUE=URI;X-ADDRESS=The Private Museum 11 Upper Wilkie Rd Singapore Singapore Singapore 228120 Singapore;X-APPLE-RADIUS=500;X-TITLE=11 Upper Wilkie Rd:geo:103.8483915,1.3030687
END:VEVENT
BEGIN:VEVENT
DTSTART;TZID=Asia/Shanghai:20231118T210000
DTEND;TZID=Asia/Shanghai:20231118T235900
DTSTAMP:20260423T141752
CREATED:20231104T033130Z
LAST-MODIFIED:20231104T033130Z
UID:92685-1700341200-1700351940@artsequator.com
SUMMARY:Literary Lounge
DESCRIPTION:For one night only…\nSing Lit Station is excited to open the doors to our Literary Lounge\, a special event for our lovely donors. We’re rolling out the red carpet and serving up a bevvy of bespoke cocktails inspired by beloved Sing Lit titles! \nA donation (through a ticket purchase on Peatix) will gain you entry to the Lounge and an evening of tipples and wonderful company. Donors in the $300 tier will get to indulge in a unique literary experience: our talented mixologist will craft a custom drink tailored to your taste preferences and your favorite Sing Lit authors! \nSing Lit Station is a registered charity and Institution of Public Character. Our vision is to be a platform where readers and writers can meet\, and we believe that a vibrant community is the key ingredient for a thriving literary scene. Your contributions keep our station running\, ensuring writers have a space to create\, connect\, and flourish. \nDonation Tiers\nShort Story Sipper ($10) Entry to the Literary Lounge\nRum & Reading Reveler ($25) Entry + 1 Sing Lit cocktail\nGin & Genre Aficionado ($40) Entry + 2 Sing Lit cocktails\nLiterary Libationist ($300) Entry for 2pax + free flow Sing Lit cocktails + custom drink tailored just for you!\nExtra cocktails at +$18 each \nDonating to Sing Lit Station has never been more delicious. We can’t wait to see you! \nPlease note: Our venue is on the second floor and only accessible by stairs. Please drop us a message at contact@singlitstation.com if you have any accessibility questions. We also have a cat in the office\, however antihistamines are available in the pantry area for anyone with allergies.
URL:https://artsequator.com/event/literary-lounge/
LOCATION:Sing Lit Station\, 22 Dickson Road #02-01\, 209506\, Singapore
CATEGORIES:Literary Events/Talks (Events)
ATTACH;FMTTYPE=image/png:https://artsequator.s3.ap-southeast-1.amazonaws.com/2023/11/EVENT-LISTINGS-Literary-Lounge-1920x1080-1.png
ORGANIZER;CN="Sing%20Lit%20Station":MAILTO:singlitstation@gmail.com
GEO:1.3053096;103.8542026
X-APPLE-STRUCTURED-LOCATION;VALUE=URI;X-ADDRESS=Sing Lit Station 22 Dickson Road #02-01 209506 Singapore;X-APPLE-RADIUS=500;X-TITLE=22 Dickson Road #02-01:geo:103.8542026,1.3053096
END:VEVENT
END:VCALENDAR