BEGIN:VCALENDAR
VERSION:2.0
PRODID:-//ArtsEquator - ECPv5.16.3.1//NONSGML v1.0//EN
CALSCALE:GREGORIAN
METHOD:PUBLISH
X-WR-CALNAME:ArtsEquator
X-ORIGINAL-URL:https://artsequator.com
X-WR-CALDESC:Events for ArtsEquator
REFRESH-INTERVAL;VALUE=DURATION:PT1H
X-Robots-Tag:noindex
X-PUBLISHED-TTL:PT1H
BEGIN:VTIMEZONE
TZID:Asia/Shanghai
BEGIN:STANDARD
TZOFFSETFROM:+0800
TZOFFSETTO:+0800
TZNAME:CST
DTSTART:20230101T000000
END:STANDARD
END:VTIMEZONE
BEGIN:VEVENT
DTSTART;TZID=Asia/Shanghai:20230324T100000
DTEND;TZID=Asia/Shanghai:20250124T210000
DTSTAMP:20260426T020633
CREATED:20230419T074810Z
LAST-MODIFIED:20230419T074810Z
UID:89683-1679652000-1737752400@artsequator.com
SUMMARY:Textile Masters to the World: The global desire for Indian cloth
DESCRIPTION:From 24 March 2023 \nDaily\, 10am – 7pm | Fridays\, 10am – 9pm \nAsian Civilisations Museum\, Level 3\, Fashion and Textiles Gallery \n  \nThe Asian Civilisations Museum presents Textile Masters to the World: The global desire for Indian cloth with a selection of exquisite garments and textiles at its Fashion and Textiles Gallery. Featuring 27 pieces from the National Collection and loans\, the exhibition spotlights the historic global impact of textile production in India\, and its role as evidence of trade and cultural exchange between India and regions such as the Middle East\, Southeast Asia\, and Europe from the fourteenth to nineteenth century. From fashion and furnishing\, to gift exchange and heirlooms\, visitors can marvel at the artistry and craftsmanship of early textile masters\, and discover how Indian textiles influenced local designs\, materials and fashions wherever they were traded. 
URL:https://artsequator.com/event/textile-masters-to-the-world-the-global-desire-for-indian-cloth-2/
LOCATION:Asian Civilisations Museum\, 1 Empress Pl\,\, Singapore\, 179555\, Singapore
CATEGORIES:Children/Family (Events),Literary Events/Talks (Events),Other (Events),Visual Arts (Events)
ATTACH;FMTTYPE=image/jpeg:https://artsequator.s3.ap-southeast-1.amazonaws.com/2023/03/Textile-Masters-to-the-World_-The-global-desire-for-Indian-cloth-at-Asian-Civilisations-Museums-Fashion-and-Textiles-Gallery..jpg
GEO:1.2880208;103.8510592
X-APPLE-STRUCTURED-LOCATION;VALUE=URI;X-ADDRESS=Asian Civilisations Museum 1 Empress Pl Singapore 179555 Singapore;X-APPLE-RADIUS=500;X-TITLE=1 Empress Pl\,:geo:103.8510592,1.2880208
END:VEVENT
BEGIN:VEVENT
DTSTART;TZID=Asia/Shanghai:20230913T200000
DTEND;TZID=Asia/Shanghai:20230913T223000
DTSTAMP:20260426T020633
CREATED:20230829T043714Z
LAST-MODIFIED:20230829T043714Z
UID:91854-1694635200-1694644200@artsequator.com
SUMMARY:dink: House of Mirrors
DESCRIPTION:Join our HOUSE OF MIRRORS this September\, where we’ll reflect as we enter the third quarter of the year. Can you look inward? Are you overwhelmed by all the distortions? Does the person in the mirror look alright to you? 🪞👄🪞 \nWhether you’re ready for these questions or not\, come down and hang with us. Maybe everyone else’s answers and art will help you make sense of the year thus far! Maybe not. Mirror mirror\, on the wall\, who’s the clearest headed of them all? \nSnag your open mic slot now and let loose your introspections and reflections! All mediums\, genres and artists are welcome.
URL:https://artsequator.com/event/dink-house-of-mirrors/
LOCATION:UltraSuperNew Gallery\, 168 Tyrwhitt Road\, SIngapore\, Singapore\, 207572\, Singapore
CATEGORIES:Artist Opportunities,Literary Events/Talks (Events),Music (Events)
ATTACH;FMTTYPE=image/png:https://artsequator.s3.ap-southeast-1.amazonaws.com/2023/08/sept-house-of-mirrors.png
ORGANIZER;CN="dink%20collective":MAILTO:dinkcollective@gmail.com
GEO:1.3119333;103.8604775
X-APPLE-STRUCTURED-LOCATION;VALUE=URI;X-ADDRESS=UltraSuperNew Gallery 168 Tyrwhitt Road SIngapore Singapore 207572 Singapore;X-APPLE-RADIUS=500;X-TITLE=168 Tyrwhitt Road:geo:103.8604775,1.3119333
END:VEVENT
BEGIN:VEVENT
DTSTART;TZID=Asia/Shanghai:20230924T110000
DTEND;TZID=Asia/Shanghai:20230924T150000
DTSTAMP:20260426T020633
CREATED:20230913T114249Z
LAST-MODIFIED:20230913T114249Z
UID:92287-1695553200-1695567600@artsequator.com
SUMMARY:ACM Adventures
DESCRIPTION:ACM Adventures: Dear Diary… \nIf you had a diary\, what would you write about? Explore the practice of writing through a storytelling and drama performance. Then\, design your own personal journal. And don’t forget to check out special calligraphic tools in the Islamic Art Gallery! \n  \nACM Adventures: Shine Bright \nLet’s get lit! Listen to a drama performance and enjoy a storytelling session in the galleries. Craft your own candle holder inspired by a candelabra from the Maritime Trade Gallery.
URL:https://artsequator.com/event/acm-adventures/2023-09-24/
LOCATION:Asian Civilisations Museum\, 1 Empress Pl\,\, Singapore\, 179555\, Singapore
CATEGORIES:Children/Family (Events),Literary Events/Talks (Events)
ATTACH;FMTTYPE=image/png:https://artsequator.s3.ap-southeast-1.amazonaws.com/2023/09/Screenshot-2023-09-08-at-11.12.57-AM.png
GEO:1.2880208;103.8510592
X-APPLE-STRUCTURED-LOCATION;VALUE=URI;X-ADDRESS=Asian Civilisations Museum 1 Empress Pl Singapore 179555 Singapore;X-APPLE-RADIUS=500;X-TITLE=1 Empress Pl\,:geo:103.8510592,1.2880208
END:VEVENT
END:VCALENDAR