BEGIN:VCALENDAR
VERSION:2.0
PRODID:-//ArtsEquator - ECPv5.16.3.1//NONSGML v1.0//EN
CALSCALE:GREGORIAN
METHOD:PUBLISH
X-WR-CALNAME:ArtsEquator
X-ORIGINAL-URL:https://artsequator.com
X-WR-CALDESC:Events for ArtsEquator
REFRESH-INTERVAL;VALUE=DURATION:PT1H
X-Robots-Tag:noindex
X-PUBLISHED-TTL:PT1H
BEGIN:VTIMEZONE
TZID:Asia/Shanghai
BEGIN:STANDARD
TZOFFSETFROM:+0800
TZOFFSETTO:+0800
TZNAME:CST
DTSTART:20230101T000000
END:STANDARD
END:VTIMEZONE
BEGIN:VEVENT
DTSTART;TZID=Asia/Shanghai:20230324T100000
DTEND;TZID=Asia/Shanghai:20250124T210000
DTSTAMP:20260426T053725
CREATED:20230419T074810Z
LAST-MODIFIED:20230419T074810Z
UID:89683-1679652000-1737752400@artsequator.com
SUMMARY:Textile Masters to the World: The global desire for Indian cloth
DESCRIPTION:From 24 March 2023 \nDaily\, 10am – 7pm | Fridays\, 10am – 9pm \nAsian Civilisations Museum\, Level 3\, Fashion and Textiles Gallery \n  \nThe Asian Civilisations Museum presents Textile Masters to the World: The global desire for Indian cloth with a selection of exquisite garments and textiles at its Fashion and Textiles Gallery. Featuring 27 pieces from the National Collection and loans\, the exhibition spotlights the historic global impact of textile production in India\, and its role as evidence of trade and cultural exchange between India and regions such as the Middle East\, Southeast Asia\, and Europe from the fourteenth to nineteenth century. From fashion and furnishing\, to gift exchange and heirlooms\, visitors can marvel at the artistry and craftsmanship of early textile masters\, and discover how Indian textiles influenced local designs\, materials and fashions wherever they were traded. 
URL:https://artsequator.com/event/textile-masters-to-the-world-the-global-desire-for-indian-cloth-2/
LOCATION:Asian Civilisations Museum\, 1 Empress Pl\,\, Singapore\, 179555\, Singapore
CATEGORIES:Children/Family (Events),Literary Events/Talks (Events),Other (Events),Visual Arts (Events)
ATTACH;FMTTYPE=image/jpeg:https://artsequator.s3.ap-southeast-1.amazonaws.com/2023/03/Textile-Masters-to-the-World_-The-global-desire-for-Indian-cloth-at-Asian-Civilisations-Museums-Fashion-and-Textiles-Gallery..jpg
GEO:1.2880208;103.8510592
X-APPLE-STRUCTURED-LOCATION;VALUE=URI;X-ADDRESS=Asian Civilisations Museum 1 Empress Pl Singapore 179555 Singapore;X-APPLE-RADIUS=500;X-TITLE=1 Empress Pl\,:geo:103.8510592,1.2880208
END:VEVENT
BEGIN:VEVENT
DTSTART;TZID=Asia/Shanghai:20230805T200000
DTEND;TZID=Asia/Shanghai:20230805T223000
DTSTAMP:20260426T053725
CREATED:20230719T053200Z
LAST-MODIFIED:20230719T053200Z
UID:91152-1691265600-1691274600@artsequator.com
SUMMARY:Grand Poetry Tournament
DESCRIPTION:Outspoken and Spoke & Bird are excited to present the GRAND POETRY TOURNAMENT!\nThis will be an exciting TEAM EVENT spoken word competition featuring a total of $1000 in cash prizes! Exact format and prize structure is in the sign up link.\nEvent details are as followed:\n5th August 2023\, 8-10.30 pm\nBlackbox\, Stamford Arts Centre\nThis event would not be possible without the support of Singlit Station\n\n\nAbout the Organisers: \nSPOKE & BIRD \nSpoke & Bird is a poetry open mic in Singapore which provides a welcoming space for new and seasoned poets. It also provides a platform for established local and international writers\, performers\, storytellers and musicians to showcase their work. Founded in 2017\, Spoke & Bird can also be found as a live streamed poetry night. \nOUTSPOKEN \nOutspoken is a new bi-monthly competitive Spoken Word Poetry event in Singapore consisting of 3 rounds including 1 improv round. \nSING LIT STATION \nSing Lit Station is a registered charity and Institution of Public Character (IPC). Its vision is to be a platform where readers and writers can meet. \nIts core mission is to serve the local literary community of writers and readers\, through: creating a space for writers to grow their artistic and professional lives; inviting readers to explore our literary culture; and working with many partners to build inclusive and dynamic communities.
URL:https://artsequator.com/event/grand-poetry-tournament/
LOCATION:Stamford Arts Centre\, 0202\, 155 Waterloo Street\, Singapore\, Singapore\, 187962\, Singapore
CATEGORIES:Literary Events/Talks (Events)
ATTACH;FMTTYPE=image/png:https://artsequator.s3.ap-southeast-1.amazonaws.com/2023/07/GRAND-POETRY-TOURNAMENT-2160-%C3%97-1080-px-1600-%C3%97-400-px-1000-%C3%97-666-px.png
ORGANIZER;CN="Outspoken":MAILTO:cheyennealexandriaphillips@gmail.com
END:VEVENT
BEGIN:VEVENT
DTSTART;TZID=Asia/Shanghai:20230819T190000
DTEND;TZID=Asia/Shanghai:20230819T200000
DTSTAMP:20260426T053725
CREATED:20230622T145441Z
LAST-MODIFIED:20230622T145441Z
UID:90820-1692471600-1692475200@artsequator.com
SUMMARY:Silent Moon - an evening of music and poetry
DESCRIPTION:While modern music has rightly been considered in many ways as breaking away from the musical past\, it certainly has not fully escaped the influence of what has come before. Juxtaposing three modern works for violin-viola duo by composers Quincy Porter\, Augusta Read Thomas and Darius Milhaud against Mozart’s Duo in G major\, K.423. Silent Moon explores the subtle stylistic relationships between composers who worked (or are working) more than a century apart. The evening will also feature poetry readings that are curated by local writers Audrey Tan and Julius Li\, which trace analogous stylistic relationships in the literary arts. Through interplay of the selected poems’ rhythm\, form and content alongside the pieces of the concert programme\, the performance invites the audience to consider to what extent music may be considered in parallel to speech\, recapturing an 18th-century European aesthetic that was widely understood in Mozart’s day and bringing it into contact with the present.  \nProgramme \nWolfgang Amadeus Mozart\, Duo in G Major for violin and viola\, K. 423 (1783) \n I. Allegro \n II. Adagio \n III. Rondeau (Allegro) \nDarius Milhaud\, Sonatine for violin and viola\, Op. 226 (1941) \n I. Décidé \n II. Lent \n III. Fugue (Vif) \nAugusta Read Thomas\, Silent Moon (2006) \n I. Still: Soulful and Resonant  \n II. Energetic: Majestic and Dramatic  \n III. Suspended: Lyrical and Chant-like — “When twofold silence was the song of love.” \nQuincy Porter; Duo For Violin and Viola (1952-54) \n I. Allegretto \n II. Lento \n III. Allegro molto \nMusic performed by: \nTan Tiag Yi (Violin) \nCindy Ow (Viola) \nPoetry curated by: \nAudrey Tan \nJulius Li \nTicketing: \nConcession tickets costing $21 each are available for full-time students\, full-time national servicemen (NSF)\, senior citizens (60 years and above) and practicing artists. All other patrons should purchase general admission tickets for $26. \nAdmission Rules: \nNo children below the age of 6 will be admitted. Concession ticket holders should bring proof of their status\, such as a driver’s license or student pass\, as random checks may be conducted at the venue. Refunds will not be granted to ticket-holders who do not meet these admission requirements. \nLatecomers will only be admitted at suitable breaks. Patrons may choose to sit anywhere during the concert\, except on seats which are reserved for VIPs and guests. We reserve the right to ask parents to bring children out of the hall should they be disruptive during the performance. There is no admission without a ticket. \nPhotography/Video Recording Rules: \nPhotography and videography by audience members is not allowed during the performance. However\, audience members may take photos during curtain calls. We reserve the right to ask audience members to leave the hall should they not comply with these rules.
URL:https://artsequator.com/event/silent-moon-an-evening-of-music-and-poetry/
LOCATION:The Arts House\, Chamber\, 1 Old Parliament Ln\, Singapore\, Singapore\, 179429
CATEGORIES:Literary Events/Talks (Events),Music (Events)
ATTACH;FMTTYPE=image/jpeg:https://artsequator.s3.ap-southeast-1.amazonaws.com/2023/06/Poster.jpg
ORGANIZER;CN="Duo%20Tarenna":MAILTO:duo.tarenna@gmail.com
GEO:1.2886837;103.8510638
X-APPLE-STRUCTURED-LOCATION;VALUE=URI;X-ADDRESS=The Arts House Chamber 1 Old Parliament Ln Singapore Singapore 179429;X-APPLE-RADIUS=500;X-TITLE=1 Old Parliament Ln:geo:103.8510638,1.2886837
END:VEVENT
END:VCALENDAR