BEGIN:VCALENDAR
VERSION:2.0
PRODID:-//ArtsEquator - ECPv5.16.3.1//NONSGML v1.0//EN
CALSCALE:GREGORIAN
METHOD:PUBLISH
X-ORIGINAL-URL:https://artsequator.com
X-WR-CALDESC:Events for ArtsEquator
REFRESH-INTERVAL;VALUE=DURATION:PT1H
X-Robots-Tag:noindex
X-PUBLISHED-TTL:PT1H
BEGIN:VTIMEZONE
TZID:Asia/Shanghai
BEGIN:STANDARD
TZOFFSETFROM:+0800
TZOFFSETTO:+0800
TZNAME:CST
DTSTART:20230101T000000
END:STANDARD
END:VTIMEZONE
BEGIN:VEVENT
DTSTART;TZID=Asia/Shanghai:20230217T190000
DTEND;TZID=Asia/Shanghai:20230217T210000
DTSTAMP:20260422T170751
CREATED:20230117T020107Z
LAST-MODIFIED:20230117T020107Z
UID:89089-1676660400-1676667600@artsequator.com
SUMMARY:Film Friday! PlayTime by Jacques Tati
DESCRIPTION:Celebrate Jacques Tati’s gloriously choreographed\, nearly wordless comedies about confusion in an age of high technology reached their apotheosis with PlayTime. \nFor this monumental achievement\, a nearly three year-long\, bank-breaking production\, Tati again thrust the lovably old-fashioned Monsieur Hulot\, along with a host of other lost souls\, into a baffling modern world\, this time Paris. With every inch of its superwide frame crammed with hilarity and inventiveness\, PlayTime is a lasting record of a modern era tiptoeing on the edge of oblivion. \nDrop in for this screening and enjoy with a free bag of popcorn.
URL:https://artsequator.com/event/film-friday-playtime-by-jacques-tati/
LOCATION:STPI Creative Workshop & Gallery\, 41 Robertson Quay\, Singapore\, Singapore\, 238236\, Singapore
CATEGORIES:Children/Family (Events),Film Screening (Events),Visual Arts (Events)
ATTACH;FMTTYPE=image/jpeg:https://artsequator.s3.ap-southeast-1.amazonaws.com/2023/01/8.film-friday.jpg
ORGANIZER;CN="STPI%20Creative%20Workshop%20%26amp%3B%20Gallery":MAILTO:communications@stpi.com.sg
GEO:1.2911018;103.8402617
X-APPLE-STRUCTURED-LOCATION;VALUE=URI;X-ADDRESS=STPI Creative Workshop & Gallery 41 Robertson Quay Singapore Singapore 238236 Singapore;X-APPLE-RADIUS=500;X-TITLE=41 Robertson Quay:geo:103.8402617,1.2911018
END:VEVENT
END:VCALENDAR