BEGIN:VCALENDAR
VERSION:2.0
PRODID:-//ArtsEquator - ECPv5.16.3.1//NONSGML v1.0//EN
CALSCALE:GREGORIAN
METHOD:PUBLISH
X-WR-CALNAME:ArtsEquator
X-ORIGINAL-URL:https://artsequator.com
X-WR-CALDESC:Events for ArtsEquator
REFRESH-INTERVAL;VALUE=DURATION:PT1H
X-Robots-Tag:noindex
X-PUBLISHED-TTL:PT1H
BEGIN:VTIMEZONE
TZID:Asia/Shanghai
BEGIN:STANDARD
TZOFFSETFROM:+0800
TZOFFSETTO:+0800
TZNAME:CST
DTSTART:20220101T000000
END:STANDARD
END:VTIMEZONE
BEGIN:VEVENT
DTSTART;TZID=Asia/Shanghai:20221109T163000
DTEND;TZID=Asia/Shanghai:20221120T203000
DTSTAMP:20260423T060715
CREATED:20221110T070811Z
LAST-MODIFIED:20221110T070811Z
UID:87305-1668011400-1668976200@artsequator.com
SUMMARY:Dysphoria/Euphoria
DESCRIPTION:The Dysphoria/Euphoria exhibition is jointly presented by TransBefrienders\, Rainbow Families\, and Heckin’ Unicorn\, to commemorate Transgender Awareness Week and Transgender Day of Remembrance. The exhibition will be held at Projector X: Picturehouse (The Cathay building)\, from 11–20 November. \nThis exhibition concludes our month-long transgender awareness campaign\, and touches on gender dysphoria\, transitioning\, and euphoria. We are also proud and honoured to showcase the artworks that explore these themes by 8 local trans and gender-diverse artists – Aki Hassan\, Andy Winter\, Benedict Lim\, Marla Bendini\, Naaliyah Noor Daneen\, Sida Chu\, Stephanie Dogfoot\, and Worms Wav. \nThe exhibition will also premiere video interviews with various individuals\, describing their experiences with gender dysphoria and their journey towards transitioning and euphoria. This video also features Dr Jeremiah\, who speaks on gender dysphoria and gender-affirming healthcare.
URL:https://artsequator.com/event/dysphoria-euphoria/
LOCATION:Projector X: Picturehouse\, 2 Handy Road\, The Cathay\, Level 5\, 229233\, Singapore
CATEGORIES:Film Screening (Events),Visual Arts (Events)
ATTACH;FMTTYPE=image/jpeg:https://artsequator.s3.ap-southeast-1.amazonaws.com/2022/11/19Oct-Panel-1.jpg
ORGANIZER;CN="TransBefrienders":MAILTO:info@transbefrienders.com
GEO:1.2995083;103.8477778
X-APPLE-STRUCTURED-LOCATION;VALUE=URI;X-ADDRESS=Projector X: Picturehouse 2 Handy Road The Cathay Level 5 229233 Singapore;X-APPLE-RADIUS=500;X-TITLE=2 Handy Road\, The Cathay\, Level 5:geo:103.8477778,1.2995083
END:VEVENT
END:VCALENDAR