BEGIN:VCALENDAR
VERSION:2.0
PRODID:-//ArtsEquator - ECPv5.16.3.1//NONSGML v1.0//EN
CALSCALE:GREGORIAN
METHOD:PUBLISH
X-ORIGINAL-URL:https://artsequator.com
X-WR-CALDESC:Events for ArtsEquator
REFRESH-INTERVAL;VALUE=DURATION:PT1H
X-Robots-Tag:noindex
X-PUBLISHED-TTL:PT1H
BEGIN:VTIMEZONE
TZID:Asia/Shanghai
BEGIN:STANDARD
TZOFFSETFROM:+0800
TZOFFSETTO:+0800
TZNAME:CST
DTSTART:20220101T000000
END:STANDARD
END:VTIMEZONE
BEGIN:VEVENT
DTSTART;VALUE=DATE:20220714
DTEND;VALUE=DATE:20220912
DTSTAMP:20260423T184311
CREATED:20220620T052320Z
LAST-MODIFIED:20220620T052320Z
UID:83193-1657756800-1662940799@artsequator.com
SUMMARY:Objectifs Cinema: Now Showing
DESCRIPTION:Objectifs Cinema: Now Showing showcases the best of Southeast Asian short films across all genres\, from narrative\, documentary\, to experimental. From 14 July to 11 September 2022\, film lovers can expect to see a rotating series of short films from around Southeast Asia\, screened in four parts at the Objectifs Chapel Gallery. \nOver 30 short films selected from the region will be screened during the exhibition period\, including films by award-winning Singaporean filmmakers Boo Junfeng and Kirsten Tan\, and Southeast Asian talents such as Martika Ramirez Escobar and Carlo Francisco Manatad\, whose works have been recognised internationally. Audiences will also have the opportunity to participate in conversations to learn more about the craft and inspiration behind their iconic works. \nFor film enthusiasts and cinephiles\, there will also be a film memorabilia corner at the exhibition where items such as collectibles\, posters\, promotional material\, and more can be exchanged. Aspiring filmmakers can look forward to attending regular gatherings at Objectifs\, where they can connect and network with like-minded individuals in the film community.
URL:https://artsequator.com/event/objectifs-cinema-now-showing/
LOCATION:Objectifs Centre for Photography and Film\, 155 Middle Road\, Singapore\, 188977\, Singapore
CATEGORIES:Film Screening (Events),Workshop & Talks (Events)
ATTACH;FMTTYPE=image/jpeg:https://artsequator.s3.ap-southeast-1.amazonaws.com/2022/06/Objectifs-Cinema.jpg
GEO:1.2998589;103.8522229
X-APPLE-STRUCTURED-LOCATION;VALUE=URI;X-ADDRESS=Objectifs Centre for Photography and Film 155 Middle Road Singapore 188977 Singapore;X-APPLE-RADIUS=500;X-TITLE=155 Middle Road:geo:103.8522229,1.2998589
END:VEVENT
BEGIN:VEVENT
DTSTART;TZID=Asia/Shanghai:20220903T160000
DTEND;TZID=Asia/Shanghai:20220903T171500
DTSTAMP:20260423T184311
CREATED:20220906T084835Z
LAST-MODIFIED:20220906T084835Z
UID:84931-1662220800-1662225300@artsequator.com
SUMMARY:PRINT SCREEN Film Screening
DESCRIPTION:Saturday\, 3 September 2022 | 4.00PM — 5.15PM \nFree Drop-in Event \nArtSpace @ HeluTrans \nJoin us for the first half of our Film Screening session\, taking place on Saturday\, 3 September from 4.00PM – 5.15PM. \n–– \nRawuh (directed by Agung Kurniawan): \nJumarno and his wife are experiencing financial difficulties\, making them even more dependent on their eldest son\, Zainu\, who works as an illegal laborer in Malaysia. \n–– \nElephants in the City (directed by Dam Quang Trung): \nAn intimate sketch of urbanisation and human connection. \n–– \nKasih Sayang Untuk Layla (directed by Nur Munawarah): \nWhen a young girl’s mother travels abroad for work\, she needs to find a way to overcome her longing for her mother and convince her strict grandmother to allow her to call her mother.
URL:https://artsequator.com/event/print-screen-film-screening-2/
LOCATION:ArtSpace @ HeluTrans\, 39 Keppel Road\, Singapore\, 089065
CATEGORIES:Film Screening (Events)
ATTACH;FMTTYPE=image/jpeg:https://artsequator.s3.ap-southeast-1.amazonaws.com/2022/08/Film-Screening-1.jpg
ORGANIZER;CN="STPI":MAILTO:stpicomms@gmail.com
GEO:1.2719533;103.836752
X-APPLE-STRUCTURED-LOCATION;VALUE=URI;X-ADDRESS=ArtSpace @ HeluTrans 39 Keppel Road Singapore 089065;X-APPLE-RADIUS=500;X-TITLE=39 Keppel Road:geo:103.836752,1.2719533
END:VEVENT
BEGIN:VEVENT
DTSTART;TZID=Asia/Shanghai:20220903T173000
DTEND;TZID=Asia/Shanghai:20220903T184500
DTSTAMP:20260423T184311
CREATED:20220906T084821Z
LAST-MODIFIED:20220906T084821Z
UID:84934-1662226200-1662230700@artsequator.com
SUMMARY:PRINT SCREEN Film Screening
DESCRIPTION:Saturday\, 3 September 2022 | 5.30PM — 6.45PM \nFree Drop-in Event \nArtSpace @ HeluTrans \nJoin us for the first half of our Film Screening session\, taking place on Saturday\, 3 September from 5.30PM – 6.45PM. \n–– \nJudy Free (directed by Che Tagyamon) \nA young girl’s reality is intruded when her migrant worker father suddenly comes home as an animated doodle figure. \n–– \nBo Hai (directed by Duzan Duong) \nBo Hai takes an intimate look at a young man who helps out at his father’s mini-market. By showing everyday situations\, the films introduces us to the life of young Vietnamese who have lived most of their life in the Czech Republic and are losing touch with the culture of their parents but at the same time are prevented from becoming fully-fledged members of Czech society. \n–– \nManila is Full of Men Named Boy (directed by Andrew Stephen Lee) \nAs Michael Jackson’s televised funeral plays throughout The Philippines\, an estranged son purchases a child who can drink and smoke to impress his father.
URL:https://artsequator.com/event/print-screen-film-screening/
LOCATION:ArtSpace @ HeluTrans\, 39 Keppel Road\, Singapore\, 089065
CATEGORIES:Film Screening (Events)
ATTACH;FMTTYPE=image/jpeg:https://artsequator.s3.ap-southeast-1.amazonaws.com/2022/08/Film-Screening-2.jpg
ORGANIZER;CN="STPI":MAILTO:stpicomms@gmail.com
GEO:1.2719533;103.836752
X-APPLE-STRUCTURED-LOCATION;VALUE=URI;X-ADDRESS=ArtSpace @ HeluTrans 39 Keppel Road Singapore 089065;X-APPLE-RADIUS=500;X-TITLE=39 Keppel Road:geo:103.836752,1.2719533
END:VEVENT
END:VCALENDAR