BEGIN:VCALENDAR
VERSION:2.0
PRODID:-//ArtsEquator - ECPv5.16.3.1//NONSGML v1.0//EN
CALSCALE:GREGORIAN
METHOD:PUBLISH
X-ORIGINAL-URL:https://artsequator.com
X-WR-CALDESC:Events for ArtsEquator
REFRESH-INTERVAL;VALUE=DURATION:PT1H
X-Robots-Tag:noindex
X-PUBLISHED-TTL:PT1H
BEGIN:VTIMEZONE
TZID:Asia/Shanghai
BEGIN:STANDARD
TZOFFSETFROM:+0800
TZOFFSETTO:+0800
TZNAME:CST
DTSTART:20230101T000000
END:STANDARD
END:VTIMEZONE
BEGIN:VEVENT
DTSTART;TZID=Asia/Shanghai:20230310T200000
DTEND;TZID=Asia/Shanghai:20230326T200000
DTSTAMP:20260422T102748
CREATED:20230127T022652Z
LAST-MODIFIED:20230127T040702Z
UID:89220-1678478400-1679860800@artsequator.com
SUMMARY:NUS Arts Festival 2023: Spaces Between
DESCRIPTION:NUS Arts Festival returns to campus with our latest edition: Spaces Between! \nRunning across 3 weekends in March\, you’ll be spoilt for choice with over 20 different shows spanning multiple genres and disciplines like dance\, music\, theatre\, film\, art installations\, dialogue\, and more! \nThe theme Spaces Between examines the idea of liminal spaces\, the uncomfortable unknown as we transition between phases\, and states. While liminal spaces bring discomfort and ambiguity\, they also present us with opportunities for growth and positive change\, physically\, emotionally\, and metaphorically. \nIn a world of diverse and divided views\, NUS Arts Festival 2023: Spaces Between seeks to show how art can build connections and demonstrate that there is more to gain in the spaces between.
URL:https://artsequator.com/event/nus-arts-festival-2023-spaces-between/
LOCATION:NUS University Cultural Centre\, 50 Kent Ridge Cres\, Singapore\, 119279\, Singapore
CATEGORIES:Dance (Events),Festival (Events),Film Screening (Events),Literary Events/Talks (Events),Music (Events),Theatre (Events),Visual Arts (Events),Workshop & Talks (Events)
ATTACH;FMTTYPE=image/jpeg:https://artsequator.s3.ap-southeast-1.amazonaws.com/2023/01/KV_1080px-x-608px-01.jpg
GEO:1.3015907;103.7721946
X-APPLE-STRUCTURED-LOCATION;VALUE=URI;X-ADDRESS=NUS University Cultural Centre 50 Kent Ridge Cres Singapore 119279 Singapore;X-APPLE-RADIUS=500;X-TITLE=50 Kent Ridge Cres:geo:103.7721946,1.3015907
END:VEVENT
BEGIN:VEVENT
DTSTART;TZID=Asia/Shanghai:20230321T193000
DTEND;TZID=Asia/Shanghai:20230321T203000
DTSTAMP:20260422T102748
CREATED:20230309T143019Z
LAST-MODIFIED:20230310T130149Z
UID:89569-1679427000-1679430600@artsequator.com
SUMMARY:Objectifs Film Club: Tenebrae by Nicole Midori Woodford
DESCRIPTION:Objectifs Film Club: Tenebrae by Nicole Midori Woodford\nTue 21 Mar 2023\, 7.30pm to 8.30pm\nVenue: Objectifs Workshop Space \nFree admission\, please RSVP here. \nThe word ‘renewal’ is seldom distant from the collective Singaporean consciousness. Bringing to mind the age-old national narrative of constant progress and development\, where our skills and environment are forever subjected to upgrading\, the beginning of each new year also encloses the word within a more personal sphere as we contemplate changes to old habits and come up with new year resolutions. \nCome join us at our first Film Club session of the year\, which will feature a screening of Tenebrae by Nicole Midori Woodford. This will be followed by a conversation between the filmmaker herself and Singaporean poet\, Crispin Rodrigues\, who will be reading a poem in tandem with the screening. Besides looking at what is lost and gained when renewal takes place\, the discussion will also examine other pertinent questions drawn out by the film – like what\, for instance\, irrevocably leaves its mark\, and how moving images and poetry alike can capture both situational gravitas and the emotions that bubble beneath during processes of renewal. \nLearn about the film here.
URL:https://artsequator.com/event/objectifs-film-club-tenebrae-by-nicole-midori-woodford/
LOCATION:Objectifs Centre for Photography and Film\, 155 Middle Road\, Singapore\, 188977\, Singapore
CATEGORIES:Film Screening (Events)
ATTACH;FMTTYPE=image/png:https://artsequator.s3.ap-southeast-1.amazonaws.com/2023/03/Tenebrae-Film-Still-Nicole-Midori-Woodford.png
GEO:1.2998589;103.8522229
X-APPLE-STRUCTURED-LOCATION;VALUE=URI;X-ADDRESS=Objectifs Centre for Photography and Film 155 Middle Road Singapore 188977 Singapore;X-APPLE-RADIUS=500;X-TITLE=155 Middle Road:geo:103.8522229,1.2998589
END:VEVENT
BEGIN:VEVENT
DTSTART;TZID=Asia/Shanghai:20230326T110000
DTEND;TZID=Asia/Shanghai:20230326T123000
DTSTAMP:20260422T102748
CREATED:20230310T082017Z
LAST-MODIFIED:20230313T081112Z
UID:89591-1679828400-1679833800@artsequator.com
SUMMARY:Goldilocks and the Three Bears: Lino Carving with Koh Jia Ling
DESCRIPTION:Bring “Goldilocks and the Three Bears” to life in this workshop! Recreate scenes from the classic fable using the linocut carving technique\, and make it your own by designing unique outfits for the characters. \nYou will be guided through the carving and printing process. At the end of the workshop\, you will be able to bring back a hand-printed storybook! \nRecommended for ages 7 and above. Adult supervision advised.
URL:https://artsequator.com/event/goldilocks-and-the-three-bears-lino-carving-with-koh-jia-ling-3/
LOCATION:STPI Creative Workshop & Gallery\, 41 Robertson Quay\, Singapore\, Singapore\, 238236\, Singapore
CATEGORIES:Children/Family (Events),Festival (Events),Film Screening (Events),Visual Arts (Events)
ATTACH;FMTTYPE=image/jpeg:https://artsequator.s3.ap-southeast-1.amazonaws.com/2023/03/4.-Goldilocks-MAIN.jpg
ORGANIZER;CN="STPI%20Creative%20Workshop%20%26amp%3B%20Gallery":MAILTO:communications@stpi.com.sg
GEO:1.2911018;103.8402617
X-APPLE-STRUCTURED-LOCATION;VALUE=URI;X-ADDRESS=STPI Creative Workshop & Gallery 41 Robertson Quay Singapore Singapore 238236 Singapore;X-APPLE-RADIUS=500;X-TITLE=41 Robertson Quay:geo:103.8402617,1.2911018
END:VEVENT
BEGIN:VEVENT
DTSTART;TZID=Asia/Shanghai:20230326T110000
DTEND;TZID=Asia/Shanghai:20230326T123000
DTSTAMP:20260422T102748
CREATED:20230310T082044Z
LAST-MODIFIED:20230310T083524Z
UID:89593-1679828400-1679833800@artsequator.com
SUMMARY:Goldilocks and the Three Bears: Lino Carving with Koh Jia Ling
DESCRIPTION:Bring “Goldilocks and the Three Bears” to life in this workshop! Recreate scenes from the classic fable using the linocut carving technique\, and make it your own by designing unique outfits for the characters. \nYou will be guided through the carving and printing process. At the end of the workshop\, you will be able to bring back a hand-printed storybook! \nRecommended for ages 7 and above. Adult supervision advised.
URL:https://artsequator.com/event/goldilocks-and-the-three-bears-lino-carving-with-koh-jia-ling-2/
LOCATION:STPI Creative Workshop & Gallery\, 41 Robertson Quay\, Singapore\, Singapore\, 238236\, Singapore
CATEGORIES:Children/Family (Events),Festival (Events),Film Screening (Events),Visual Arts (Events)
ATTACH;FMTTYPE=image/jpeg:https://artsequator.s3.ap-southeast-1.amazonaws.com/2023/03/4.-Goldilocks-MAIN-1.jpg
ORGANIZER;CN="STPI%20Creative%20Workshop%20%26amp%3B%20Gallery":MAILTO:communications@stpi.com.sg
GEO:1.2911018;103.8402617
X-APPLE-STRUCTURED-LOCATION;VALUE=URI;X-ADDRESS=STPI Creative Workshop & Gallery 41 Robertson Quay Singapore Singapore 238236 Singapore;X-APPLE-RADIUS=500;X-TITLE=41 Robertson Quay:geo:103.8402617,1.2911018
END:VEVENT
BEGIN:VEVENT
DTSTART;TZID=Asia/Shanghai:20230326T110000
DTEND;TZID=Asia/Shanghai:20230326T123000
DTSTAMP:20260422T102748
CREATED:20230310T082114Z
LAST-MODIFIED:20230310T083405Z
UID:89595-1679828400-1679833800@artsequator.com
SUMMARY:Goldilocks and the Three Bears: Lino Carving with Koh Jia Ling
DESCRIPTION:Bring “Goldilocks and the Three Bears” to life in this workshop! Recreate scenes from the classic fable using the linocut carving technique\, and make it your own by designing unique outfits for the characters. \nYou will be guided through the carving and printing process. At the end of the workshop\, you will be able to bring back a hand-printed storybook! \nRecommended for ages 7 and above. Adult supervision advised.
URL:https://artsequator.com/event/goldilocks-and-the-three-bears-lino-carving-with-koh-jia-ling/
LOCATION:STPI Creative Workshop & Gallery\, 41 Robertson Quay\, Singapore\, Singapore\, 238236\, Singapore
CATEGORIES:Children/Family (Events),Festival (Events),Film Screening (Events),Visual Arts (Events)
ATTACH;FMTTYPE=image/jpeg:https://artsequator.s3.ap-southeast-1.amazonaws.com/2023/03/4.-Goldilocks-MAIN-2.jpg
ORGANIZER;CN="STPI%20Creative%20Workshop%20%26amp%3B%20Gallery":MAILTO:communications@stpi.com.sg
GEO:1.2911018;103.8402617
X-APPLE-STRUCTURED-LOCATION;VALUE=URI;X-ADDRESS=STPI Creative Workshop & Gallery 41 Robertson Quay Singapore Singapore 238236 Singapore;X-APPLE-RADIUS=500;X-TITLE=41 Robertson Quay:geo:103.8402617,1.2911018
END:VEVENT
BEGIN:VEVENT
DTSTART;TZID=Asia/Shanghai:20230326T150000
DTEND;TZID=Asia/Shanghai:20230326T170000
DTSTAMP:20260422T102748
CREATED:20230310T082258Z
LAST-MODIFIED:20230310T125854Z
UID:89597-1679842800-1679850000@artsequator.com
SUMMARY:Whimsical Creatures: Print and Draw with Shanlyn Chew
DESCRIPTION:Reimagine your favourite animal characters in this print and drawing workshop with illustrator Shanlyn Chew! Unleash your creativity and experiment with pops of colours and varying textures to build your own quirky\, one-of-a-kind creature from scratch. \nAll tools and materials will be provided. \nRecommended for ages 6 and above. Adult supervision advised. \nImages courtesy of Shanlyn C. (Mushroom Mountain).
URL:https://artsequator.com/event/whimsical-creatures-print-and-draw-with-shanlyn-chew-2/
LOCATION:STPI Creative Workshop & Gallery\, 41 Robertson Quay\, Singapore\, Singapore\, 238236\, Singapore
CATEGORIES:Children/Family (Events),Event of the Day,Film Screening (Events),Visual Arts (Events)
ATTACH;FMTTYPE=image/jpeg:https://artsequator.s3.ap-southeast-1.amazonaws.com/2023/03/5.-Whimsical-MAIN.jpg
ORGANIZER;CN="STPI%20Creative%20Workshop%20%26amp%3B%20Gallery":MAILTO:communications@stpi.com.sg
GEO:1.2911018;103.8402617
X-APPLE-STRUCTURED-LOCATION;VALUE=URI;X-ADDRESS=STPI Creative Workshop & Gallery 41 Robertson Quay Singapore Singapore 238236 Singapore;X-APPLE-RADIUS=500;X-TITLE=41 Robertson Quay:geo:103.8402617,1.2911018
END:VEVENT
BEGIN:VEVENT
DTSTART;TZID=Asia/Shanghai:20230326T150000
DTEND;TZID=Asia/Shanghai:20230326T170000
DTSTAMP:20260422T102748
CREATED:20230310T083138Z
LAST-MODIFIED:20230310T083138Z
UID:89599-1679842800-1679850000@artsequator.com
SUMMARY:Whimsical Creatures: Print and Draw with Shanlyn Chew
DESCRIPTION:Reimagine your favourite animal characters in this print and drawing workshop with illustrator Shanlyn Chew! Unleash your creativity and experiment with pops of colours and varying textures to build your own quirky\, one-of-a-kind creature from scratch. \nAll tools and materials will be provided. \nRecommended for ages 6 and above. Adult supervision advised. \nImages courtesy of Shanlyn C. (Mushroom Mountain).
URL:https://artsequator.com/event/whimsical-creatures-print-and-draw-with-shanlyn-chew/
LOCATION:STPI Creative Workshop & Gallery\, 41 Robertson Quay\, Singapore\, Singapore\, 238236\, Singapore
CATEGORIES:Children/Family (Events),Event of the Day,Film Screening (Events),Visual Arts (Events)
ATTACH;FMTTYPE=image/jpeg:https://artsequator.s3.ap-southeast-1.amazonaws.com/2023/03/5.-Whimsical-MAIN-1.jpg
ORGANIZER;CN="STPI%20Creative%20Workshop%20%26amp%3B%20Gallery":MAILTO:communications@stpi.com.sg
GEO:1.2911018;103.8402617
X-APPLE-STRUCTURED-LOCATION;VALUE=URI;X-ADDRESS=STPI Creative Workshop & Gallery 41 Robertson Quay Singapore Singapore 238236 Singapore;X-APPLE-RADIUS=500;X-TITLE=41 Robertson Quay:geo:103.8402617,1.2911018
END:VEVENT
END:VCALENDAR