BEGIN:VCALENDAR
VERSION:2.0
PRODID:-//ArtsEquator - ECPv5.16.3.1//NONSGML v1.0//EN
CALSCALE:GREGORIAN
METHOD:PUBLISH
X-WR-CALNAME:ArtsEquator
X-ORIGINAL-URL:https://artsequator.com
X-WR-CALDESC:Events for ArtsEquator
REFRESH-INTERVAL;VALUE=DURATION:PT1H
X-Robots-Tag:noindex
X-PUBLISHED-TTL:PT1H
BEGIN:VTIMEZONE
TZID:Asia/Shanghai
BEGIN:STANDARD
TZOFFSETFROM:+0800
TZOFFSETTO:+0800
TZNAME:CST
DTSTART:20220101T000000
END:STANDARD
TZID:Europe/Helsinki
BEGIN:DAYLIGHT
TZOFFSETFROM:+0200
TZOFFSETTO:+0300
TZNAME:EEST
DTSTART:20220327T010000
END:DAYLIGHT
BEGIN:STANDARD
TZOFFSETFROM:+0300
TZOFFSETTO:+0200
TZNAME:EET
DTSTART:20221030T010000
END:STANDARD
END:VTIMEZONE
BEGIN:VEVENT
DTSTART;VALUE=DATE:20220714
DTEND;VALUE=DATE:20220912
DTSTAMP:20260423T152952
CREATED:20220620T052320Z
LAST-MODIFIED:20220620T052320Z
UID:83193-1657756800-1662940799@artsequator.com
SUMMARY:Objectifs Cinema: Now Showing
DESCRIPTION:Objectifs Cinema: Now Showing showcases the best of Southeast Asian short films across all genres\, from narrative\, documentary\, to experimental. From 14 July to 11 September 2022\, film lovers can expect to see a rotating series of short films from around Southeast Asia\, screened in four parts at the Objectifs Chapel Gallery. \nOver 30 short films selected from the region will be screened during the exhibition period\, including films by award-winning Singaporean filmmakers Boo Junfeng and Kirsten Tan\, and Southeast Asian talents such as Martika Ramirez Escobar and Carlo Francisco Manatad\, whose works have been recognised internationally. Audiences will also have the opportunity to participate in conversations to learn more about the craft and inspiration behind their iconic works. \nFor film enthusiasts and cinephiles\, there will also be a film memorabilia corner at the exhibition where items such as collectibles\, posters\, promotional material\, and more can be exchanged. Aspiring filmmakers can look forward to attending regular gatherings at Objectifs\, where they can connect and network with like-minded individuals in the film community.
URL:https://artsequator.com/event/objectifs-cinema-now-showing/
LOCATION:Objectifs Centre for Photography and Film\, 155 Middle Road\, Singapore\, 188977\, Singapore
CATEGORIES:Film Screening (Events),Workshop & Talks (Events)
ATTACH;FMTTYPE=image/jpeg:https://artsequator.s3.ap-southeast-1.amazonaws.com/2022/06/Objectifs-Cinema.jpg
GEO:1.2998589;103.8522229
X-APPLE-STRUCTURED-LOCATION;VALUE=URI;X-ADDRESS=Objectifs Centre for Photography and Film 155 Middle Road Singapore 188977 Singapore;X-APPLE-RADIUS=500;X-TITLE=155 Middle Road:geo:103.8522229,1.2998589
END:VEVENT
BEGIN:VEVENT
DTSTART;TZID=Asia/Shanghai:20220812T200000
DTEND;TZID=Asia/Shanghai:20220812T220000
DTSTAMP:20260423T152952
CREATED:20220706T102452Z
LAST-MODIFIED:20220706T102452Z
UID:83420-1660334400-1660341600@artsequator.com
SUMMARY:TERRITO/REALITIES
DESCRIPTION:TERRITO/REALITIES brings together 12 films in 3 chapters to expand our understanding of what it means to take a picture of our world. Located in the intersection between the environment\, media\, and technology\, TERRITO/REALITIES explores the complicated relationship between humanity and planet Earth\, as told by the images we make of them. From an exploration of the impact of mineral extraction in Congo to the dreams and desires of an Indonesian miner that blurs the line between film and fact\, from a sumptuous examination of the Mekong river to the geopolitics of satellite-imagery technology. \nCurated by Alfonse Chiu\, TERRITO/REALITIES is a DECK Associate Creative Programme.
URL:https://artsequator.com/event/territo-realities-2/2022-08-12/
LOCATION:Alliance Française\, 1 Sarkies Road Singapore 258130\, Singapore
CATEGORIES:Film Screening (Events)
ATTACH;FMTTYPE=image/jpeg:https://artsequator.s3.ap-southeast-1.amazonaws.com/2022/07/TerritoRealities_Website-Banner_1140x759px_150dpi-1-1.jpg
ORGANIZER;CN="DECK":MAILTO:admin@deck.sg
GEO:1.3141126;103.8370897
X-APPLE-STRUCTURED-LOCATION;VALUE=URI;X-ADDRESS=Alliance Française 1 Sarkies Road Singapore 258130 Singapore;X-APPLE-RADIUS=500;X-TITLE=1 Sarkies Road Singapore 258130:geo:103.8370897,1.3141126
END:VEVENT
BEGIN:VEVENT
DTSTART;TZID=Asia/Shanghai:20220812T200000
DTEND;TZID=Asia/Shanghai:20220820T220000
DTSTAMP:20260423T152952
CREATED:20220704T030811Z
LAST-MODIFIED:20220704T030811Z
UID:83411-1660334400-1661032800@artsequator.com
SUMMARY:TERRITO/REALITIES
DESCRIPTION:TERRITO/REALITIES brings together 12 films in 3 chapters to expand our understanding of what it means to take a picture of our world. Located in the intersection between the environment\, media\, and technology\, TERRITO/REALITIES explores the complicated relationship between humanity and planet Earth\, as told by the images we make of them. From an exploration of the impact of mineral extraction in Congo to the dreams and desires of an Indonesian miner that blurs the line between film and fact\, from a sumptuous examination of the Mekong river to the geopolitics of satellite-imagery technology. \nCurated by Alfonse Chiu\, TERRITO/REALITIES is a DECK Associate Creative Programme.
URL:https://artsequator.com/event/territo-realities/2022-08-12/
LOCATION:Alliance Française\, 1 Sarkies Road Singapore 258130\, Singapore
CATEGORIES:Film Screening (Events)
ATTACH;FMTTYPE=image/jpeg:https://artsequator.s3.ap-southeast-1.amazonaws.com/2022/07/TerritoRealities_Website-Banner_1140x759px_150dpi-1.jpg
ORGANIZER;CN="DECK":MAILTO:admin@deck.sg
GEO:1.3141126;103.8370897
X-APPLE-STRUCTURED-LOCATION;VALUE=URI;X-ADDRESS=Alliance Française 1 Sarkies Road Singapore 258130 Singapore;X-APPLE-RADIUS=500;X-TITLE=1 Sarkies Road Singapore 258130:geo:103.8370897,1.3141126
END:VEVENT
BEGIN:VEVENT
DTSTART;TZID=Europe/Helsinki:20220828T190000
DTEND;TZID=Europe/Helsinki:20220828T213000
DTSTAMP:20260423T152952
CREATED:20220906T084717Z
LAST-MODIFIED:20220906T084846Z
UID:84844-1661713200-1661722200@artsequator.com
SUMMARY:CHOREO DANCE FILM FESTIVAL
DESCRIPTION:Founded in 2022\, Choreo Dance Film Festival (CDFF) is Choreomundus’ first global platform for dance on film\, dedicated to cultivate a new generation of embodied and empowered dance filmmakers.  \nIn celebration of the 10th anniversary of Choreomundus\, the Erasmus+ International Master in Dance Knowledge\, Practice\, and Heritage\, CDFF will be held at Clermont-Ferrand\, one of the oldest cities in France\, which is also home to the Clermont-Ferrand International Short Film Festival (Festival du Court-Métrage de Clermont-Ferrand)\, the world’s leading international festivals for short films\, from  28 August to 31 August 2022.  \nThis year\, there will be 2 entries from Southeast Asian filmmakers. Ella\, a Female Morion from Bryan Viray\, Philippines and Twilight Chants from Joko Sudibyo\, Indonesia. The festival is founded and directed by Shanny Rann from Penang\, Malaysia.
URL:https://artsequator.com/event/choreo-dance-film-festival/
LOCATION:La Jetee\, 6 Pl. Michel de l'Hospital\, Clermont-Ferrand\, 63000
CATEGORIES:Dance (Events),Festival (Events),Film Screening (Events)
ATTACH;FMTTYPE=image/jpeg:https://artsequator.s3.ap-southeast-1.amazonaws.com/2022/08/CDFF_MAINPOSTER.jpg
GEO:45.7770563;3.0893725
X-APPLE-STRUCTURED-LOCATION;VALUE=URI;X-ADDRESS=La Jetee 6 Pl. Michel de l'Hospital Clermont-Ferrand 63000;X-APPLE-RADIUS=500;X-TITLE=6 Pl. Michel de l'Hospital:geo:3.0893725,45.7770563
END:VEVENT
END:VCALENDAR