BEGIN:VCALENDAR
VERSION:2.0
PRODID:-//ArtsEquator - ECPv5.16.3.1//NONSGML v1.0//EN
CALSCALE:GREGORIAN
METHOD:PUBLISH
X-WR-CALNAME:ArtsEquator
X-ORIGINAL-URL:https://artsequator.com
X-WR-CALDESC:Events for ArtsEquator
REFRESH-INTERVAL;VALUE=DURATION:PT1H
X-Robots-Tag:noindex
X-PUBLISHED-TTL:PT1H
BEGIN:VTIMEZONE
TZID:Asia/Shanghai
BEGIN:STANDARD
TZOFFSETFROM:+0800
TZOFFSETTO:+0800
TZNAME:CST
DTSTART:20240101T000000
END:STANDARD
END:VTIMEZONE
BEGIN:VEVENT
DTSTART;VALUE=DATE:20241231
DTEND;VALUE=DATE:20250127
DTSTAMP:20260420T055613
CREATED:20241222T111616Z
LAST-MODIFIED:20241222T111616Z
UID:95966-1735603200-1737935999@artsequator.com
SUMMARY:comma 2025: PAST x PRESENT = FUTURE
DESCRIPTION:comma\, indicating an unfinished sentence\, reflects the fluidity of the arts and never-ending pursuit for excellence among Singapore’s young creatives. \n \nFrom 31 December 2024 to 26 January 2025\, comma is a Creative Arts festival that celebrates emerging artists while bringing the spotlight to Singapore’s budding creative scene at the Somerset Belt.  \nThe equation “PAST x PRESENT = FUTURE” invites contemplation on how the echoes of the past resonate in the present\, shaping the trajectory of what is yet to come.    \nThis theme invites artists to delve into this interconnectedness by unearthing forgotten narratives\, evolving perspectives and envisioning the influence of the past and present on our future. Drawing inspiration from tradition\, heritage and ritualism\, artists are encouraged to experiment with new techniques and unconventional themes and materials\, creating works that not only mirror our current reality but also provide glimpses into the trajectory of where we are headed.    \nAudiences will experience works that pay homage to our roots while offering fresh and contemporary interpretations\, weaving together the threads of past\, present\, and future. 
URL:https://artsequator.com/event/comma-2025-past-x-present-future/
LOCATION:*SCAPE\, 2 Orchard Link #02-14\, Singapore\, Singapore\, 237978\, Singapore
CATEGORIES:Festival (Events),Film Screening (Events),Visual Arts (Events)
ATTACH;FMTTYPE=image/jpeg:https://artsequator.s3.ap-southeast-1.amazonaws.com/2024/12/comma-2025.jpg
ORGANIZER;CN="%2ASCAPE":MAILTO:nyfa@scape.sg
GEO:1.3010543;103.835846
X-APPLE-STRUCTURED-LOCATION;VALUE=URI;X-ADDRESS=*SCAPE 2 Orchard Link #02-14 Singapore Singapore 237978 Singapore;X-APPLE-RADIUS=500;X-TITLE=2 Orchard Link #02-14:geo:103.835846,1.3010543
END:VEVENT
BEGIN:VEVENT
DTSTART;TZID=Asia/Shanghai:20250115T200000
DTEND;TZID=Asia/Shanghai:20250118T210000
DTSTAMP:20260420T055613
CREATED:20241121T055252Z
LAST-MODIFIED:20241121T055252Z
UID:95758-1736971200-1737234000@artsequator.com
SUMMARY:M1 Singapore Fringe Festival 2025: Eclipse by The Necessary Stage
DESCRIPTION:Accessibility Features\nOpen captions in English for all shows \nAbsorbingly told by [2008 staging’s actor] Umar Ahmed\, Eclipse suggests that ancestral memory is never as meaningful as the allegiances of everyday life. \n— The Guardian UK \n  \n  \n  \n(Playwright Haresh Sharma) has demonstrated a deftness and maturity in scriptwriting\, a deeper inquiry into life and humanity\, as well as an evident progress in terms of his creations. \n— 联合早报 Lianhe Zaobao [translated from Chinese] \nA young Singaporean man is making a journey to his father’s birthplace in Hyderabad\, Pakistan. With him are his father’s ashes. As he makes the arduous trip\, he retraces the original journey made by millions of people—including his parents and grandparents—in 1947\, during the partition of India and Pakistan. \nWritten by Cultural Medallion recipient Haresh Sharma\, Eclipse is a play that looks at three generations of men struggling with their dreams and their journeys\, offering an intimate look at personal stories affected by historical events. \nFirst presented as a short play to critical acclaim by Scotland’s 7:84 Theatre at Traverse Theatre\, Eclipse was developed into a full-length production for the M1 Singapore Fringe Festival 2008. \nAlmost 80 years after the Partition\, this staging with a fresh new direction by Associate Artist A Yagnya stars award-winning Singapore actor Shrey Bhargava. It also features Indian classical vocalist Sveta Kilpady. \nThere will be a dialogue with the artists after the performances on 16 and 17 January 2025\, with speech to text interpretation available upon request for the dialogue on 17 January 2025. Please email your request to info@singaporefringe.com by 6 December 2024.
URL:https://artsequator.com/event/m1-singapore-fringe-festival-2025-eclipse-by-the-necessary-stage/
LOCATION:Black Box @ The Theatre Practice\, 54 Waterloo Street\, Singapore\, 187953\, Singapore
CATEGORIES:Festival (Events),Theatre (Events)
ATTACH;FMTTYPE=image/jpeg:https://artsequator.s3.ap-southeast-1.amazonaws.com/2024/11/1920x1080-Eclipse.jpg
ORGANIZER;CN="M1%20Singapore%20Fringe%20Festival":MAILTO:info@singaporefringe.com
GEO:1.2986009;103.85118
X-APPLE-STRUCTURED-LOCATION;VALUE=URI;X-ADDRESS=Black Box @ The Theatre Practice 54 Waterloo Street Singapore 187953 Singapore;X-APPLE-RADIUS=500;X-TITLE=54 Waterloo Street:geo:103.85118,1.2986009
END:VEVENT
END:VCALENDAR