BEGIN:VCALENDAR
VERSION:2.0
PRODID:-//ArtsEquator - ECPv5.16.3.1//NONSGML v1.0//EN
CALSCALE:GREGORIAN
METHOD:PUBLISH
X-WR-CALNAME:ArtsEquator
X-ORIGINAL-URL:https://artsequator.com
X-WR-CALDESC:Events for ArtsEquator
REFRESH-INTERVAL;VALUE=DURATION:PT1H
X-Robots-Tag:noindex
X-PUBLISHED-TTL:PT1H
BEGIN:VTIMEZONE
TZID:Asia/Shanghai
BEGIN:STANDARD
TZOFFSETFROM:+0800
TZOFFSETTO:+0800
TZNAME:CST
DTSTART:20240101T000000
END:STANDARD
END:VTIMEZONE
BEGIN:VEVENT
DTSTART;TZID=Asia/Shanghai:20240803T090000
DTEND;TZID=Asia/Shanghai:20240803T130000
DTSTAMP:20260422T072042
CREATED:20240724T070150Z
LAST-MODIFIED:20240724T070150Z
UID:95108-1722675600-1722690000@artsequator.com
SUMMARY:Let’s Get Curious – The Red Pencil (Singapore)’s 13th Anniversary
DESCRIPTION:Local charity The Red Pencil (Singapore) will be celebrating its 13th Anniversary on 3 August 2024 (Saturday)\, 9am to 1pm\, at our Redhill Centre with a FREE community event “Let’s Get Curious”. \nWe welcome ALL to join us at our 13th Anniversary! 😊 There will be art therapy games\, activities and free gifts to be given away. \nSuitable for all ages! Come with your families & friends!
URL:https://artsequator.com/event/lets-get-curious-the-red-pencil-singapores-13th-anniversary/
LOCATION:82 Redhill Lane\, Singapore\, Singapore
CATEGORIES:Children/Family (Events),Festival (Events),Visual Arts (Events)
ATTACH;FMTTYPE=image/png:https://artsequator.s3.ap-southeast-1.amazonaws.com/2024/07/RPS-13-Anniversary-2024.png
ORGANIZER;CN="The%20Red%20Pencil%20%28Singapore%29":MAILTO:programme@redpencil.org
GEO:1.352083;103.819836
END:VEVENT
END:VCALENDAR