BEGIN:VCALENDAR
VERSION:2.0
PRODID:-//ArtsEquator - ECPv5.16.3.1//NONSGML v1.0//EN
CALSCALE:GREGORIAN
METHOD:PUBLISH
X-WR-CALNAME:ArtsEquator
X-ORIGINAL-URL:https://artsequator.com
X-WR-CALDESC:Events for ArtsEquator
REFRESH-INTERVAL;VALUE=DURATION:PT1H
X-Robots-Tag:noindex
X-PUBLISHED-TTL:PT1H
BEGIN:VTIMEZONE
TZID:Asia/Shanghai
BEGIN:STANDARD
TZOFFSETFROM:+0800
TZOFFSETTO:+0800
TZNAME:CST
DTSTART:20240101T000000
END:STANDARD
END:VTIMEZONE
BEGIN:VEVENT
DTSTART;VALUE=DATE:20240425
DTEND;VALUE=DATE:20240527
DTSTAMP:20260423T232358
CREATED:20240408T170245Z
LAST-MODIFIED:20240408T170245Z
UID:94500-1714003200-1716767999@artsequator.com
SUMMARY:vOilah! France Singapore Festival 2024
DESCRIPTION:vOilah! France Singapore Festival 2024 \n25 April – 26 May 2024 \nVarious locations around Singapore \nGo on a journey to discover a world of French creativity and innovation at vOilah! France Singapore Festival 2024! \nOrganised by the Embassy of France\, this edition of the established cultural festival promises a celebration of passions\, inviting attendees to immerse themselves in the vibrant and multi-faceted French culture brought to life and made better with a Singaporean touch.  \nFrom riveting theatrical and musical performances\, concerts and films to powerful installations and exhibitions – there are many ways for you to get into the spirit of joie de vivre as you indulge your own passions. Prepare to be transported to the heart of France right here in the vibrant city of Singapore\, as we embark on the ultimate cultural exchange like no other.  \nCheck out the full line-up of programmes by visiting https://www.voilah.sg/france-singapore-festival-2024/ \n 
URL:https://artsequator.com/event/voilah-france-singapore-festival-2024/
LOCATION:Held across various locations
CATEGORIES:Children/Family (Events),Festival (Events),Film Screening (Events),Literary Events/Talks (Events),Music (Events),Theatre (Events),Visual Arts (Events),Workshop & Talks (Events)
ATTACH;FMTTYPE=image/jpeg:https://artsequator.s3.ap-southeast-1.amazonaws.com/2024/04/KV_16-9_1920x1080-voilah2024.jpg
END:VEVENT
BEGIN:VEVENT
DTSTART;VALUE=DATE:20240501
DTEND;VALUE=DATE:20240527
DTSTAMP:20260423T232358
CREATED:20240403T043356Z
LAST-MODIFIED:20240403T043356Z
UID:94427-1714521600-1716767999@artsequator.com
SUMMARY:Singapore HeritageFest 2024
DESCRIPTION:Singapore HeritageFest 2024 \nVarious locations \n1 to 26 May 2024 \n  \nDiscover the tales of our buildings and landmarks at the 21st edition of Singapore HeritageFest (SHF). This year’s festival celebrates our nation’s rich built heritage\, as well as the 40th anniversary of Total Defence. Featuring tours\, trails\, exhibitions\, and other exciting activities across the island\, SHF 2024 promises an immersive and engaging exploration of Singapore’s architectural treasures. Don’t miss crowd favourites like the Homeground exhibition\, Ride & Discover and the Hop-On and Hop-Off (HOHO) bus experience\, which make our history and heritage rev up to life.  \nMore information will be available on sgheritagefest.gov.sg.
URL:https://artsequator.com/event/singapore-heritagefest-2024/
LOCATION:Held across various locations
CATEGORIES:Children/Family (Events),Festival (Events)
ATTACH;FMTTYPE=image/jpeg:https://artsequator.s3.ap-southeast-1.amazonaws.com/2024/04/Katong-Joo-Chiat-HAN-Image-Courtesy-of-Katong-Culture.jpg
ORGANIZER;CN="National%20Heritage%20Board":MAILTO:nhb_feedback@nhb.gov.sg
END:VEVENT
BEGIN:VEVENT
DTSTART;TZID=Asia/Shanghai:20240501T080000
DTEND;TZID=Asia/Shanghai:20240630T000000
DTSTAMP:20260423T232358
CREATED:20240525T151001Z
LAST-MODIFIED:20240525T151001Z
UID:94776-1714550400-1719705600@artsequator.com
SUMMARY:*SCAPE Creative Arts Residencies Open Call
DESCRIPTION:Attention all creatives! Are you a choreographer\, dancer\, filmmaker\, movement artist or visual artist?​ \n*SCAPE Creative Arts wants YOU! Join us in shaping the future of art as we collaborate\, experiment\, and nurture new and original works. Dive into a melting pot of groundbreaking ideas and collaborations that will catapult your artistic journey.​ \nShowcase your creativity and present your masterpieces in early 2025.​\n​\nSeize this rare chance and apply now! Application period: May – June 2024. Learn more at scape.sg/open-call.
URL:https://artsequator.com/event/scape-creative-arts-residencies-open-call/
LOCATION:*SCAPE\, 2 Orchard Link #02-14\, Singapore\, Singapore\, 237978\, Singapore
CATEGORIES:Artist Opportunities,Dance (Events),Festival (Events),Residencies & Fellowships,Visual Arts (Events)
ORGANIZER;CN="%2ASCAPE":MAILTO:nyfa@scape.sg
GEO:1.3010543;103.835846
X-APPLE-STRUCTURED-LOCATION;VALUE=URI;X-ADDRESS=*SCAPE 2 Orchard Link #02-14 Singapore Singapore 237978 Singapore;X-APPLE-RADIUS=500;X-TITLE=2 Orchard Link #02-14:geo:103.835846,1.3010543
END:VEVENT
END:VCALENDAR