BEGIN:VCALENDAR
VERSION:2.0
PRODID:-//ArtsEquator - ECPv5.16.3.1//NONSGML v1.0//EN
CALSCALE:GREGORIAN
METHOD:PUBLISH
X-WR-CALNAME:ArtsEquator
X-ORIGINAL-URL:https://artsequator.com
X-WR-CALDESC:Events for ArtsEquator
REFRESH-INTERVAL;VALUE=DURATION:PT1H
X-Robots-Tag:noindex
X-PUBLISHED-TTL:PT1H
BEGIN:VTIMEZONE
TZID:Asia/Shanghai
BEGIN:STANDARD
TZOFFSETFROM:+0800
TZOFFSETTO:+0800
TZNAME:CST
DTSTART:20240101T000000
END:STANDARD
END:VTIMEZONE
BEGIN:VEVENT
DTSTART;VALUE=DATE:20241011
DTEND;VALUE=DATE:20241026
DTSTAMP:20260420T053828
CREATED:20240924T073724Z
LAST-MODIFIED:20240924T073724Z
UID:95472-1728604800-1729900799@artsequator.com
SUMMARY:MIXING IDENTITIES – CANVAS ART FAIR 2024
DESCRIPTION:ITSLIQUID Group\, in collaboration with ACIT Venice – Italian-German Cultural Association\, is pleased to announce the open call for MIXING IDENTITIES\, second appointment of CANVAS INTERNATIONAL ART FAIR 2024\, that will take place in Venice at Palazzo Albrizzi-Capello from October 11 to October 25\, 2024\, and in other prestigious venues and historical buildings\, during the 60th Venice Biennale of Art. \nCANVAS is an international Art Fair that will showcase collective and solo projects by leading and emerging international artists. The 2024 edition will represent a forum for the direct exchange of ideas and contacts between collectors\, artists\, photographers\, designers and art professionals. The art fair features paintings\, sculptures\, photography\, installations\, video art and live performance. \nWe invite artists to analyse the hidden parts of our identities\, through an immersive experience inside the fascinating universe of the complex labyrinths of our consciousness. \nDeadline for applications is September 27\, 2024 (11.59 PM your local time) \nArtists\, photographers\, video makers\, and performers are invited to submit their works. To take part in the selection\, send your works’ submissions with a CV/biography\, some still images (for video art)\, links to videos/films/performances and pictures via e-mail to director@itsliquid.com
URL:https://artsequator.com/event/mixing-identities-canvas-art-fair-2024/
LOCATION:palazzo Albrizzi-Capello\, Venice
CATEGORIES:Artist Opportunities,Festival (Events),Visual Arts (Events)
ATTACH;FMTTYPE=image/jpeg:https://artsequator.s3.ap-southeast-1.amazonaws.com/2024/09/MIXING-IDENTITIES.jpg
ORGANIZER;CN="ITSLIQUID%20GROUP":MAILTO:giorgia.itsliquid@gmail.com
GEO:45.4408474;12.3155151
END:VEVENT
BEGIN:VEVENT
DTSTART;VALUE=DATE:20241025
DTEND;VALUE=DATE:20241026
DTSTAMP:20260420T053828
CREATED:20240924T073648Z
LAST-MODIFIED:20240924T073648Z
UID:95539-1729814400-1729900799@artsequator.com
SUMMARY:Voices Festival Choir Open Call
DESCRIPTION:Calling all choristers to join the 2024 Voices Festival Choir! \nIn its third edition\, the Esplanade’s Voices Festival Choir (VFC) comprises auditioned youth choristers aged 17 – 26. These choristers will participate in various activities leading up to and during Voices 2024\, scheduled to take place from 25 & 27 Nov\, Mon & Wed as well as 1 – 8 Dec\, Sun – Sun. During this period\, choristers will have the opportunity to engage in a variety of rehearsal styles\, be exposed to a diversity of choral and vocal styles and deepen their understanding of nuances. \nThe Festival Choir will offer a unique opportunity for choristers to collaborate with renowned international artists The Gesualdo Six (UK) and The Idea of North (Australia)\, as well as Singaporean choral music educators from MI6. These artists will serve as the main facilitators and conductors of the project. \nThis programme aims to inspire youth choristers by introducing them to new aspects of choral singing and creating opportunities for them to connect with established professional groups. It is hoped that the knowledge and expertise from these artists will serve as inspiration for this young community\, encouraging them to keep on with the artform\, and foster a desire for further learning experiences in the future. \nKey activities include: \n\n\nSectionals and rehearsals—participants will be exposed to a variety of vocal styles and gain a better understanding of their nuances \n\n\n\n\nA day-long camp conducted by MI6\, which will focus on fun and effective ways to build ensemble skills\, musicianship\, vocal production and aural skills \n\n\n\n\nExclusive closed-door workshops\, rehearsals and the opportunity to perform alongside The Gesualdo Six and The Idea of North at the Singtel Waterfront Theatre at Esplanade \n\n\n\n\nDuring the festival\, the Festival Choir will premiere a new work at the Esplanade Concourse \n\n\nParticipation Fees:\nVoices Festival Choir Alumni\nStandard: $80\nConcessions for Students: $50\n\nNew Applicants\nStandard: $90\nConcessions for Students: $60
URL:https://artsequator.com/event/voices-festival-choir-open-call/
LOCATION:Esplanade – Theatres on the Bay\, 1 Esplanade Dr\, 038981\, Singapore
CATEGORIES:Artist Opportunities,Festival (Events),Music (Events)
ATTACH;FMTTYPE=image/jpeg:https://artsequator.s3.ap-southeast-1.amazonaws.com/2024/09/VFC_Voices_091223_561.jpg
GEO:1.289857;103.8552799
X-APPLE-STRUCTURED-LOCATION;VALUE=URI;X-ADDRESS=Esplanade – Theatres on the Bay 1 Esplanade Dr 038981 Singapore;X-APPLE-RADIUS=500;X-TITLE=1 Esplanade Dr:geo:103.8552799,1.289857
END:VEVENT
BEGIN:VEVENT
DTSTART;VALUE=DATE:20241026
DTEND;VALUE=DATE:20241031
DTSTAMP:20260420T053828
CREATED:20241024T063915Z
LAST-MODIFIED:20241024T063915Z
UID:95665-1729900800-1730332799@artsequator.com
SUMMARY:Ngilngig Asian Fantastic Film Festival 2024
DESCRIPTION:Ngilngig Asian Fantastic Film Festival is an annual showcase of films in Davao City\, Philippines\, that explores the myriad meanings of the word “ngilngig”—a common Bisaya expression for something that is fantastic or something that elicits horror or alluding to the macabre. \nFrom what used to be a horror-genre festival\, Ngilngig has expanded its scope to position itself as a premiere fantastic film festival in Southeast Asia\, extending the reach to other neighboring countries’ “ngilngig” and fantastic films that are significant with our own ways of telling stories. \nAfter a one-year hiatus\, Ngilngig comes back with more adventurous and exciting voices with films from all over Asia. Opening this year’s edition is Kantil\, the debut feature film by Joshua Cesar Medroso\, returning to its hometown after its Cinemalaya premiere. Nelson Yeo’s Locarno-winning debut feature Dreaming & Dying will close the festival. In between are a showcase of 34 Philippine short films and 23 Asian short films in competition. Included in its feature-film lineup are films from acclaimed Filipino auteurs Khavn and Gutierrez Mangansakan II. \nFeisal Azizuddin’s This Land of Mine will also have its World Premiere at the festival ahead of its Malaysian release. Other special screenings include Indonesian artist-filmmaker Riar Rizaldi’s Monisme\, and Ing K’s DogGod\, a film banned in Thailand for 25 years\, and is released in its re-edited version this year. \nThere will be film talks in between as well as an visual art exhibit featuring works from Filipino filmmakers.
URL:https://artsequator.com/event/ngilngig-asian-fantastic-film-festival-2024/
LOCATION:Cinematheque Centre Davao\, The Green House Cinema\, Abreeza Cinema\, La Herencia Davao Art Pavillon\, Davao City\, 8000
CATEGORIES:Festival (Events),Film Screening (Events)
ATTACH;FMTTYPE=image/jpeg:https://artsequator.s3.ap-southeast-1.amazonaws.com/2024/10/Event-ngilngig.jpg
ORGANIZER;CN="Pasalidahay":MAILTO:ngilngigfantastic@gmail.com
GEO:7.0735994;125.6110545
END:VEVENT
END:VCALENDAR